Workbook

Sheet Resumen
A2: Coste del curso por hijo
A4: Moneda | B4: EUR
A6: Ejemplo ficticio. Sustituye las entradas azules por tus datos.
A8: Coste neto del curso | B8: =SUM(Gastos!I8:I507) -> 1530 | D8: A recuperar | E8: =-SUMIFS(Gastos!J8:J507,Gastos!J8:J507,"<0") -> 0
A9: Por pagar | B9: =SUMIFS(Gastos!J8:J507,Gastos!J8:J507,">0") -> 1130
A10: Compras iniciales netas | B10: =SUMIFS(Gastos!I8:I507,Gastos!C8:C507,"Inicial") -> 270
A11: Cuotas recurrentes netas | B11: =SUMIFS(Gastos!I8:I507,Gastos!C8:C507,"Recurrente") -> 1260
A12: Filas que revisar | B12: =COUNTIFS(Gastos!K8:K507,"REVISAR*")+COUNTIFS(Gastos!L8:L507,"REVISAR*") -> 0
A17: Hijo / hija | B17: Importe | C17: Por pagar | D17: A recuperar
A18: Ana | B18: =IF(AND(A18<>"",COUNTIFS(A$18:A$25,A18)=1),SUMIFS(Gastos!I8:I507,Gastos!A8:A507,A18),0) -> 1050 | C18: =IF(COUNTIFS(A$18:A$25,A18)=1,SUMIFS(Gastos!J8:J507,Gastos!A8:A507,A18,Gastos!J8:J507,">0"),0) -> 810 | D18: =IF(COUNTIFS(A$18:A$25,A18)=1,-SUMIFS(Gastos!J8:J507,Gastos!A8:A507,A18,Gastos!J8:J507,"<0"),0) -> 0
A19: Luis | B19: =IF(AND(A19<>"",COUNTIFS(A$18:A$25,A19)=1),SUMIFS(Gastos!I8:I507,Gastos!A8:A507,A19),0) -> 480 | C19: =IF(COUNTIFS(A$18:A$25,A19)=1,SUMIFS(Gastos!J8:J507,Gastos!A8:A507,A19,Gastos!J8:J507,">0"),0) -> 320 | D19: =IF(COUNTIFS(A$18:A$25,A19)=1,-SUMIFS(Gastos!J8:J507,Gastos!A8:A507,A19,Gastos!J8:J507,"<0"),0) -> 0
A20: Hijo 3 | B20: =IF(AND(A20<>"",COUNTIFS(A$18:A$25,A20)=1),SUMIFS(Gastos!I8:I507,Gastos!A8:A507,A20),0) -> 0 | C20: =IF(COUNTIFS(A$18:A$25,A20)=1,SUMIFS(Gastos!J8:J507,Gastos!A8:A507,A20,Gastos!J8:J507,">0"),0) -> 0 | D20: =IF(COUNTIFS(A$18:A$25,A20)=1,-SUMIFS(Gastos!J8:J507,Gastos!A8:A507,A20,Gastos!J8:J507,"<0"),0) -> 0
A21: Hijo 4 | B21: =IF(AND(A21<>"",COUNTIFS(A$18:A$25,A21)=1),SUMIFS(Gastos!I8:I507,Gastos!A8:A507,A21),0) -> 0 | C21: =IF(COUNTIFS(A$18:A$25,A21)=1,SUMIFS(Gastos!J8:J507,Gastos!A8:A507,A21,Gastos!J8:J507,">0"),0) -> 0 | D21: =IF(COUNTIFS(A$18:A$25,A21)=1,-SUMIFS(Gastos!J8:J507,Gastos!A8:A507,A21,Gastos!J8:J507,"<0"),0) -> 0
A22: Hijo 5 | B22: =IF(AND(A22<>"",COUNTIFS(A$18:A$25,A22)=1),SUMIFS(Gastos!I8:I507,Gastos!A8:A507,A22),0) -> 0 | C22: =IF(COUNTIFS(A$18:A$25,A22)=1,SUMIFS(Gastos!J8:J507,Gastos!A8:A507,A22,Gastos!J8:J507,">0"),0) -> 0 | D22: =IF(COUNTIFS(A$18:A$25,A22)=1,-SUMIFS(Gastos!J8:J507,Gastos!A8:A507,A22,Gastos!J8:J507,"<0"),0) -> 0
A23: Hijo 6 | B23: =IF(AND(A23<>"",COUNTIFS(A$18:A$25,A23)=1),SUMIFS(Gastos!I8:I507,Gastos!A8:A507,A23),0) -> 0 | C23: =IF(COUNTIFS(A$18:A$25,A23)=1,SUMIFS(Gastos!J8:J507,Gastos!A8:A507,A23,Gastos!J8:J507,">0"),0) -> 0 | D23: =IF(COUNTIFS(A$18:A$25,A23)=1,-SUMIFS(Gastos!J8:J507,Gastos!A8:A507,A23,Gastos!J8:J507,"<0"),0) -> 0
A24: Hijo 7 | B24: =IF(AND(A24<>"",COUNTIFS(A$18:A$25,A24)=1),SUMIFS(Gastos!I8:I507,Gastos!A8:A507,A24),0) -> 0 | C24: =IF(COUNTIFS(A$18:A$25,A24)=1,SUMIFS(Gastos!J8:J507,Gastos!A8:A507,A24,Gastos!J8:J507,">0"),0) -> 0 | D24: =IF(COUNTIFS(A$18:A$25,A24)=1,-SUMIFS(Gastos!J8:J507,Gastos!A8:A507,A24,Gastos!J8:J507,"<0"),0) -> 0
A25: Compartido | B25: =IF(AND(A25<>"",COUNTIFS(A$18:A$25,A25)=1),SUMIFS(Gastos!I8:I507,Gastos!A8:A507,A25),0) -> 0 | C25: =IF(COUNTIFS(A$18:A$25,A25)=1,SUMIFS(Gastos!J8:J507,Gastos!A8:A507,A25,Gastos!J8:J507,">0"),0) -> 0 | D25: =IF(COUNTIFS(A$18:A$25,A25)=1,-SUMIFS(Gastos!J8:J507,Gastos!A8:A507,A25,Gastos!J8:J507,"<0"),0) -> 0
A26: Sin clasificar / duplicado | B26: =B8-SUM(B18:B25) -> 0

Sheet Gastos
A2: Compras iniciales y cuotas del curso
A5: 500 filas editables. Para imprimir los movimientos, usa la hoja Imprimir y su selector de página.
A7: Hijo / hija | B7: Concepto | C7: Tipo | D7: Importe / pago | E7: Número de pagos | F7: Ayuda confirmada | G7: Pagado | H7: Coste bruto | I7: Coste neto | J7: Pendiente | K7: Control | L7: Clasificación | M7: Última fila usada
A8: Ana | B8: Material | C8: Inicial | D8: 180 | E8: 1 | F8: 30 | G8: 150 | H8: =IF(K8="Correcto",D8*E8,0) -> 180 | I8: =H8-IF(K8="Correcto",N(F8),0) -> 150 | J8: =I8-IF(K8="Correcto",N(G8),0) -> 0 | K8: =IF(COUNTA(A8:G8)=0,"",IF(OR(A8="",B8="",AND(C8<>"Inicial",C8<>"Recurrente"),NOT(ISNUMBER(D8)),D8<0,NOT(ISNUMBER(E8)),E8<1,MOD(E8,1)<>0,AND(C8="Inicial",E8<>1),AND(F8<>"",NOT(ISNUMBER(F8))),AND(G8<>"",NOT(ISNUMBER(G8))),N(F8)<0,N(G8)<0,N(F8)>D8*E8),"REVISAR datos","Correcto")) -> Correcto | L8: =IF(COUNTA(A8)=0,"",IF(COUNTIFS(Resumen!$A$18:$A$25,A8)=1,"Clasificado","REVISAR categoría")) -> Clasificado | M8: =IF(COUNTA(A8:G8)>0,ROW(),0) -> 8
A9: Ana | B9: Comedor | C9: Recurrente | D9: 90 | E9: 10 | F9: 0 | G9: 90 | H9: =IF(K9="Correcto",D9*E9,0) -> 900 | I9: =H9-IF(K9="Correcto",N(F9),0) -> 900 | J9: =I9-IF(K9="Correcto",N(G9),0) -> 810 | K9: =IF(COUNTA(A9:G9)=0,"",IF(OR(A9="",B9="",AND(C9<>"Inicial",C9<>"Recurrente"),NOT(ISNUMBER(D9)),D9<0,NOT(ISNUMBER(E9)),E9<1,MOD(E9,1)<>0,AND(C9="Inicial",E9<>1),AND(F9<>"",NOT(ISNUMBER(F9))),AND(G9<>"",NOT(ISNUMBER(G9))),N(F9)<0,N(G9)<0,N(F9)>D9*E9),"REVISAR datos","Correcto")) -> Correcto | L9: =IF(COUNTA(A9)=0,"",IF(COUNTIFS(Resumen!$A$18:$A$25,A9)=1,"Clasificado","REVISAR categoría")) -> Clasificado | M9: =IF(COUNTA(A9:G9)>0,ROW(),0) -> 9
A10: Luis | B10: Material | C10: Inicial | D10: 120 | E10: 1 | F10: 0 | G10: 120 | H10: =IF(K10="Correcto",D10*E10,0) -> 120 | I10: =H10-IF(K10="Correcto",N(F10),0) -> 120 | J10: =I10-IF(K10="Correcto",N(G10),0) -> 0 | K10: =IF(COUNTA(A10:G10)=0,"",IF(OR(A10="",B10="",AND(C10<>"Inicial",C10<>"Recurrente"),NOT(ISNUMBER(D10)),D10<0,NOT(ISNUMBER(E10)),E10<1,MOD(E10,1)<>0,AND(C10="Inicial",E10<>1),AND(F10<>"",NOT(ISNUMBER(F10))),AND(G10<>"",NOT(ISNUMBER(G10))),N(F10)<0,N(G10)<0,N(F10)>D10*E10),"REVISAR datos","Correcto")) -> Correcto | L10: =IF(COUNTA(A10)=0,"",IF(COUNTIFS(Resumen!$A$18:$A$25,A10)=1,"Clasificado","REVISAR categoría")) -> Clasificado | M10: =IF(COUNTA(A10:G10)>0,ROW(),0) -> 10
A11: Luis | B11: Transporte | C11: Recurrente | D11: 40 | E11: 9 | F11: 0 | G11: 40 | H11: =IF(K11="Correcto",D11*E11,0) -> 360 | I11: =H11-IF(K11="Correcto",N(F11),0) -> 360 | J11: =I11-IF(K11="Correcto",N(G11),0) -> 320 | K11: =IF(COUNTA(A11:G11)=0,"",IF(OR(A11="",B11="",AND(C11<>"Inicial",C11<>"Recurrente"),NOT(ISNUMBER(D11)),D11<0,NOT(ISNUMBER(E11)),E11<1,MOD(E11,1)<>0,AND(C11="Inicial",E11<>1),AND(F11<>"",NOT(ISNUMBER(F11))),AND(G11<>"",NOT(ISNUMBER(G11))),N(F11)<0,N(G11)<0,N(F11)>D11*E11),"REVISAR datos","Correcto")) -> Correcto | L11: =IF(COUNTA(A11)=0,"",IF(COUNTIFS(Resumen!$A$18:$A$25,A11)=1,"Clasificado","REVISAR categoría")) -> Clasificado | M11: =IF(COUNTA(A11:G11)>0,ROW(),0) -> 11
H12: =IF(K12="Correcto",D12*E12,0) -> 0 | I12: =H12-IF(K12="Correcto",N(F12),0) -> 0 | J12: =I12-IF(K12="Correcto",N(G12),0) -> 0 | K12: =IF(COUNTA(A12:G12)=0,"",IF(OR(A12="",B12="",AND(C12<>"Inicial",C12<>"Recurrente"),NOT(ISNUMBER(D12)),D12<0,NOT(ISNUMBER(E12)),E12<1,MOD(E12,1)<>0,AND(C12="Inicial",E12<>1),AND(F12<>"",NOT(ISNUMBER(F12))),AND(G12<>"",NOT(ISNUMBER(G12))),N(F12)<0,N(G12)<0,N(F12)>D12*E12),"REVISAR datos","Correcto")) | L12: =IF(COUNTA(A12)=0,"",IF(COUNTIFS(Resumen!$A$18:$A$25,A12)=1,"Clasificado","REVISAR categoría")) | M12: =IF(COUNTA(A12:G12)>0,ROW(),0) -> 0
H13: =IF(K13="Correcto",D13*E13,0) -> 0 | I13: =H13-IF(K13="Correcto",N(F13),0) -> 0 | J13: =I13-IF(K13="Correcto",N(G13),0) -> 0 | K13: =IF(COUNTA(A13:G13)=0,"",IF(OR(A13="",B13="",AND(C13<>"Inicial",C13<>"Recurrente"),NOT(ISNUMBER(D13)),D13<0,NOT(ISNUMBER(E13)),E13<1,MOD(E13,1)<>0,AND(C13="Inicial",E13<>1),AND(F13<>"",NOT(ISNUMBER(F13))),AND(G13<>"",NOT(ISNUMBER(G13))),N(F13)<0,N(G13)<0,N(F13)>D13*E13),"REVISAR datos","Correcto")) | L13: =IF(COUNTA(A13)=0,"",IF(COUNTIFS(Resumen!$A$18:$A$25,A13)=1,"Clasificado","REVISAR categoría")) | M13: =IF(COUNTA(A13:G13)>0,ROW(),0) -> 0
H14: =IF(K14="Correcto",D14*E14,0) -> 0 | I14: =H14-IF(K14="Correcto",N(F14),0) -> 0 | J14: =I14-IF(K14="Correcto",N(G14),0) -> 0 | K14: =IF(COUNTA(A14:G14)=0,"",IF(OR(A14="",B14="",AND(C14<>"Inicial",C14<>"Recurrente"),NOT(ISNUMBER(D14)),D14<0,NOT(ISNUMBER(E14)),E14<1,MOD(E14,1)<>0,AND(C14="Inicial",E14<>1),AND(F14<>"",NOT(ISNUMBER(F14))),AND(G14<>"",NOT(ISNUMBER(G14))),N(F14)<0,N(G14)<0,N(F14)>D14*E14),"REVISAR datos","Correcto")) | L14: =IF(COUNTA(A14)=0,"",IF(COUNTIFS(Resumen!$A$18:$A$25,A14)=1,"Clasificado","REVISAR categoría")) | M14: =IF(COUNTA(A14:G14)>0,ROW(),0) -> 0
H15: =IF(K15="Correcto",D15*E15,0) -> 0 | I15: =H15-IF(K15="Correcto",N(F15),0) -> 0 | J15: =I15-IF(K15="Correcto",N(G15),0) -> 0 | K15: =IF(COUNTA(A15:G15)=0,"",IF(OR(A15="",B15="",AND(C15<>"Inicial",C15<>"Recurrente"),NOT(ISNUMBER(D15)),D15<0,NOT(ISNUMBER(E15)),E15<1,MOD(E15,1)<>0,AND(C15="Inicial",E15<>1),AND(F15<>"",NOT(ISNUMBER(F15))),AND(G15<>"",NOT(ISNUMBER(G15))),N(F15)<0,N(G15)<0,N(F15)>D15*E15),"REVISAR datos","Correcto")) | L15: =IF(COUNTA(A15)=0,"",IF(COUNTIFS(Resumen!$A$18:$A$25,A15)=1,"Clasificado","REVISAR categoría")) | M15: =IF(COUNTA(A15:G15)>0,ROW(),0) -> 0
H16: =IF(K16="Correcto",D16*E16,0) -> 0 | I16: =H16-IF(K16="Correcto",N(F16),0) -> 0 | J16: =I16-IF(K16="Correcto",N(G16),0) -> 0 | K16: =IF(COUNTA(A16:G16)=0,"",IF(OR(A16="",B16="",AND(C16<>"Inicial",C16<>"Recurrente"),NOT(ISNUMBER(D16)),D16<0,NOT(ISNUMBER(E16)),E16<1,MOD(E16,1)<>0,AND(C16="Inicial",E16<>1),AND(F16<>"",NOT(ISNUMBER(F16))),AND(G16<>"",NOT(ISNUMBER(G16))),N(F16)<0,N(G16)<0,N(F16)>D16*E16),"REVISAR datos","Correcto")) | L16: =IF(COUNTA(A16)=0,"",IF(COUNTIFS(Resumen!$A$18:$A$25,A16)=1,"Clasificado","REVISAR categoría")) | M16: =IF(COUNTA(A16:G16)>0,ROW(),0) -> 0
H17: =IF(K17="Correcto",D17*E17,0) -> 0 | I17: =H17-IF(K17="Correcto",N(F17),0) -> 0 | J17: =I17-IF(K17="Correcto",N(G17),0) -> 0 | K17: =IF(COUNTA(A17:G17)=0,"",IF(OR(A17="",B17="",AND(C17<>"Inicial",C17<>"Recurrente"),NOT(ISNUMBER(D17)),D17<0,NOT(ISNUMBER(E17)),E17<1,MOD(E17,1)<>0,AND(C17="Inicial",E17<>1),AND(F17<>"",NOT(ISNUMBER(F17))),AND(G17<>"",NOT(ISNUMBER(G17))),N(F17)<0,N(G17)<0,N(F17)>D17*E17),"REVISAR datos","Correcto")) | L17: =IF(COUNTA(A17)=0,"",IF(COUNTIFS(Resumen!$A$18:$A$25,A17)=1,"Clasificado","REVISAR categoría")) | M17: =IF(COUNTA(A17:G17)>0,ROW(),0) -> 0
H18: =IF(K18="Correcto",D18*E18,0) -> 0 | I18: =H18-IF(K18="Correcto",N(F18),0) -> 0 | J18: =I18-IF(K18="Correcto",N(G18),0) -> 0 | K18: =IF(COUNTA(A18:G18)=0,"",IF(OR(A18="",B18="",AND(C18<>"Inicial",C18<>"Recurrente"),NOT(ISNUMBER(D18)),D18<0,NOT(ISNUMBER(E18)),E18<1,MOD(E18,1)<>0,AND(C18="Inicial",E18<>1),AND(F18<>"",NOT(ISNUMBER(F18))),AND(G18<>"",NOT(ISNUMBER(G18))),N(F18)<0,N(G18)<0,N(F18)>D18*E18),"REVISAR datos","Correcto")) | L18: =IF(COUNTA(A18)=0,"",IF(COUNTIFS(Resumen!$A$18:$A$25,A18)=1,"Clasificado","REVISAR categoría")) | M18: =IF(COUNTA(A18:G18)>0,ROW(),0) -> 0
H19: =IF(K19="Correcto",D19*E19,0) -> 0 | I19: =H19-IF(K19="Correcto",N(F19),0) -> 0 | J19: =I19-IF(K19="Correcto",N(G19),0) -> 0 | K19: =IF(COUNTA(A19:G19)=0,"",IF(OR(A19="",B19="",AND(C19<>"Inicial",C19<>"Recurrente"),NOT(ISNUMBER(D19)),D19<0,NOT(ISNUMBER(E19)),E19<1,MOD(E19,1)<>0,AND(C19="Inicial",E19<>1),AND(F19<>"",NOT(ISNUMBER(F19))),AND(G19<>"",NOT(ISNUMBER(G19))),N(F19)<0,N(G19)<0,N(F19)>D19*E19),"REVISAR datos","Correcto")) | L19: =IF(COUNTA(A19)=0,"",IF(COUNTIFS(Resumen!$A$18:$A$25,A19)=1,"Clasificado","REVISAR categoría")) | M19: =IF(COUNTA(A19:G19)>0,ROW(),0) -> 0
H20: =IF(K20="Correcto",D20*E20,0) -> 0 | I20: =H20-IF(K20="Correcto",N(F20),0) -> 0 | J20: =I20-IF(K20="Correcto",N(G20),0) -> 0 | K20: =IF(COUNTA(A20:G20)=0,"",IF(OR(A20="",B20="",AND(C20<>"Inicial",C20<>"Recurrente"),NOT(ISNUMBER(D20)),D20<0,NOT(ISNUMBER(E20)),E20<1,MOD(E20,1)<>0,AND(C20="Inicial",E20<>1),AND(F20<>"",NOT(ISNUMBER(F20))),AND(G20<>"",NOT(ISNUMBER(G20))),N(F20)<0,N(G20)<0,N(F20)>D20*E20),"REVISAR datos","Correcto")) | L20: =IF(COUNTA(A20)=0,"",IF(COUNTIFS(Resumen!$A$18:$A$25,A20)=1,"Clasificado","REVISAR categoría")) | M20: =IF(COUNTA(A20:G20)>0,ROW(),0) -> 0
H21: =IF(K21="Correcto",D21*E21,0) -> 0 | I21: =H21-IF(K21="Correcto",N(F21),0) -> 0 | J21: =I21-IF(K21="Correcto",N(G21),0) -> 0 | K21: =IF(COUNTA(A21:G21)=0,"",IF(OR(A21="",B21="",AND(C21<>"Inicial",C21<>"Recurrente"),NOT(ISNUMBER(D21)),D21<0,NOT(ISNUMBER(E21)),E21<1,MOD(E21,1)<>0,AND(C21="Inicial",E21<>1),AND(F21<>"",NOT(ISNUMBER(F21))),AND(G21<>"",NOT(ISNUMBER(G21))),N(F21)<0,N(G21)<0,N(F21)>D21*E21),"REVISAR datos","Correcto")) | L21: =IF(COUNTA(A21)=0,"",IF(COUNTIFS(Resumen!$A$18:$A$25,A21)=1,"Clasificado","REVISAR categoría")) | M21: =IF(COUNTA(A21:G21)>0,ROW(),0) -> 0
H22: =IF(K22="Correcto",D22*E22,0) -> 0 | I22: =H22-IF(K22="Correcto",N(F22),0) -> 0 | J22: =I22-IF(K22="Correcto",N(G22),0) -> 0 | K22: =IF(COUNTA(A22:G22)=0,"",IF(OR(A22="",B22="",AND(C22<>"Inicial",C22<>"Recurrente"),NOT(ISNUMBER(D22)),D22<0,NOT(ISNUMBER(E22)),E22<1,MOD(E22,1)<>0,AND(C22="Inicial",E22<>1),AND(F22<>"",NOT(ISNUMBER(F22))),AND(G22<>"",NOT(ISNUMBER(G22))),N(F22)<0,N(G22)<0,N(F22)>D22*E22),"REVISAR datos","Correcto")) | L22: =IF(COUNTA(A22)=0,"",IF(COUNTIFS(Resumen!$A$18:$A$25,A22)=1,"Clasificado","REVISAR categoría")) | M22: =IF(COUNTA(A22:G22)>0,ROW(),0) -> 0
H23: =IF(K23="Correcto",D23*E23,0) -> 0 | I23: =H23-IF(K23="Correcto",N(F23),0) -> 0 | J23: =I23-IF(K23="Correcto",N(G23),0) -> 0 | K23: =IF(COUNTA(A23:G23)=0,"",IF(OR(A23="",B23="",AND(C23<>"Inicial",C23<>"Recurrente"),NOT(ISNUMBER(D23)),D23<0,NOT(ISNUMBER(E23)),E23<1,MOD(E23,1)<>0,AND(C23="Inicial",E23<>1),AND(F23<>"",NOT(ISNUMBER(F23))),AND(G23<>"",NOT(ISNUMBER(G23))),N(F23)<0,N(G23)<0,N(F23)>D23*E23),"REVISAR datos","Correcto")) | L23: =IF(COUNTA(A23)=0,"",IF(COUNTIFS(Resumen!$A$18:$A$25,A23)=1,"Clasificado","REVISAR categoría")) | M23: =IF(COUNTA(A23:G23)>0,ROW(),0) -> 0
... H507: =IF(K507="Correcto",D507*E507,0) -> 0 | I507: =H507-IF(K507="Correcto",N(F507),0) -> 0 | J507: =I507-IF(K507="Correcto",N(G507),0) -> 0 | K507: =IF(COUNTA(A507:G507)=0,"",IF(OR(A507="",B507="",AND(C507<>"Inicial",C507<>"Recurrente"),NOT(ISNUMBER(D507)),D507<0,NOT(ISNUMBER(E507)),E507<1,MOD(E507,1)<>0,AND(C507="Inicial",E507<>1),AND(F507<>"",NOT(ISNUMBER(F507))),AND(G507<>"",NOT(ISNUMBER(G507))),N(F507)<0,N(G507)<0,N(F507)>D507*E507),"REVISAR datos","Correcto")) | L507: =IF(COUNTA(A507)=0,"",IF(COUNTIFS(Resumen!$A$18:$A$25,A507)=1,"Clasificado","REVISAR categoría")) | M507: =IF(COUNTA(A507:G507)>0,ROW(),0) -> 0

Sheet Ayuda
B2: Cómo usar esta herramienta
B5: Configura nombres distintos y registra Inicial o Recurrente con su número real de recibos.
B6: Ayuda confirmada solo es la reducción ya aplicada. Las becas esperadas quedan fuera de las cifras de pago.
B7: Pagado es el desembolso efectivo. Por pagar suma pendientes positivos; A recuperar reúne importes que deben devolverte.
B8: El desglose por hijo separa también pagos y recuperaciones para no anticipar devoluciones.
B9: Sin clasificar / duplicado revela partidas pegadas con nombres no configurados. Revisa esa diferencia antes de cerrar.
B10: Las celdas con fondo azul son editables. Fórmulas protegidas sin contraseña.
B11: Importes de ejemplo ficticios. Cada archivo vacío conserva solo ajustes y fórmulas.
B12: Pruebas de cálculo en LibreOffice. Excel 365, móvil y Google Sheets pendientes.
B13: PlantillasyPortadas · https://plantillasyportadas.com/ · 16/10/2026
A15: Impresión: en Imprimir elige página 1–25 e imprime la hoja activa. El registro original solo ofrece una vista parcial.

Sheet Imprimir
A2: Registro: página de movimientos
A4: Página (1 a 25) | B4: 1 | D4: Páginas con datos | E4: =MAX(1,ROUNDUP((MAX(14,MAX(Gastos!$M$8:$M$507))-7)/20,0)) -> 1
A5: Imprime esta hoja. Cambia Página para recorrer el registro: veinte filas por página.
A7: =Gastos!A7 -> Hijo / hija | B7: =Gastos!B7 -> Concepto | C7: =Gastos!C7 -> Tipo | D7: =Gastos!D7 -> Importe / pago | E7: =Gastos!E7 -> Número de pagos | F7: =Gastos!F7 -> Ayuda confirmada | G7: =Gastos!G7 -> Pagado | H7: =Gastos!H7 -> Coste bruto | ... L7: =Gastos!L7 -> Clasificación
A8: =IF(AND(ISNUMBER($B$4),$B$4>=1,$B$4<=25,MOD($B$4,1)=0),IF(INDEX(Gastos!M8:M507,($B$4-1)*20+1)=0,"",IF(INDEX(Gastos!A8:A507,($B$4-1)*20+1)="","",INDEX(Gastos!A8:A507,($B$4-1)*20+1))),"Revisa página") -> Ana | B8: =IF(AND(ISNUMBER($B$4),$B$4>=1,$B$4<=25,MOD($B$4,1)=0),IF(INDEX(Gastos!M8:M507,($B$4-1)*20+1)=0,"",IF(INDEX(Gastos!B8:B507,($B$4-1)*20+1)="","",INDEX(Gastos!B8:B507,($B$4-1)*20+1))),"Revisa página") -> Material | C8: =IF(AND(ISNUMBER($B$4),$B$4>=1,$B$4<=25,MOD($B$4,1)=0),IF(INDEX(Gastos!M8:M507,($B$4-1)*20+1)=0,"",IF(INDEX(Gastos!C8:C507,($B$4-1)*20+1)="","",INDEX(Gastos!C8:C507,($B$4-1)*20+1))),"Revisa página") -> Inicial | D8: =IF(AND(ISNUMBER($B$4),$B$4>=1,$B$4<=25,MOD($B$4,1)=0),IF(INDEX(Gastos!M8:M507,($B$4-1)*20+1)=0,"",IF(INDEX(Gastos!D8:D507,($B$4-1)*20+1)="","",INDEX(Gastos!D8:D507,($B$4-1)*20+1))),"Revisa página") -> 180 | E8: =IF(AND(ISNUMBER($B$4),$B$4>=1,$B$4<=25,MOD($B$4,1)=0),IF(INDEX(Gastos!M8:M507,($B$4-1)*20+1)=0,"",IF(INDEX(Gastos!E8:E507,($B$4-1)*20+1)="","",INDEX(Gastos!E8:E507,($B$4-1)*20+1))),"Revisa página") -> 1 | F8: =IF(AND(ISNUMBER($B$4),$B$4>=1,$B$4<=25,MOD($B$4,1)=0),IF(INDEX(Gastos!M8:M507,($B$4-1)*20+1)=0,"",IF(INDEX(Gastos!F8:F507,($B$4-1)*20+1)="","",INDEX(Gastos!F8:F507,($B$4-1)*20+1))),"Revisa página") -> 30 | G8: =IF(AND(ISNUMBER($B$4),$B$4>=1,$B$4<=25,MOD($B$4,1)=0),IF(INDEX(Gastos!M8:M507,($B$4-1)*20+1)=0,"",IF(INDEX(Gastos!G8:G507,($B$4-1)*20+1)="","",INDEX(Gastos!G8:G507,($B$4-1)*20+1))),"Revisa página") -> 150 | H8: =IF(AND(ISNUMBER($B$4),$B$4>=1,$B$4<=25,MOD($B$4,1)=0),IF(INDEX(Gastos!M8:M507,($B$4-1)*20+1)=0,"",IF(INDEX(Gastos!H8:H507,($B$4-1)*20+1)="","",INDEX(Gastos!H8:H507,($B$4-1)*20+1))),"Revisa página") -> 180 | I8: =IF(AND(ISNUMBER($B$4),$B$4>=1,$B$4<=25,MOD($B$4,1)=0),IF(INDEX(Gastos!M8:M507,($B$4-1)*20+1)=0,"",IF(INDEX(Gastos!I8:I507,($B$4-1)*20+1)="","",INDEX(Gastos!I8:I507,($B$4-1)*20+1))),"Revisa página") -> 150 | J8: =IF(AND(ISNUMBER($B$4),$B$4>=1,$B$4<=25,MOD($B$4,1)=0),IF(INDEX(Gastos!M8:M507,($B$4-1)*20+1)=0,"",IF(INDEX(Gastos!J8:J507,($B$4-1)*20+1)="","",INDEX(Gastos!J8:J507,($B$4-1)*20+1))),"Revisa página") -> 0 | K8: =IF(AND(ISNUMBER($B$4),$B$4>=1,$B$4<=25,MOD($B$4,1)=0),IF(INDEX(Gastos!M8:M507,($B$4-1)*20+1)=0,"",IF(INDEX(Gastos!K8:K507,($B$4-1)*20+1)="","",INDEX(Gastos!K8:K507,($B$4-1)*20+1))),"Revisa página") -> Correcto | L8: =IF(AND(ISNUMBER($B$4),$B$4>=1,$B$4<=25,MOD($B$4,1)=0),IF(INDEX(Gastos!M8:M507,($B$4-1)*20+1)=0,"",IF(INDEX(Gastos!L8:L507,($B$4-1)*20+1)="","",INDEX(Gastos!L8:L507,($B$4-1)*20+1))),"Revisa página") -> Clasificado
A9: =IF(AND(ISNUMBER($B$4),$B$4>=1,$B$4<=25,MOD($B$4,1)=0),IF(INDEX(Gastos!M8:M507,($B$4-1)*20+2)=0,"",IF(INDEX(Gastos!A8:A507,($B$4-1)*20+2)="","",INDEX(Gastos!A8:A507,($B$4-1)*20+2))),"Revisa página") -> Ana | B9: =IF(AND(ISNUMBER($B$4),$B$4>=1,$B$4<=25,MOD($B$4,1)=0),IF(INDEX(Gastos!M8:M507,($B$4-1)*20+2)=0,"",IF(INDEX(Gastos!B8:B507,($B$4-1)*20+2)="","",INDEX(Gastos!B8:B507,($B$4-1)*20+2))),"Revisa página") -> Comedor | C9: =IF(AND(ISNUMBER($B$4),$B$4>=1,$B$4<=25,MOD($B$4,1)=0),IF(INDEX(Gastos!M8:M507,($B$4-1)*20+2)=0,"",IF(INDEX(Gastos!C8:C507,($B$4-1)*20+2)="","",INDEX(Gastos!C8:C507,($B$4-1)*20+2))),"Revisa página") -> Recurrente | D9: =IF(AND(ISNUMBER($B$4),$B$4>=1,$B$4<=25,MOD($B$4,1)=0),IF(INDEX(Gastos!M8:M507,($B$4-1)*20+2)=0,"",IF(INDEX(Gastos!D8:D507,($B$4-1)*20+2)="","",INDEX(Gastos!D8:D507,($B$4-1)*20+2))),"Revisa página") -> 90 | E9: =IF(AND(ISNUMBER($B$4),$B$4>=1,$B$4<=25,MOD($B$4,1)=0),IF(INDEX(Gastos!M8:M507,($B$4-1)*20+2)=0,"",IF(INDEX(Gastos!E8:E507,($B$4-1)*20+2)="","",INDEX(Gastos!E8:E507,($B$4-1)*20+2))),"Revisa página") -> 10 | F9: =IF(AND(ISNUMBER($B$4),$B$4>=1,$B$4<=25,MOD($B$4,1)=0),IF(INDEX(Gastos!M8:M507,($B$4-1)*20+2)=0,"",IF(INDEX(Gastos!F8:F507,($B$4-1)*20+2)="","",INDEX(Gastos!F8:F507,($B$4-1)*20+2))),"Revisa página") -> 0 | G9: =IF(AND(ISNUMBER($B$4),$B$4>=1,$B$4<=25,MOD($B$4,1)=0),IF(INDEX(Gastos!M8:M507,($B$4-1)*20+2)=0,"",IF(INDEX(Gastos!G8:G507,($B$4-1)*20+2)="","",INDEX(Gastos!G8:G507,($B$4-1)*20+2))),"Revisa página") -> 90 | H9: =IF(AND(ISNUMBER($B$4),$B$4>=1,$B$4<=25,MOD($B$4,1)=0),IF(INDEX(Gastos!M8:M507,($B$4-1)*20+2)=0,"",IF(INDEX(Gastos!H8:H507,($B$4-1)*20+2)="","",INDEX(Gastos!H8:H507,($B$4-1)*20+2))),"Revisa página") -> 900 | I9: =IF(AND(ISNUMBER($B$4),$B$4>=1,$B$4<=25,MOD($B$4,1)=0),IF(INDEX(Gastos!M8:M507,($B$4-1)*20+2)=0,"",IF(INDEX(Gastos!I8:I507,($B$4-1)*20+2)="","",INDEX(Gastos!I8:I507,($B$4-1)*20+2))),"Revisa página") -> 900 | J9: =IF(AND(ISNUMBER($B$4),$B$4>=1,$B$4<=25,MOD($B$4,1)=0),IF(INDEX(Gastos!M8:M507,($B$4-1)*20+2)=0,"",IF(INDEX(Gastos!J8:J507,($B$4-1)*20+2)="","",INDEX(Gastos!J8:J507,($B$4-1)*20+2))),"Revisa página") -> 810 | K9: =IF(AND(ISNUMBER($B$4),$B$4>=1,$B$4<=25,MOD($B$4,1)=0),IF(INDEX(Gastos!M8:M507,($B$4-1)*20+2)=0,"",IF(INDEX(Gastos!K8:K507,($B$4-1)*20+2)="","",INDEX(Gastos!K8:K507,($B$4-1)*20+2))),"Revisa página") -> Correcto | L9: =IF(AND(ISNUMBER($B$4),$B$4>=1,$B$4<=25,MOD($B$4,1)=0),IF(INDEX(Gastos!M8:M507,($B$4-1)*20+2)=0,"",IF(INDEX(Gastos!L8:L507,($B$4-1)*20+2)="","",INDEX(Gastos!L8:L507,($B$4-1)*20+2))),"Revisa página") -> Clasificado
A10: =IF(AND(ISNUMBER($B$4),$B$4>=1,$B$4<=25,MOD($B$4,1)=0),IF(INDEX(Gastos!M8:M507,($B$4-1)*20+3)=0,"",IF(INDEX(Gastos!A8:A507,($B$4-1)*20+3)="","",INDEX(Gastos!A8:A507,($B$4-1)*20+3))),"Revisa página") -> Luis | B10: =IF(AND(ISNUMBER($B$4),$B$4>=1,$B$4<=25,MOD($B$4,1)=0),IF(INDEX(Gastos!M8:M507,($B$4-1)*20+3)=0,"",IF(INDEX(Gastos!B8:B507,($B$4-1)*20+3)="","",INDEX(Gastos!B8:B507,($B$4-1)*20+3))),"Revisa página") -> Material | C10: =IF(AND(ISNUMBER($B$4),$B$4>=1,$B$4<=25,MOD($B$4,1)=0),IF(INDEX(Gastos!M8:M507,($B$4-1)*20+3)=0,"",IF(INDEX(Gastos!C8:C507,($B$4-1)*20+3)="","",INDEX(Gastos!C8:C507,($B$4-1)*20+3))),"Revisa página") -> Inicial | D10: =IF(AND(ISNUMBER($B$4),$B$4>=1,$B$4<=25,MOD($B$4,1)=0),IF(INDEX(Gastos!M8:M507,($B$4-1)*20+3)=0,"",IF(INDEX(Gastos!D8:D507,($B$4-1)*20+3)="","",INDEX(Gastos!D8:D507,($B$4-1)*20+3))),"Revisa página") -> 120 | E10: =IF(AND(ISNUMBER($B$4),$B$4>=1,$B$4<=25,MOD($B$4,1)=0),IF(INDEX(Gastos!M8:M507,($B$4-1)*20+3)=0,"",IF(INDEX(Gastos!E8:E507,($B$4-1)*20+3)="","",INDEX(Gastos!E8:E507,($B$4-1)*20+3))),"Revisa página") -> 1 | F10: =IF(AND(ISNUMBER($B$4),$B$4>=1,$B$4<=25,MOD($B$4,1)=0),IF(INDEX(Gastos!M8:M507,($B$4-1)*20+3)=0,"",IF(INDEX(Gastos!F8:F507,($B$4-1)*20+3)="","",INDEX(Gastos!F8:F507,($B$4-1)*20+3))),"Revisa página") -> 0 | G10: =IF(AND(ISNUMBER($B$4),$B$4>=1,$B$4<=25,MOD($B$4,1)=0),IF(INDEX(Gastos!M8:M507,($B$4-1)*20+3)=0,"",IF(INDEX(Gastos!G8:G507,($B$4-1)*20+3)="","",INDEX(Gastos!G8:G507,($B$4-1)*20+3))),"Revisa página") -> 120 | H10: =IF(AND(ISNUMBER($B$4),$B$4>=1,$B$4<=25,MOD($B$4,1)=0),IF(INDEX(Gastos!M8:M507,($B$4-1)*20+3)=0,"",IF(INDEX(Gastos!H8:H507,($B$4-1)*20+3)="","",INDEX(Gastos!H8:H507,($B$4-1)*20+3))),"Revisa página") -> 120 | I10: =IF(AND(ISNUMBER($B$4),$B$4>=1,$B$4<=25,MOD($B$4,1)=0),IF(INDEX(Gastos!M8:M507,($B$4-1)*20+3)=0,"",IF(INDEX(Gastos!I8:I507,($B$4-1)*20+3)="","",INDEX(Gastos!I8:I507,($B$4-1)*20+3))),"Revisa página") -> 120 | J10: =IF(AND(ISNUMBER($B$4),$B$4>=1,$B$4<=25,MOD($B$4,1)=0),IF(INDEX(Gastos!M8:M507,($B$4-1)*20+3)=0,"",IF(INDEX(Gastos!J8:J507,($B$4-1)*20+3)="","",INDEX(Gastos!J8:J507,($B$4-1)*20+3))),"Revisa página") -> 0 | K10: =IF(AND(ISNUMBER($B$4),$B$4>=1,$B$4<=25,MOD($B$4,1)=0),IF(INDEX(Gastos!M8:M507,($B$4-1)*20+3)=0,"",IF(INDEX(Gastos!K8:K507,($B$4-1)*20+3)="","",INDEX(Gastos!K8:K507,($B$4-1)*20+3))),"Revisa página") -> Correcto | L10: =IF(AND(ISNUMBER($B$4),$B$4>=1,$B$4<=25,MOD($B$4,1)=0),IF(INDEX(Gastos!M8:M507,($B$4-1)*20+3)=0,"",IF(INDEX(Gastos!L8:L507,($B$4-1)*20+3)="","",INDEX(Gastos!L8:L507,($B$4-1)*20+3))),"Revisa página") -> Clasificado
A11: =IF(AND(ISNUMBER($B$4),$B$4>=1,$B$4<=25,MOD($B$4,1)=0),IF(INDEX(Gastos!M8:M507,($B$4-1)*20+4)=0,"",IF(INDEX(Gastos!A8:A507,($B$4-1)*20+4)="","",INDEX(Gastos!A8:A507,($B$4-1)*20+4))),"Revisa página") -> Luis | B11: =IF(AND(ISNUMBER($B$4),$B$4>=1,$B$4<=25,MOD($B$4,1)=0),IF(INDEX(Gastos!M8:M507,($B$4-1)*20+4)=0,"",IF(INDEX(Gastos!B8:B507,($B$4-1)*20+4)="","",INDEX(Gastos!B8:B507,($B$4-1)*20+4))),"Revisa página") -> Transporte | C11: =IF(AND(ISNUMBER($B$4),$B$4>=1,$B$4<=25,MOD($B$4,1)=0),IF(INDEX(Gastos!M8:M507,($B$4-1)*20+4)=0,"",IF(INDEX(Gastos!C8:C507,($B$4-1)*20+4)="","",INDEX(Gastos!C8:C507,($B$4-1)*20+4))),"Revisa página") -> Recurrente | D11: =IF(AND(ISNUMBER($B$4),$B$4>=1,$B$4<=25,MOD($B$4,1)=0),IF(INDEX(Gastos!M8:M507,($B$4-1)*20+4)=0,"",IF(INDEX(Gastos!D8:D507,($B$4-1)*20+4)="","",INDEX(Gastos!D8:D507,($B$4-1)*20+4))),"Revisa página") -> 40 | E11: =IF(AND(ISNUMBER($B$4),$B$4>=1,$B$4<=25,MOD($B$4,1)=0),IF(INDEX(Gastos!M8:M507,($B$4-1)*20+4)=0,"",IF(INDEX(Gastos!E8:E507,($B$4-1)*20+4)="","",INDEX(Gastos!E8:E507,($B$4-1)*20+4))),"Revisa página") -> 9 | F11: =IF(AND(ISNUMBER($B$4),$B$4>=1,$B$4<=25,MOD($B$4,1)=0),IF(INDEX(Gastos!M8:M507,($B$4-1)*20+4)=0,"",IF(INDEX(Gastos!F8:F507,($B$4-1)*20+4)="","",INDEX(Gastos!F8:F507,($B$4-1)*20+4))),"Revisa página") -> 0 | G11: =IF(AND(ISNUMBER($B$4),$B$4>=1,$B$4<=25,MOD($B$4,1)=0),IF(INDEX(Gastos!M8:M507,($B$4-1)*20+4)=0,"",IF(INDEX(Gastos!G8:G507,($B$4-1)*20+4)="","",INDEX(Gastos!G8:G507,($B$4-1)*20+4))),"Revisa página") -> 40 | H11: =IF(AND(ISNUMBER($B$4),$B$4>=1,$B$4<=25,MOD($B$4,1)=0),IF(INDEX(Gastos!M8:M507,($B$4-1)*20+4)=0,"",IF(INDEX(Gastos!H8:H507,($B$4-1)*20+4)="","",INDEX(Gastos!H8:H507,($B$4-1)*20+4))),"Revisa página") -> 360 | I11: =IF(AND(ISNUMBER($B$4),$B$4>=1,$B$4<=25,MOD($B$4,1)=0),IF(INDEX(Gastos!M8:M507,($B$4-1)*20+4)=0,"",IF(INDEX(Gastos!I8:I507,($B$4-1)*20+4)="","",INDEX(Gastos!I8:I507,($B$4-1)*20+4))),"Revisa página") -> 360 | J11: =IF(AND(ISNUMBER($B$4),$B$4>=1,$B$4<=25,MOD($B$4,1)=0),IF(INDEX(Gastos!M8:M507,($B$4-1)*20+4)=0,"",IF(INDEX(Gastos!J8:J507,($B$4-1)*20+4)="","",INDEX(Gastos!J8:J507,($B$4-1)*20+4))),"Revisa página") -> 320 | K11: =IF(AND(ISNUMBER($B$4),$B$4>=1,$B$4<=25,MOD($B$4,1)=0),IF(INDEX(Gastos!M8:M507,($B$4-1)*20+4)=0,"",IF(INDEX(Gastos!K8:K507,($B$4-1)*20+4)="","",INDEX(Gastos!K8:K507,($B$4-1)*20+4))),"Revisa página") -> Correcto | L11: =IF(AND(ISNUMBER($B$4),$B$4>=1,$B$4<=25,MOD($B$4,1)=0),IF(INDEX(Gastos!M8:M507,($B$4-1)*20+4)=0,"",IF(INDEX(Gastos!L8:L507,($B$4-1)*20+4)="","",INDEX(Gastos!L8:L507,($B$4-1)*20+4))),"Revisa página") -> Clasificado
A12: =IF(AND(ISNUMBER($B$4),$B$4>=1,$B$4<=25,MOD($B$4,1)=0),IF(INDEX(Gastos!M8:M507,($B$4-1)*20+5)=0,"",IF(INDEX(Gastos!A8:A507,($B$4-1)*20+5)="","",INDEX(Gastos!A8:A507,($B$4-1)*20+5))),"Revisa página") | B12: =IF(AND(ISNUMBER($B$4),$B$4>=1,$B$4<=25,MOD($B$4,1)=0),IF(INDEX(Gastos!M8:M507,($B$4-1)*20+5)=0,"",IF(INDEX(Gastos!B8:B507,($B$4-1)*20+5)="","",INDEX(Gastos!B8:B507,($B$4-1)*20+5))),"Revisa página") | C12: =IF(AND(ISNUMBER($B$4),$B$4>=1,$B$4<=25,MOD($B$4,1)=0),IF(INDEX(Gastos!M8:M507,($B$4-1)*20+5)=0,"",IF(INDEX(Gastos!C8:C507,($B$4-1)*20+5)="","",INDEX(Gastos!C8:C507,($B$4-1)*20+5))),"Revisa página") | D12: =IF(AND(ISNUMBER($B$4),$B$4>=1,$B$4<=25,MOD($B$4,1)=0),IF(INDEX(Gastos!M8:M507,($B$4-1)*20+5)=0,"",IF(INDEX(Gastos!D8:D507,($B$4-1)*20+5)="","",INDEX(Gastos!D8:D507,($B$4-1)*20+5))),"Revisa página") | E12: =IF(AND(ISNUMBER($B$4),$B$4>=1,$B$4<=25,MOD($B$4,1)=0),IF(INDEX(Gastos!M8:M507,($B$4-1)*20+5)=0,"",IF(INDEX(Gastos!E8:E507,($B$4-1)*20+5)="","",INDEX(Gastos!E8:E507,($B$4-1)*20+5))),"Revisa página") | F12: =IF(AND(ISNUMBER($B$4),$B$4>=1,$B$4<=25,MOD($B$4,1)=0),IF(INDEX(Gastos!M8:M507,($B$4-1)*20+5)=0,"",IF(INDEX(Gastos!F8:F507,($B$4-1)*20+5)="","",INDEX(Gastos!F8:F507,($B$4-1)*20+5))),"Revisa página") | G12: =IF(AND(ISNUMBER($B$4),$B$4>=1,$B$4<=25,MOD($B$4,1)=0),IF(INDEX(Gastos!M8:M507,($B$4-1)*20+5)=0,"",IF(INDEX(Gastos!G8:G507,($B$4-1)*20+5)="","",INDEX(Gastos!G8:G507,($B$4-1)*20+5))),"Revisa página") | H12: =IF(AND(ISNUMBER($B$4),$B$4>=1,$B$4<=25,MOD($B$4,1)=0),IF(INDEX(Gastos!M8:M507,($B$4-1)*20+5)=0,"",IF(INDEX(Gastos!H8:H507,($B$4-1)*20+5)="","",INDEX(Gastos!H8:H507,($B$4-1)*20+5))),"Revisa página") | I12: =IF(AND(ISNUMBER($B$4),$B$4>=1,$B$4<=25,MOD($B$4,1)=0),IF(INDEX(Gastos!M8:M507,($B$4-1)*20+5)=0,"",IF(INDEX(Gastos!I8:I507,($B$4-1)*20+5)="","",INDEX(Gastos!I8:I507,($B$4-1)*20+5))),"Revisa página") | J12: =IF(AND(ISNUMBER($B$4),$B$4>=1,$B$4<=25,MOD($B$4,1)=0),IF(INDEX(Gastos!M8:M507,($B$4-1)*20+5)=0,"",IF(INDEX(Gastos!J8:J507,($B$4-1)*20+5)="","",INDEX(Gastos!J8:J507,($B$4-1)*20+5))),"Revisa página") | K12: =IF(AND(ISNUMBER($B$4),$B$4>=1,$B$4<=25,MOD($B$4,1)=0),IF(INDEX(Gastos!M8:M507,($B$4-1)*20+5)=0,"",IF(INDEX(Gastos!K8:K507,($B$4-1)*20+5)="","",INDEX(Gastos!K8:K507,($B$4-1)*20+5))),"Revisa página") | L12: =IF(AND(ISNUMBER($B$4),$B$4>=1,$B$4<=25,MOD($B$4,1)=0),IF(INDEX(Gastos!M8:M507,($B$4-1)*20+5)=0,"",IF(INDEX(Gastos!L8:L507,($B$4-1)*20+5)="","",INDEX(Gastos!L8:L507,($B$4-1)*20+5))),"Revisa página")
A13: =IF(AND(ISNUMBER($B$4),$B$4>=1,$B$4<=25,MOD($B$4,1)=0),IF(INDEX(Gastos!M8:M507,($B$4-1)*20+6)=0,"",IF(INDEX(Gastos!A8:A507,($B$4-1)*20+6)="","",INDEX(Gastos!A8:A507,($B$4-1)*20+6))),"Revisa página") | B13: =IF(AND(ISNUMBER($B$4),$B$4>=1,$B$4<=25,MOD($B$4,1)=0),IF(INDEX(Gastos!M8:M507,($B$4-1)*20+6)=0,"",IF(INDEX(Gastos!B8:B507,($B$4-1)*20+6)="","",INDEX(Gastos!B8:B507,($B$4-1)*20+6))),"Revisa página") | C13: =IF(AND(ISNUMBER($B$4),$B$4>=1,$B$4<=25,MOD($B$4,1)=0),IF(INDEX(Gastos!M8:M507,($B$4-1)*20+6)=0,"",IF(INDEX(Gastos!C8:C507,($B$4-1)*20+6)="","",INDEX(Gastos!C8:C507,($B$4-1)*20+6))),"Revisa página") | D13: =IF(AND(ISNUMBER($B$4),$B$4>=1,$B$4<=25,MOD($B$4,1)=0),IF(INDEX(Gastos!M8:M507,($B$4-1)*20+6)=0,"",IF(INDEX(Gastos!D8:D507,($B$4-1)*20+6)="","",INDEX(Gastos!D8:D507,($B$4-1)*20+6))),"Revisa página") | E13: =IF(AND(ISNUMBER($B$4),$B$4>=1,$B$4<=25,MOD($B$4,1)=0),IF(INDEX(Gastos!M8:M507,($B$4-1)*20+6)=0,"",IF(INDEX(Gastos!E8:E507,($B$4-1)*20+6)="","",INDEX(Gastos!E8:E507,($B$4-1)*20+6))),"Revisa página") | F13: =IF(AND(ISNUMBER($B$4),$B$4>=1,$B$4<=25,MOD($B$4,1)=0),IF(INDEX(Gastos!M8:M507,($B$4-1)*20+6)=0,"",IF(INDEX(Gastos!F8:F507,($B$4-1)*20+6)="","",INDEX(Gastos!F8:F507,($B$4-1)*20+6))),"Revisa página") | G13: =IF(AND(ISNUMBER($B$4),$B$4>=1,$B$4<=25,MOD($B$4,1)=0),IF(INDEX(Gastos!M8:M507,($B$4-1)*20+6)=0,"",IF(INDEX(Gastos!G8:G507,($B$4-1)*20+6)="","",INDEX(Gastos!G8:G507,($B$4-1)*20+6))),"Revisa página") | H13: =IF(AND(ISNUMBER($B$4),$B$4>=1,$B$4<=25,MOD($B$4,1)=0),IF(INDEX(Gastos!M8:M507,($B$4-1)*20+6)=0,"",IF(INDEX(Gastos!H8:H507,($B$4-1)*20+6)="","",INDEX(Gastos!H8:H507,($B$4-1)*20+6))),"Revisa página") | I13: =IF(AND(ISNUMBER($B$4),$B$4>=1,$B$4<=25,MOD($B$4,1)=0),IF(INDEX(Gastos!M8:M507,($B$4-1)*20+6)=0,"",IF(INDEX(Gastos!I8:I507,($B$4-1)*20+6)="","",INDEX(Gastos!I8:I507,($B$4-1)*20+6))),"Revisa página") | J13: =IF(AND(ISNUMBER($B$4),$B$4>=1,$B$4<=25,MOD($B$4,1)=0),IF(INDEX(Gastos!M8:M507,($B$4-1)*20+6)=0,"",IF(INDEX(Gastos!J8:J507,($B$4-1)*20+6)="","",INDEX(Gastos!J8:J507,($B$4-1)*20+6))),"Revisa página") | K13: =IF(AND(ISNUMBER($B$4),$B$4>=1,$B$4<=25,MOD($B$4,1)=0),IF(INDEX(Gastos!M8:M507,($B$4-1)*20+6)=0,"",IF(INDEX(Gastos!K8:K507,($B$4-1)*20+6)="","",INDEX(Gastos!K8:K507,($B$4-1)*20+6))),"Revisa página") | L13: =IF(AND(ISNUMBER($B$4),$B$4>=1,$B$4<=25,MOD($B$4,1)=0),IF(INDEX(Gastos!M8:M507,($B$4-1)*20+6)=0,"",IF(INDEX(Gastos!L8:L507,($B$4-1)*20+6)="","",INDEX(Gastos!L8:L507,($B$4-1)*20+6))),"Revisa página")
A14: =IF(AND(ISNUMBER($B$4),$B$4>=1,$B$4<=25,MOD($B$4,1)=0),IF(INDEX(Gastos!M8:M507,($B$4-1)*20+7)=0,"",IF(INDEX(Gastos!A8:A507,($B$4-1)*20+7)="","",INDEX(Gastos!A8:A507,($B$4-1)*20+7))),"Revisa página") | B14: =IF(AND(ISNUMBER($B$4),$B$4>=1,$B$4<=25,MOD($B$4,1)=0),IF(INDEX(Gastos!M8:M507,($B$4-1)*20+7)=0,"",IF(INDEX(Gastos!B8:B507,($B$4-1)*20+7)="","",INDEX(Gastos!B8:B507,($B$4-1)*20+7))),"Revisa página") | C14: =IF(AND(ISNUMBER($B$4),$B$4>=1,$B$4<=25,MOD($B$4,1)=0),IF(INDEX(Gastos!M8:M507,($B$4-1)*20+7)=0,"",IF(INDEX(Gastos!C8:C507,($B$4-1)*20+7)="","",INDEX(Gastos!C8:C507,($B$4-1)*20+7))),"Revisa página") | D14: =IF(AND(ISNUMBER($B$4),$B$4>=1,$B$4<=25,MOD($B$4,1)=0),IF(INDEX(Gastos!M8:M507,($B$4-1)*20+7)=0,"",IF(INDEX(Gastos!D8:D507,($B$4-1)*20+7)="","",INDEX(Gastos!D8:D507,($B$4-1)*20+7))),"Revisa página") | E14: =IF(AND(ISNUMBER($B$4),$B$4>=1,$B$4<=25,MOD($B$4,1)=0),IF(INDEX(Gastos!M8:M507,($B$4-1)*20+7)=0,"",IF(INDEX(Gastos!E8:E507,($B$4-1)*20+7)="","",INDEX(Gastos!E8:E507,($B$4-1)*20+7))),"Revisa página") | F14: =IF(AND(ISNUMBER($B$4),$B$4>=1,$B$4<=25,MOD($B$4,1)=0),IF(INDEX(Gastos!M8:M507,($B$4-1)*20+7)=0,"",IF(INDEX(Gastos!F8:F507,($B$4-1)*20+7)="","",INDEX(Gastos!F8:F507,($B$4-1)*20+7))),"Revisa página") | G14: =IF(AND(ISNUMBER($B$4),$B$4>=1,$B$4<=25,MOD($B$4,1)=0),IF(INDEX(Gastos!M8:M507,($B$4-1)*20+7)=0,"",IF(INDEX(Gastos!G8:G507,($B$4-1)*20+7)="","",INDEX(Gastos!G8:G507,($B$4-1)*20+7))),"Revisa página") | H14: =IF(AND(ISNUMBER($B$4),$B$4>=1,$B$4<=25,MOD($B$4,1)=0),IF(INDEX(Gastos!M8:M507,($B$4-1)*20+7)=0,"",IF(INDEX(Gastos!H8:H507,($B$4-1)*20+7)="","",INDEX(Gastos!H8:H507,($B$4-1)*20+7))),"Revisa página") | I14: =IF(AND(ISNUMBER($B$4),$B$4>=1,$B$4<=25,MOD($B$4,1)=0),IF(INDEX(Gastos!M8:M507,($B$4-1)*20+7)=0,"",IF(INDEX(Gastos!I8:I507,($B$4-1)*20+7)="","",INDEX(Gastos!I8:I507,($B$4-1)*20+7))),"Revisa página") | J14: =IF(AND(ISNUMBER($B$4),$B$4>=1,$B$4<=25,MOD($B$4,1)=0),IF(INDEX(Gastos!M8:M507,($B$4-1)*20+7)=0,"",IF(INDEX(Gastos!J8:J507,($B$4-1)*20+7)="","",INDEX(Gastos!J8:J507,($B$4-1)*20+7))),"Revisa página") | K14: =IF(AND(ISNUMBER($B$4),$B$4>=1,$B$4<=25,MOD($B$4,1)=0),IF(INDEX(Gastos!M8:M507,($B$4-1)*20+7)=0,"",IF(INDEX(Gastos!K8:K507,($B$4-1)*20+7)="","",INDEX(Gastos!K8:K507,($B$4-1)*20+7))),"Revisa página") | L14: =IF(AND(ISNUMBER($B$4),$B$4>=1,$B$4<=25,MOD($B$4,1)=0),IF(INDEX(Gastos!M8:M507,($B$4-1)*20+7)=0,"",IF(INDEX(Gastos!L8:L507,($B$4-1)*20+7)="","",INDEX(Gastos!L8:L507,($B$4-1)*20+7))),"Revisa página")
A15: =IF(AND(ISNUMBER($B$4),$B$4>=1,$B$4<=25,MOD($B$4,1)=0),IF(INDEX(Gastos!M8:M507,($B$4-1)*20+8)=0,"",IF(INDEX(Gastos!A8:A507,($B$4-1)*20+8)="","",INDEX(Gastos!A8:A507,($B$4-1)*20+8))),"Revisa página") | B15: =IF(AND(ISNUMBER($B$4),$B$4>=1,$B$4<=25,MOD($B$4,1)=0),IF(INDEX(Gastos!M8:M507,($B$4-1)*20+8)=0,"",IF(INDEX(Gastos!B8:B507,($B$4-1)*20+8)="","",INDEX(Gastos!B8:B507,($B$4-1)*20+8))),"Revisa página") | C15: =IF(AND(ISNUMBER($B$4),$B$4>=1,$B$4<=25,MOD($B$4,1)=0),IF(INDEX(Gastos!M8:M507,($B$4-1)*20+8)=0,"",IF(INDEX(Gastos!C8:C507,($B$4-1)*20+8)="","",INDEX(Gastos!C8:C507,($B$4-1)*20+8))),"Revisa página") | D15: =IF(AND(ISNUMBER($B$4),$B$4>=1,$B$4<=25,MOD($B$4,1)=0),IF(INDEX(Gastos!M8:M507,($B$4-1)*20+8)=0,"",IF(INDEX(Gastos!D8:D507,($B$4-1)*20+8)="","",INDEX(Gastos!D8:D507,($B$4-1)*20+8))),"Revisa página") | E15: =IF(AND(ISNUMBER($B$4),$B$4>=1,$B$4<=25,MOD($B$4,1)=0),IF(INDEX(Gastos!M8:M507,($B$4-1)*20+8)=0,"",IF(INDEX(Gastos!E8:E507,($B$4-1)*20+8)="","",INDEX(Gastos!E8:E507,($B$4-1)*20+8))),"Revisa página") | F15: =IF(AND(ISNUMBER($B$4),$B$4>=1,$B$4<=25,MOD($B$4,1)=0),IF(INDEX(Gastos!M8:M507,($B$4-1)*20+8)=0,"",IF(INDEX(Gastos!F8:F507,($B$4-1)*20+8)="","",INDEX(Gastos!F8:F507,($B$4-1)*20+8))),"Revisa página") | G15: =IF(AND(ISNUMBER($B$4),$B$4>=1,$B$4<=25,MOD($B$4,1)=0),IF(INDEX(Gastos!M8:M507,($B$4-1)*20+8)=0,"",IF(INDEX(Gastos!G8:G507,($B$4-1)*20+8)="","",INDEX(Gastos!G8:G507,($B$4-1)*20+8))),"Revisa página") | H15: =IF(AND(ISNUMBER($B$4),$B$4>=1,$B$4<=25,MOD($B$4,1)=0),IF(INDEX(Gastos!M8:M507,($B$4-1)*20+8)=0,"",IF(INDEX(Gastos!H8:H507,($B$4-1)*20+8)="","",INDEX(Gastos!H8:H507,($B$4-1)*20+8))),"Revisa página") | I15: =IF(AND(ISNUMBER($B$4),$B$4>=1,$B$4<=25,MOD($B$4,1)=0),IF(INDEX(Gastos!M8:M507,($B$4-1)*20+8)=0,"",IF(INDEX(Gastos!I8:I507,($B$4-1)*20+8)="","",INDEX(Gastos!I8:I507,($B$4-1)*20+8))),"Revisa página") | J15: =IF(AND(ISNUMBER($B$4),$B$4>=1,$B$4<=25,MOD($B$4,1)=0),IF(INDEX(Gastos!M8:M507,($B$4-1)*20+8)=0,"",IF(INDEX(Gastos!J8:J507,($B$4-1)*20+8)="","",INDEX(Gastos!J8:J507,($B$4-1)*20+8))),"Revisa página") | K15: =IF(AND(ISNUMBER($B$4),$B$4>=1,$B$4<=25,MOD($B$4,1)=0),IF(INDEX(Gastos!M8:M507,($B$4-1)*20+8)=0,"",IF(INDEX(Gastos!K8:K507,($B$4-1)*20+8)="","",INDEX(Gastos!K8:K507,($B$4-1)*20+8))),"Revisa página") | L15: =IF(AND(ISNUMBER($B$4),$B$4>=1,$B$4<=25,MOD($B$4,1)=0),IF(INDEX(Gastos!M8:M507,($B$4-1)*20+8)=0,"",IF(INDEX(Gastos!L8:L507,($B$4-1)*20+8)="","",INDEX(Gastos!L8:L507,($B$4-1)*20+8))),"Revisa página")
A16: =IF(AND(ISNUMBER($B$4),$B$4>=1,$B$4<=25,MOD($B$4,1)=0),IF(INDEX(Gastos!M8:M507,($B$4-1)*20+9)=0,"",IF(INDEX(Gastos!A8:A507,($B$4-1)*20+9)="","",INDEX(Gastos!A8:A507,($B$4-1)*20+9))),"Revisa página") | B16: =IF(AND(ISNUMBER($B$4),$B$4>=1,$B$4<=25,MOD($B$4,1)=0),IF(INDEX(Gastos!M8:M507,($B$4-1)*20+9)=0,"",IF(INDEX(Gastos!B8:B507,($B$4-1)*20+9)="","",INDEX(Gastos!B8:B507,($B$4-1)*20+9))),"Revisa página") | C16: =IF(AND(ISNUMBER($B$4),$B$4>=1,$B$4<=25,MOD($B$4,1)=0),IF(INDEX(Gastos!M8:M507,($B$4-1)*20+9)=0,"",IF(INDEX(Gastos!C8:C507,($B$4-1)*20+9)="","",INDEX(Gastos!C8:C507,($B$4-1)*20+9))),"Revisa página") | D16: =IF(AND(ISNUMBER($B$4),$B$4>=1,$B$4<=25,MOD($B$4,1)=0),IF(INDEX(Gastos!M8:M507,($B$4-1)*20+9)=0,"",IF(INDEX(Gastos!D8:D507,($B$4-1)*20+9)="","",INDEX(Gastos!D8:D507,($B$4-1)*20+9))),"Revisa página") | E16: =IF(AND(ISNUMBER($B$4),$B$4>=1,$B$4<=25,MOD($B$4,1)=0),IF(INDEX(Gastos!M8:M507,($B$4-1)*20+9)=0,"",IF(INDEX(Gastos!E8:E507,($B$4-1)*20+9)="","",INDEX(Gastos!E8:E507,($B$4-1)*20+9))),"Revisa página") | F16: =IF(AND(ISNUMBER($B$4),$B$4>=1,$B$4<=25,MOD($B$4,1)=0),IF(INDEX(Gastos!M8:M507,($B$4-1)*20+9)=0,"",IF(INDEX(Gastos!F8:F507,($B$4-1)*20+9)="","",INDEX(Gastos!F8:F507,($B$4-1)*20+9))),"Revisa página") | G16: =IF(AND(ISNUMBER($B$4),$B$4>=1,$B$4<=25,MOD($B$4,1)=0),IF(INDEX(Gastos!M8:M507,($B$4-1)*20+9)=0,"",IF(INDEX(Gastos!G8:G507,($B$4-1)*20+9)="","",INDEX(Gastos!G8:G507,($B$4-1)*20+9))),"Revisa página") | H16: =IF(AND(ISNUMBER($B$4),$B$4>=1,$B$4<=25,MOD($B$4,1)=0),IF(INDEX(Gastos!M8:M507,($B$4-1)*20+9)=0,"",IF(INDEX(Gastos!H8:H507,($B$4-1)*20+9)="","",INDEX(Gastos!H8:H507,($B$4-1)*20+9))),"Revisa página") | I16: =IF(AND(ISNUMBER($B$4),$B$4>=1,$B$4<=25,MOD($B$4,1)=0),IF(INDEX(Gastos!M8:M507,($B$4-1)*20+9)=0,"",IF(INDEX(Gastos!I8:I507,($B$4-1)*20+9)="","",INDEX(Gastos!I8:I507,($B$4-1)*20+9))),"Revisa página") | J16: =IF(AND(ISNUMBER($B$4),$B$4>=1,$B$4<=25,MOD($B$4,1)=0),IF(INDEX(Gastos!M8:M507,($B$4-1)*20+9)=0,"",IF(INDEX(Gastos!J8:J507,($B$4-1)*20+9)="","",INDEX(Gastos!J8:J507,($B$4-1)*20+9))),"Revisa página") | K16: =IF(AND(ISNUMBER($B$4),$B$4>=1,$B$4<=25,MOD($B$4,1)=0),IF(INDEX(Gastos!M8:M507,($B$4-1)*20+9)=0,"",IF(INDEX(Gastos!K8:K507,($B$4-1)*20+9)="","",INDEX(Gastos!K8:K507,($B$4-1)*20+9))),"Revisa página") | L16: =IF(AND(ISNUMBER($B$4),$B$4>=1,$B$4<=25,MOD($B$4,1)=0),IF(INDEX(Gastos!M8:M507,($B$4-1)*20+9)=0,"",IF(INDEX(Gastos!L8:L507,($B$4-1)*20+9)="","",INDEX(Gastos!L8:L507,($B$4-1)*20+9))),"Revisa página")
A17: =IF(AND(ISNUMBER($B$4),$B$4>=1,$B$4<=25,MOD($B$4,1)=0),IF(INDEX(Gastos!M8:M507,($B$4-1)*20+10)=0,"",IF(INDEX(Gastos!A8:A507,($B$4-1)*20+10)="","",INDEX(Gastos!A8:A507,($B$4-1)*20+10))),"Revisa página") | B17: =IF(AND(ISNUMBER($B$4),$B$4>=1,$B$4<=25,MOD($B$4,1)=0),IF(INDEX(Gastos!M8:M507,($B$4-1)*20+10)=0,"",IF(INDEX(Gastos!B8:B507,($B$4-1)*20+10)="","",INDEX(Gastos!B8:B507,($B$4-1)*20+10))),"Revisa página") | C17: =IF(AND(ISNUMBER($B$4),$B$4>=1,$B$4<=25,MOD($B$4,1)=0),IF(INDEX(Gastos!M8:M507,($B$4-1)*20+10)=0,"",IF(INDEX(Gastos!C8:C507,($B$4-1)*20+10)="","",INDEX(Gastos!C8:C507,($B$4-1)*20+10))),"Revisa página") | D17: =IF(AND(ISNUMBER($B$4),$B$4>=1,$B$4<=25,MOD($B$4,1)=0),IF(INDEX(Gastos!M8:M507,($B$4-1)*20+10)=0,"",IF(INDEX(Gastos!D8:D507,($B$4-1)*20+10)="","",INDEX(Gastos!D8:D507,($B$4-1)*20+10))),"Revisa página") | E17: =IF(AND(ISNUMBER($B$4),$B$4>=1,$B$4<=25,MOD($B$4,1)=0),IF(INDEX(Gastos!M8:M507,($B$4-1)*20+10)=0,"",IF(INDEX(Gastos!E8:E507,($B$4-1)*20+10)="","",INDEX(Gastos!E8:E507,($B$4-1)*20+10))),"Revisa página") | F17: =IF(AND(ISNUMBER($B$4),$B$4>=1,$B$4<=25,MOD($B$4,1)=0),IF(INDEX(Gastos!M8:M507,($B$4-1)*20+10)=0,"",IF(INDEX(Gastos!F8:F507,($B$4-1)*20+10)="","",INDEX(Gastos!F8:F507,($B$4-1)*20+10))),"Revisa página") | G17: =IF(AND(ISNUMBER($B$4),$B$4>=1,$B$4<=25,MOD($B$4,1)=0),IF(INDEX(Gastos!M8:M507,($B$4-1)*20+10)=0,"",IF(INDEX(Gastos!G8:G507,($B$4-1)*20+10)="","",INDEX(Gastos!G8:G507,($B$4-1)*20+10))),"Revisa página") | H17: =IF(AND(ISNUMBER($B$4),$B$4>=1,$B$4<=25,MOD($B$4,1)=0),IF(INDEX(Gastos!M8:M507,($B$4-1)*20+10)=0,"",IF(INDEX(Gastos!H8:H507,($B$4-1)*20+10)="","",INDEX(Gastos!H8:H507,($B$4-1)*20+10))),"Revisa página") | I17: =IF(AND(ISNUMBER($B$4),$B$4>=1,$B$4<=25,MOD($B$4,1)=0),IF(INDEX(Gastos!M8:M507,($B$4-1)*20+10)=0,"",IF(INDEX(Gastos!I8:I507,($B$4-1)*20+10)="","",INDEX(Gastos!I8:I507,($B$4-1)*20+10))),"Revisa página") | J17: =IF(AND(ISNUMBER($B$4),$B$4>=1,$B$4<=25,MOD($B$4,1)=0),IF(INDEX(Gastos!M8:M507,($B$4-1)*20+10)=0,"",IF(INDEX(Gastos!J8:J507,($B$4-1)*20+10)="","",INDEX(Gastos!J8:J507,($B$4-1)*20+10))),"Revisa página") | K17: =IF(AND(ISNUMBER($B$4),$B$4>=1,$B$4<=25,MOD($B$4,1)=0),IF(INDEX(Gastos!M8:M507,($B$4-1)*20+10)=0,"",IF(INDEX(Gastos!K8:K507,($B$4-1)*20+10)="","",INDEX(Gastos!K8:K507,($B$4-1)*20+10))),"Revisa página") | L17: =IF(AND(ISNUMBER($B$4),$B$4>=1,$B$4<=25,MOD($B$4,1)=0),IF(INDEX(Gastos!M8:M507,($B$4-1)*20+10)=0,"",IF(INDEX(Gastos!L8:L507,($B$4-1)*20+10)="","",INDEX(Gastos!L8:L507,($B$4-1)*20+10))),"Revisa página")
A18: =IF(AND(ISNUMBER($B$4),$B$4>=1,$B$4<=25,MOD($B$4,1)=0),IF(INDEX(Gastos!M8:M507,($B$4-1)*20+11)=0,"",IF(INDEX(Gastos!A8:A507,($B$4-1)*20+11)="","",INDEX(Gastos!A8:A507,($B$4-1)*20+11))),"Revisa página") | B18: =IF(AND(ISNUMBER($B$4),$B$4>=1,$B$4<=25,MOD($B$4,1)=0),IF(INDEX(Gastos!M8:M507,($B$4-1)*20+11)=0,"",IF(INDEX(Gastos!B8:B507,($B$4-1)*20+11)="","",INDEX(Gastos!B8:B507,($B$4-1)*20+11))),"Revisa página") | C18: =IF(AND(ISNUMBER($B$4),$B$4>=1,$B$4<=25,MOD($B$4,1)=0),IF(INDEX(Gastos!M8:M507,($B$4-1)*20+11)=0,"",IF(INDEX(Gastos!C8:C507,($B$4-1)*20+11)="","",INDEX(Gastos!C8:C507,($B$4-1)*20+11))),"Revisa página") | D18: =IF(AND(ISNUMBER($B$4),$B$4>=1,$B$4<=25,MOD($B$4,1)=0),IF(INDEX(Gastos!M8:M507,($B$4-1)*20+11)=0,"",IF(INDEX(Gastos!D8:D507,($B$4-1)*20+11)="","",INDEX(Gastos!D8:D507,($B$4-1)*20+11))),"Revisa página") | E18: =IF(AND(ISNUMBER($B$4),$B$4>=1,$B$4<=25,MOD($B$4,1)=0),IF(INDEX(Gastos!M8:M507,($B$4-1)*20+11)=0,"",IF(INDEX(Gastos!E8:E507,($B$4-1)*20+11)="","",INDEX(Gastos!E8:E507,($B$4-1)*20+11))),"Revisa página") | F18: =IF(AND(ISNUMBER($B$4),$B$4>=1,$B$4<=25,MOD($B$4,1)=0),IF(INDEX(Gastos!M8:M507,($B$4-1)*20+11)=0,"",IF(INDEX(Gastos!F8:F507,($B$4-1)*20+11)="","",INDEX(Gastos!F8:F507,($B$4-1)*20+11))),"Revisa página") | G18: =IF(AND(ISNUMBER($B$4),$B$4>=1,$B$4<=25,MOD($B$4,1)=0),IF(INDEX(Gastos!M8:M507,($B$4-1)*20+11)=0,"",IF(INDEX(Gastos!G8:G507,($B$4-1)*20+11)="","",INDEX(Gastos!G8:G507,($B$4-1)*20+11))),"Revisa página") | H18: =IF(AND(ISNUMBER($B$4),$B$4>=1,$B$4<=25,MOD($B$4,1)=0),IF(INDEX(Gastos!M8:M507,($B$4-1)*20+11)=0,"",IF(INDEX(Gastos!H8:H507,($B$4-1)*20+11)="","",INDEX(Gastos!H8:H507,($B$4-1)*20+11))),"Revisa página") | I18: =IF(AND(ISNUMBER($B$4),$B$4>=1,$B$4<=25,MOD($B$4,1)=0),IF(INDEX(Gastos!M8:M507,($B$4-1)*20+11)=0,"",IF(INDEX(Gastos!I8:I507,($B$4-1)*20+11)="","",INDEX(Gastos!I8:I507,($B$4-1)*20+11))),"Revisa página") | J18: =IF(AND(ISNUMBER($B$4),$B$4>=1,$B$4<=25,MOD($B$4,1)=0),IF(INDEX(Gastos!M8:M507,($B$4-1)*20+11)=0,"",IF(INDEX(Gastos!J8:J507,($B$4-1)*20+11)="","",INDEX(Gastos!J8:J507,($B$4-1)*20+11))),"Revisa página") | K18: =IF(AND(ISNUMBER($B$4),$B$4>=1,$B$4<=25,MOD($B$4,1)=0),IF(INDEX(Gastos!M8:M507,($B$4-1)*20+11)=0,"",IF(INDEX(Gastos!K8:K507,($B$4-1)*20+11)="","",INDEX(Gastos!K8:K507,($B$4-1)*20+11))),"Revisa página") | L18: =IF(AND(ISNUMBER($B$4),$B$4>=1,$B$4<=25,MOD($B$4,1)=0),IF(INDEX(Gastos!M8:M507,($B$4-1)*20+11)=0,"",IF(INDEX(Gastos!L8:L507,($B$4-1)*20+11)="","",INDEX(Gastos!L8:L507,($B$4-1)*20+11))),"Revisa página")
A19: =IF(AND(ISNUMBER($B$4),$B$4>=1,$B$4<=25,MOD($B$4,1)=0),IF(INDEX(Gastos!M8:M507,($B$4-1)*20+12)=0,"",IF(INDEX(Gastos!A8:A507,($B$4-1)*20+12)="","",INDEX(Gastos!A8:A507,($B$4-1)*20+12))),"Revisa página") | B19: =IF(AND(ISNUMBER($B$4),$B$4>=1,$B$4<=25,MOD($B$4,1)=0),IF(INDEX(Gastos!M8:M507,($B$4-1)*20+12)=0,"",IF(INDEX(Gastos!B8:B507,($B$4-1)*20+12)="","",INDEX(Gastos!B8:B507,($B$4-1)*20+12))),"Revisa página") | C19: =IF(AND(ISNUMBER($B$4),$B$4>=1,$B$4<=25,MOD($B$4,1)=0),IF(INDEX(Gastos!M8:M507,($B$4-1)*20+12)=0,"",IF(INDEX(Gastos!C8:C507,($B$4-1)*20+12)="","",INDEX(Gastos!C8:C507,($B$4-1)*20+12))),"Revisa página") | D19: =IF(AND(ISNUMBER($B$4),$B$4>=1,$B$4<=25,MOD($B$4,1)=0),IF(INDEX(Gastos!M8:M507,($B$4-1)*20+12)=0,"",IF(INDEX(Gastos!D8:D507,($B$4-1)*20+12)="","",INDEX(Gastos!D8:D507,($B$4-1)*20+12))),"Revisa página") | E19: =IF(AND(ISNUMBER($B$4),$B$4>=1,$B$4<=25,MOD($B$4,1)=0),IF(INDEX(Gastos!M8:M507,($B$4-1)*20+12)=0,"",IF(INDEX(Gastos!E8:E507,($B$4-1)*20+12)="","",INDEX(Gastos!E8:E507,($B$4-1)*20+12))),"Revisa página") | F19: =IF(AND(ISNUMBER($B$4),$B$4>=1,$B$4<=25,MOD($B$4,1)=0),IF(INDEX(Gastos!M8:M507,($B$4-1)*20+12)=0,"",IF(INDEX(Gastos!F8:F507,($B$4-1)*20+12)="","",INDEX(Gastos!F8:F507,($B$4-1)*20+12))),"Revisa página") | G19: =IF(AND(ISNUMBER($B$4),$B$4>=1,$B$4<=25,MOD($B$4,1)=0),IF(INDEX(Gastos!M8:M507,($B$4-1)*20+12)=0,"",IF(INDEX(Gastos!G8:G507,($B$4-1)*20+12)="","",INDEX(Gastos!G8:G507,($B$4-1)*20+12))),"Revisa página") | H19: =IF(AND(ISNUMBER($B$4),$B$4>=1,$B$4<=25,MOD($B$4,1)=0),IF(INDEX(Gastos!M8:M507,($B$4-1)*20+12)=0,"",IF(INDEX(Gastos!H8:H507,($B$4-1)*20+12)="","",INDEX(Gastos!H8:H507,($B$4-1)*20+12))),"Revisa página") | I19: =IF(AND(ISNUMBER($B$4),$B$4>=1,$B$4<=25,MOD($B$4,1)=0),IF(INDEX(Gastos!M8:M507,($B$4-1)*20+12)=0,"",IF(INDEX(Gastos!I8:I507,($B$4-1)*20+12)="","",INDEX(Gastos!I8:I507,($B$4-1)*20+12))),"Revisa página") | J19: =IF(AND(ISNUMBER($B$4),$B$4>=1,$B$4<=25,MOD($B$4,1)=0),IF(INDEX(Gastos!M8:M507,($B$4-1)*20+12)=0,"",IF(INDEX(Gastos!J8:J507,($B$4-1)*20+12)="","",INDEX(Gastos!J8:J507,($B$4-1)*20+12))),"Revisa página") | K19: =IF(AND(ISNUMBER($B$4),$B$4>=1,$B$4<=25,MOD($B$4,1)=0),IF(INDEX(Gastos!M8:M507,($B$4-1)*20+12)=0,"",IF(INDEX(Gastos!K8:K507,($B$4-1)*20+12)="","",INDEX(Gastos!K8:K507,($B$4-1)*20+12))),"Revisa página") | L19: =IF(AND(ISNUMBER($B$4),$B$4>=1,$B$4<=25,MOD($B$4,1)=0),IF(INDEX(Gastos!M8:M507,($B$4-1)*20+12)=0,"",IF(INDEX(Gastos!L8:L507,($B$4-1)*20+12)="","",INDEX(Gastos!L8:L507,($B$4-1)*20+12))),"Revisa página")
A20: =IF(AND(ISNUMBER($B$4),$B$4>=1,$B$4<=25,MOD($B$4,1)=0),IF(INDEX(Gastos!M8:M507,($B$4-1)*20+13)=0,"",IF(INDEX(Gastos!A8:A507,($B$4-1)*20+13)="","",INDEX(Gastos!A8:A507,($B$4-1)*20+13))),"Revisa página") | B20: =IF(AND(ISNUMBER($B$4),$B$4>=1,$B$4<=25,MOD($B$4,1)=0),IF(INDEX(Gastos!M8:M507,($B$4-1)*20+13)=0,"",IF(INDEX(Gastos!B8:B507,($B$4-1)*20+13)="","",INDEX(Gastos!B8:B507,($B$4-1)*20+13))),"Revisa página") | C20: =IF(AND(ISNUMBER($B$4),$B$4>=1,$B$4<=25,MOD($B$4,1)=0),IF(INDEX(Gastos!M8:M507,($B$4-1)*20+13)=0,"",IF(INDEX(Gastos!C8:C507,($B$4-1)*20+13)="","",INDEX(Gastos!C8:C507,($B$4-1)*20+13))),"Revisa página") | D20: =IF(AND(ISNUMBER($B$4),$B$4>=1,$B$4<=25,MOD($B$4,1)=0),IF(INDEX(Gastos!M8:M507,($B$4-1)*20+13)=0,"",IF(INDEX(Gastos!D8:D507,($B$4-1)*20+13)="","",INDEX(Gastos!D8:D507,($B$4-1)*20+13))),"Revisa página") | E20: =IF(AND(ISNUMBER($B$4),$B$4>=1,$B$4<=25,MOD($B$4,1)=0),IF(INDEX(Gastos!M8:M507,($B$4-1)*20+13)=0,"",IF(INDEX(Gastos!E8:E507,($B$4-1)*20+13)="","",INDEX(Gastos!E8:E507,($B$4-1)*20+13))),"Revisa página") | F20: =IF(AND(ISNUMBER($B$4),$B$4>=1,$B$4<=25,MOD($B$4,1)=0),IF(INDEX(Gastos!M8:M507,($B$4-1)*20+13)=0,"",IF(INDEX(Gastos!F8:F507,($B$4-1)*20+13)="","",INDEX(Gastos!F8:F507,($B$4-1)*20+13))),"Revisa página") | G20: =IF(AND(ISNUMBER($B$4),$B$4>=1,$B$4<=25,MOD($B$4,1)=0),IF(INDEX(Gastos!M8:M507,($B$4-1)*20+13)=0,"",IF(INDEX(Gastos!G8:G507,($B$4-1)*20+13)="","",INDEX(Gastos!G8:G507,($B$4-1)*20+13))),"Revisa página") | H20: =IF(AND(ISNUMBER($B$4),$B$4>=1,$B$4<=25,MOD($B$4,1)=0),IF(INDEX(Gastos!M8:M507,($B$4-1)*20+13)=0,"",IF(INDEX(Gastos!H8:H507,($B$4-1)*20+13)="","",INDEX(Gastos!H8:H507,($B$4-1)*20+13))),"Revisa página") | I20: =IF(AND(ISNUMBER($B$4),$B$4>=1,$B$4<=25,MOD($B$4,1)=0),IF(INDEX(Gastos!M8:M507,($B$4-1)*20+13)=0,"",IF(INDEX(Gastos!I8:I507,($B$4-1)*20+13)="","",INDEX(Gastos!I8:I507,($B$4-1)*20+13))),"Revisa página") | J20: =IF(AND(ISNUMBER($B$4),$B$4>=1,$B$4<=25,MOD($B$4,1)=0),IF(INDEX(Gastos!M8:M507,($B$4-1)*20+13)=0,"",IF(INDEX(Gastos!J8:J507,($B$4-1)*20+13)="","",INDEX(Gastos!J8:J507,($B$4-1)*20+13))),"Revisa página") | K20: =IF(AND(ISNUMBER($B$4),$B$4>=1,$B$4<=25,MOD($B$4,1)=0),IF(INDEX(Gastos!M8:M507,($B$4-1)*20+13)=0,"",IF(INDEX(Gastos!K8:K507,($B$4-1)*20+13)="","",INDEX(Gastos!K8:K507,($B$4-1)*20+13))),"Revisa página") | L20: =IF(AND(ISNUMBER($B$4),$B$4>=1,$B$4<=25,MOD($B$4,1)=0),IF(INDEX(Gastos!M8:M507,($B$4-1)*20+13)=0,"",IF(INDEX(Gastos!L8:L507,($B$4-1)*20+13)="","",INDEX(Gastos!L8:L507,($B$4-1)*20+13))),"Revisa página")
A21: =IF(AND(ISNUMBER($B$4),$B$4>=1,$B$4<=25,MOD($B$4,1)=0),IF(INDEX(Gastos!M8:M507,($B$4-1)*20+14)=0,"",IF(INDEX(Gastos!A8:A507,($B$4-1)*20+14)="","",INDEX(Gastos!A8:A507,($B$4-1)*20+14))),"Revisa página") | B21: =IF(AND(ISNUMBER($B$4),$B$4>=1,$B$4<=25,MOD($B$4,1)=0),IF(INDEX(Gastos!M8:M507,($B$4-1)*20+14)=0,"",IF(INDEX(Gastos!B8:B507,($B$4-1)*20+14)="","",INDEX(Gastos!B8:B507,($B$4-1)*20+14))),"Revisa página") | C21: =IF(AND(ISNUMBER($B$4),$B$4>=1,$B$4<=25,MOD($B$4,1)=0),IF(INDEX(Gastos!M8:M507,($B$4-1)*20+14)=0,"",IF(INDEX(Gastos!C8:C507,($B$4-1)*20+14)="","",INDEX(Gastos!C8:C507,($B$4-1)*20+14))),"Revisa página") | D21: =IF(AND(ISNUMBER($B$4),$B$4>=1,$B$4<=25,MOD($B$4,1)=0),IF(INDEX(Gastos!M8:M507,($B$4-1)*20+14)=0,"",IF(INDEX(Gastos!D8:D507,($B$4-1)*20+14)="","",INDEX(Gastos!D8:D507,($B$4-1)*20+14))),"Revisa página") | E21: =IF(AND(ISNUMBER($B$4),$B$4>=1,$B$4<=25,MOD($B$4,1)=0),IF(INDEX(Gastos!M8:M507,($B$4-1)*20+14)=0,"",IF(INDEX(Gastos!E8:E507,($B$4-1)*20+14)="","",INDEX(Gastos!E8:E507,($B$4-1)*20+14))),"Revisa página") | F21: =IF(AND(ISNUMBER($B$4),$B$4>=1,$B$4<=25,MOD($B$4,1)=0),IF(INDEX(Gastos!M8:M507,($B$4-1)*20+14)=0,"",IF(INDEX(Gastos!F8:F507,($B$4-1)*20+14)="","",INDEX(Gastos!F8:F507,($B$4-1)*20+14))),"Revisa página") | G21: =IF(AND(ISNUMBER($B$4),$B$4>=1,$B$4<=25,MOD($B$4,1)=0),IF(INDEX(Gastos!M8:M507,($B$4-1)*20+14)=0,"",IF(INDEX(Gastos!G8:G507,($B$4-1)*20+14)="","",INDEX(Gastos!G8:G507,($B$4-1)*20+14))),"Revisa página") | H21: =IF(AND(ISNUMBER($B$4),$B$4>=1,$B$4<=25,MOD($B$4,1)=0),IF(INDEX(Gastos!M8:M507,($B$4-1)*20+14)=0,"",IF(INDEX(Gastos!H8:H507,($B$4-1)*20+14)="","",INDEX(Gastos!H8:H507,($B$4-1)*20+14))),"Revisa página") | I21: =IF(AND(ISNUMBER($B$4),$B$4>=1,$B$4<=25,MOD($B$4,1)=0),IF(INDEX(Gastos!M8:M507,($B$4-1)*20+14)=0,"",IF(INDEX(Gastos!I8:I507,($B$4-1)*20+14)="","",INDEX(Gastos!I8:I507,($B$4-1)*20+14))),"Revisa página") | J21: =IF(AND(ISNUMBER($B$4),$B$4>=1,$B$4<=25,MOD($B$4,1)=0),IF(INDEX(Gastos!M8:M507,($B$4-1)*20+14)=0,"",IF(INDEX(Gastos!J8:J507,($B$4-1)*20+14)="","",INDEX(Gastos!J8:J507,($B$4-1)*20+14))),"Revisa página") | K21: =IF(AND(ISNUMBER($B$4),$B$4>=1,$B$4<=25,MOD($B$4,1)=0),IF(INDEX(Gastos!M8:M507,($B$4-1)*20+14)=0,"",IF(INDEX(Gastos!K8:K507,($B$4-1)*20+14)="","",INDEX(Gastos!K8:K507,($B$4-1)*20+14))),"Revisa página") | L21: =IF(AND(ISNUMBER($B$4),$B$4>=1,$B$4<=25,MOD($B$4,1)=0),IF(INDEX(Gastos!M8:M507,($B$4-1)*20+14)=0,"",IF(INDEX(Gastos!L8:L507,($B$4-1)*20+14)="","",INDEX(Gastos!L8:L507,($B$4-1)*20+14))),"Revisa página")
A22: =IF(AND(ISNUMBER($B$4),$B$4>=1,$B$4<=25,MOD($B$4,1)=0),IF(INDEX(Gastos!M8:M507,($B$4-1)*20+15)=0,"",IF(INDEX(Gastos!A8:A507,($B$4-1)*20+15)="","",INDEX(Gastos!A8:A507,($B$4-1)*20+15))),"Revisa página") | B22: =IF(AND(ISNUMBER($B$4),$B$4>=1,$B$4<=25,MOD($B$4,1)=0),IF(INDEX(Gastos!M8:M507,($B$4-1)*20+15)=0,"",IF(INDEX(Gastos!B8:B507,($B$4-1)*20+15)="","",INDEX(Gastos!B8:B507,($B$4-1)*20+15))),"Revisa página") | C22: =IF(AND(ISNUMBER($B$4),$B$4>=1,$B$4<=25,MOD($B$4,1)=0),IF(INDEX(Gastos!M8:M507,($B$4-1)*20+15)=0,"",IF(INDEX(Gastos!C8:C507,($B$4-1)*20+15)="","",INDEX(Gastos!C8:C507,($B$4-1)*20+15))),"Revisa página") | D22: =IF(AND(ISNUMBER($B$4),$B$4>=1,$B$4<=25,MOD($B$4,1)=0),IF(INDEX(Gastos!M8:M507,($B$4-1)*20+15)=0,"",IF(INDEX(Gastos!D8:D507,($B$4-1)*20+15)="","",INDEX(Gastos!D8:D507,($B$4-1)*20+15))),"Revisa página") | E22: =IF(AND(ISNUMBER($B$4),$B$4>=1,$B$4<=25,MOD($B$4,1)=0),IF(INDEX(Gastos!M8:M507,($B$4-1)*20+15)=0,"",IF(INDEX(Gastos!E8:E507,($B$4-1)*20+15)="","",INDEX(Gastos!E8:E507,($B$4-1)*20+15))),"Revisa página") | F22: =IF(AND(ISNUMBER($B$4),$B$4>=1,$B$4<=25,MOD($B$4,1)=0),IF(INDEX(Gastos!M8:M507,($B$4-1)*20+15)=0,"",IF(INDEX(Gastos!F8:F507,($B$4-1)*20+15)="","",INDEX(Gastos!F8:F507,($B$4-1)*20+15))),"Revisa página") | G22: =IF(AND(ISNUMBER($B$4),$B$4>=1,$B$4<=25,MOD($B$4,1)=0),IF(INDEX(Gastos!M8:M507,($B$4-1)*20+15)=0,"",IF(INDEX(Gastos!G8:G507,($B$4-1)*20+15)="","",INDEX(Gastos!G8:G507,($B$4-1)*20+15))),"Revisa página") | H22: =IF(AND(ISNUMBER($B$4),$B$4>=1,$B$4<=25,MOD($B$4,1)=0),IF(INDEX(Gastos!M8:M507,($B$4-1)*20+15)=0,"",IF(INDEX(Gastos!H8:H507,($B$4-1)*20+15)="","",INDEX(Gastos!H8:H507,($B$4-1)*20+15))),"Revisa página") | I22: =IF(AND(ISNUMBER($B$4),$B$4>=1,$B$4<=25,MOD($B$4,1)=0),IF(INDEX(Gastos!M8:M507,($B$4-1)*20+15)=0,"",IF(INDEX(Gastos!I8:I507,($B$4-1)*20+15)="","",INDEX(Gastos!I8:I507,($B$4-1)*20+15))),"Revisa página") | J22: =IF(AND(ISNUMBER($B$4),$B$4>=1,$B$4<=25,MOD($B$4,1)=0),IF(INDEX(Gastos!M8:M507,($B$4-1)*20+15)=0,"",IF(INDEX(Gastos!J8:J507,($B$4-1)*20+15)="","",INDEX(Gastos!J8:J507,($B$4-1)*20+15))),"Revisa página") | K22: =IF(AND(ISNUMBER($B$4),$B$4>=1,$B$4<=25,MOD($B$4,1)=0),IF(INDEX(Gastos!M8:M507,($B$4-1)*20+15)=0,"",IF(INDEX(Gastos!K8:K507,($B$4-1)*20+15)="","",INDEX(Gastos!K8:K507,($B$4-1)*20+15))),"Revisa página") | L22: =IF(AND(ISNUMBER($B$4),$B$4>=1,$B$4<=25,MOD($B$4,1)=0),IF(INDEX(Gastos!M8:M507,($B$4-1)*20+15)=0,"",IF(INDEX(Gastos!L8:L507,($B$4-1)*20+15)="","",INDEX(Gastos!L8:L507,($B$4-1)*20+15))),"Revisa página")
A23: =IF(AND(ISNUMBER($B$4),$B$4>=1,$B$4<=25,MOD($B$4,1)=0),IF(INDEX(Gastos!M8:M507,($B$4-1)*20+16)=0,"",IF(INDEX(Gastos!A8:A507,($B$4-1)*20+16)="","",INDEX(Gastos!A8:A507,($B$4-1)*20+16))),"Revisa página") | B23: =IF(AND(ISNUMBER($B$4),$B$4>=1,$B$4<=25,MOD($B$4,1)=0),IF(INDEX(Gastos!M8:M507,($B$4-1)*20+16)=0,"",IF(INDEX(Gastos!B8:B507,($B$4-1)*20+16)="","",INDEX(Gastos!B8:B507,($B$4-1)*20+16))),"Revisa página") | C23: =IF(AND(ISNUMBER($B$4),$B$4>=1,$B$4<=25,MOD($B$4,1)=0),IF(INDEX(Gastos!M8:M507,($B$4-1)*20+16)=0,"",IF(INDEX(Gastos!C8:C507,($B$4-1)*20+16)="","",INDEX(Gastos!C8:C507,($B$4-1)*20+16))),"Revisa página") | D23: =IF(AND(ISNUMBER($B$4),$B$4>=1,$B$4<=25,MOD($B$4,1)=0),IF(INDEX(Gastos!M8:M507,($B$4-1)*20+16)=0,"",IF(INDEX(Gastos!D8:D507,($B$4-1)*20+16)="","",INDEX(Gastos!D8:D507,($B$4-1)*20+16))),"Revisa página") | E23: =IF(AND(ISNUMBER($B$4),$B$4>=1,$B$4<=25,MOD($B$4,1)=0),IF(INDEX(Gastos!M8:M507,($B$4-1)*20+16)=0,"",IF(INDEX(Gastos!E8:E507,($B$4-1)*20+16)="","",INDEX(Gastos!E8:E507,($B$4-1)*20+16))),"Revisa página") | F23: =IF(AND(ISNUMBER($B$4),$B$4>=1,$B$4<=25,MOD($B$4,1)=0),IF(INDEX(Gastos!M8:M507,($B$4-1)*20+16)=0,"",IF(INDEX(Gastos!F8:F507,($B$4-1)*20+16)="","",INDEX(Gastos!F8:F507,($B$4-1)*20+16))),"Revisa página") | G23: =IF(AND(ISNUMBER($B$4),$B$4>=1,$B$4<=25,MOD($B$4,1)=0),IF(INDEX(Gastos!M8:M507,($B$4-1)*20+16)=0,"",IF(INDEX(Gastos!G8:G507,($B$4-1)*20+16)="","",INDEX(Gastos!G8:G507,($B$4-1)*20+16))),"Revisa página") | H23: =IF(AND(ISNUMBER($B$4),$B$4>=1,$B$4<=25,MOD($B$4,1)=0),IF(INDEX(Gastos!M8:M507,($B$4-1)*20+16)=0,"",IF(INDEX(Gastos!H8:H507,($B$4-1)*20+16)="","",INDEX(Gastos!H8:H507,($B$4-1)*20+16))),"Revisa página") | I23: =IF(AND(ISNUMBER($B$4),$B$4>=1,$B$4<=25,MOD($B$4,1)=0),IF(INDEX(Gastos!M8:M507,($B$4-1)*20+16)=0,"",IF(INDEX(Gastos!I8:I507,($B$4-1)*20+16)="","",INDEX(Gastos!I8:I507,($B$4-1)*20+16))),"Revisa página") | J23: =IF(AND(ISNUMBER($B$4),$B$4>=1,$B$4<=25,MOD($B$4,1)=0),IF(INDEX(Gastos!M8:M507,($B$4-1)*20+16)=0,"",IF(INDEX(Gastos!J8:J507,($B$4-1)*20+16)="","",INDEX(Gastos!J8:J507,($B$4-1)*20+16))),"Revisa página") | K23: =IF(AND(ISNUMBER($B$4),$B$4>=1,$B$4<=25,MOD($B$4,1)=0),IF(INDEX(Gastos!M8:M507,($B$4-1)*20+16)=0,"",IF(INDEX(Gastos!K8:K507,($B$4-1)*20+16)="","",INDEX(Gastos!K8:K507,($B$4-1)*20+16))),"Revisa página") | L23: =IF(AND(ISNUMBER($B$4),$B$4>=1,$B$4<=25,MOD($B$4,1)=0),IF(INDEX(Gastos!M8:M507,($B$4-1)*20+16)=0,"",IF(INDEX(Gastos!L8:L507,($B$4-1)*20+16)="","",INDEX(Gastos!L8:L507,($B$4-1)*20+16))),"Revisa página")
A24: =IF(AND(ISNUMBER($B$4),$B$4>=1,$B$4<=25,MOD($B$4,1)=0),IF(INDEX(Gastos!M8:M507,($B$4-1)*20+17)=0,"",IF(INDEX(Gastos!A8:A507,($B$4-1)*20+17)="","",INDEX(Gastos!A8:A507,($B$4-1)*20+17))),"Revisa página") | B24: =IF(AND(ISNUMBER($B$4),$B$4>=1,$B$4<=25,MOD($B$4,1)=0),IF(INDEX(Gastos!M8:M507,($B$4-1)*20+17)=0,"",IF(INDEX(Gastos!B8:B507,($B$4-1)*20+17)="","",INDEX(Gastos!B8:B507,($B$4-1)*20+17))),"Revisa página") | C24: =IF(AND(ISNUMBER($B$4),$B$4>=1,$B$4<=25,MOD($B$4,1)=0),IF(INDEX(Gastos!M8:M507,($B$4-1)*20+17)=0,"",IF(INDEX(Gastos!C8:C507,($B$4-1)*20+17)="","",INDEX(Gastos!C8:C507,($B$4-1)*20+17))),"Revisa página") | D24: =IF(AND(ISNUMBER($B$4),$B$4>=1,$B$4<=25,MOD($B$4,1)=0),IF(INDEX(Gastos!M8:M507,($B$4-1)*20+17)=0,"",IF(INDEX(Gastos!D8:D507,($B$4-1)*20+17)="","",INDEX(Gastos!D8:D507,($B$4-1)*20+17))),"Revisa página") | E24: =IF(AND(ISNUMBER($B$4),$B$4>=1,$B$4<=25,MOD($B$4,1)=0),IF(INDEX(Gastos!M8:M507,($B$4-1)*20+17)=0,"",IF(INDEX(Gastos!E8:E507,($B$4-1)*20+17)="","",INDEX(Gastos!E8:E507,($B$4-1)*20+17))),"Revisa página") | F24: =IF(AND(ISNUMBER($B$4),$B$4>=1,$B$4<=25,MOD($B$4,1)=0),IF(INDEX(Gastos!M8:M507,($B$4-1)*20+17)=0,"",IF(INDEX(Gastos!F8:F507,($B$4-1)*20+17)="","",INDEX(Gastos!F8:F507,($B$4-1)*20+17))),"Revisa página") | G24: =IF(AND(ISNUMBER($B$4),$B$4>=1,$B$4<=25,MOD($B$4,1)=0),IF(INDEX(Gastos!M8:M507,($B$4-1)*20+17)=0,"",IF(INDEX(Gastos!G8:G507,($B$4-1)*20+17)="","",INDEX(Gastos!G8:G507,($B$4-1)*20+17))),"Revisa página") | H24: =IF(AND(ISNUMBER($B$4),$B$4>=1,$B$4<=25,MOD($B$4,1)=0),IF(INDEX(Gastos!M8:M507,($B$4-1)*20+17)=0,"",IF(INDEX(Gastos!H8:H507,($B$4-1)*20+17)="","",INDEX(Gastos!H8:H507,($B$4-1)*20+17))),"Revisa página") | I24: =IF(AND(ISNUMBER($B$4),$B$4>=1,$B$4<=25,MOD($B$4,1)=0),IF(INDEX(Gastos!M8:M507,($B$4-1)*20+17)=0,"",IF(INDEX(Gastos!I8:I507,($B$4-1)*20+17)="","",INDEX(Gastos!I8:I507,($B$4-1)*20+17))),"Revisa página") | J24: =IF(AND(ISNUMBER($B$4),$B$4>=1,$B$4<=25,MOD($B$4,1)=0),IF(INDEX(Gastos!M8:M507,($B$4-1)*20+17)=0,"",IF(INDEX(Gastos!J8:J507,($B$4-1)*20+17)="","",INDEX(Gastos!J8:J507,($B$4-1)*20+17))),"Revisa página") | K24: =IF(AND(ISNUMBER($B$4),$B$4>=1,$B$4<=25,MOD($B$4,1)=0),IF(INDEX(Gastos!M8:M507,($B$4-1)*20+17)=0,"",IF(INDEX(Gastos!K8:K507,($B$4-1)*20+17)="","",INDEX(Gastos!K8:K507,($B$4-1)*20+17))),"Revisa página") | L24: =IF(AND(ISNUMBER($B$4),$B$4>=1,$B$4<=25,MOD($B$4,1)=0),IF(INDEX(Gastos!M8:M507,($B$4-1)*20+17)=0,"",IF(INDEX(Gastos!L8:L507,($B$4-1)*20+17)="","",INDEX(Gastos!L8:L507,($B$4-1)*20+17))),"Revisa página")
