Workbook

Sheet Resumen
A2: Cada euro con un destino
A4: Moneda | B4: EUR | D4: Revisión | E4: 46311
A6: Ejemplo ficticio. Sustituye las entradas azules por tus datos.
A8: Dinero disponible para asignar | B8: =IF(COUNT(E8:E11)>0,SUM(E8:E11),"n.a.") -> 1800 | D8: Saldo al empezar | E8: 1800
A9: Total asignado | B9: =SUM(Asignacion!I8:I507) -> 1800 | D9: Cobro no incluido 1
A10: Pendiente de asignar | B10: =IF(ISNUMBER(B8),B8-B9,"n.a.") -> 0 | D10: Cobro no incluido 2
A11: Filas que revisar | B11: =COUNTIFS(Asignacion!D8:D507,"REVISAR*") -> 0 | D11: Cobro no incluido 3
A12: Estado del reparto | B12: =IF(NOT(ISNUMBER(B8)),"Introduce disponible",IF(B10<0,"Reasigna el exceso",IF(B10>0,"Asigna el resto","Todo asignado"))) -> Todo asignado
D13: Ejecutado / apartado | E13: =SUMIFS(Asignacion!J8:J507,Asignacion!D8:D507,"Correcto") -> 0
D15: Pendiente de ejecutar | E15: =SUM(Asignacion!K8:K507) -> 1800
A17: Destino del dinero | B17: Importe
A18: Gasto | B18: =SUMIFS(Asignacion!I8:I507,Asignacion!B8:B507,A18) -> 1350
A19: Reserva | B19: =SUMIFS(Asignacion!I8:I507,Asignacion!B8:B507,A19) -> 150
A20: Ahorro | B20: =SUMIFS(Asignacion!I8:I507,Asignacion!B8:B507,A20) -> 300

Sheet Asignacion
A2: Asigna gastos, reservas y ahorro
A5: 500 filas editables. Para imprimir los movimientos, usa la hoja Imprimir y su selector de página.
A7: Destino | B7: Tipo | C7: Asignado | D7: Control | E7: Objetivo reserva | F7: Ya guardado | G7: Vencimiento | H7: Reserva sugerida | I7: Asignación usada | J7: Ejecutado | K7: Por ejecutar | L7: Última fila usada
A8: Vivienda | B8: Gasto | C8: 700 | D8: =IF(COUNTA(A8:C8,E8:G8,J8)=0,"",IF(OR(A8="",AND(B8<>"Gasto",B8<>"Reserva",B8<>"Ahorro"),AND(NOT(ISNUMBER(C8)),NOT(AND(C8="",ISNUMBER(H8)))),AND(ISNUMBER(C8),C8<0),AND(J8<>"",OR(NOT(ISNUMBER(J8)),J8<0))),"REVISAR datos","Correcto")) -> Correcto | H8: =IF(AND(B8="Reserva",ISNUMBER(E8),E8>=0,ISNUMBER(F8),F8>=0,ISNUMBER(G8)),MAX(0,E8-F8)/MAX(1,(YEAR(G8)-YEAR(Resumen!$E$4))*12+MONTH(G8)-MONTH(Resumen!$E$4)),"n.a.") -> n.a. | I8: =IF(D8="Correcto",IF(ISNUMBER(C8),C8,H8),0) -> 700 | K8: =IF(D8="Correcto",I8-N(J8),0) -> 700 | L8: =IF(COUNTA(A8:C8,E8:G8,J8)>0,ROW(),0) -> 8
A9: Alimentación | B9: Gasto | C9: 300 | D9: =IF(COUNTA(A9:C9,E9:G9,J9)=0,"",IF(OR(A9="",AND(B9<>"Gasto",B9<>"Reserva",B9<>"Ahorro"),AND(NOT(ISNUMBER(C9)),NOT(AND(C9="",ISNUMBER(H9)))),AND(ISNUMBER(C9),C9<0),AND(J9<>"",OR(NOT(ISNUMBER(J9)),J9<0))),"REVISAR datos","Correcto")) -> Correcto | H9: =IF(AND(B9="Reserva",ISNUMBER(E9),E9>=0,ISNUMBER(F9),F9>=0,ISNUMBER(G9)),MAX(0,E9-F9)/MAX(1,(YEAR(G9)-YEAR(Resumen!$E$4))*12+MONTH(G9)-MONTH(Resumen!$E$4)),"n.a.") -> n.a. | I9: =IF(D9="Correcto",IF(ISNUMBER(C9),C9,H9),0) -> 300 | K9: =IF(D9="Correcto",I9-N(J9),0) -> 300 | L9: =IF(COUNTA(A9:C9,E9:G9,J9)>0,ROW(),0) -> 9
A10: Transporte | B10: Gasto | C10: 100 | D10: =IF(COUNTA(A10:C10,E10:G10,J10)=0,"",IF(OR(A10="",AND(B10<>"Gasto",B10<>"Reserva",B10<>"Ahorro"),AND(NOT(ISNUMBER(C10)),NOT(AND(C10="",ISNUMBER(H10)))),AND(ISNUMBER(C10),C10<0),AND(J10<>"",OR(NOT(ISNUMBER(J10)),J10<0))),"REVISAR datos","Correcto")) -> Correcto | H10: =IF(AND(B10="Reserva",ISNUMBER(E10),E10>=0,ISNUMBER(F10),F10>=0,ISNUMBER(G10)),MAX(0,E10-F10)/MAX(1,(YEAR(G10)-YEAR(Resumen!$E$4))*12+MONTH(G10)-MONTH(Resumen!$E$4)),"n.a.") -> n.a. | I10: =IF(D10="Correcto",IF(ISNUMBER(C10),C10,H10),0) -> 100 | K10: =IF(D10="Correcto",I10-N(J10),0) -> 100 | L10: =IF(COUNTA(A10:C10,E10:G10,J10)>0,ROW(),0) -> 10
A11: Suministros | B11: Gasto | C11: 150 | D11: =IF(COUNTA(A11:C11,E11:G11,J11)=0,"",IF(OR(A11="",AND(B11<>"Gasto",B11<>"Reserva",B11<>"Ahorro"),AND(NOT(ISNUMBER(C11)),NOT(AND(C11="",ISNUMBER(H11)))),AND(ISNUMBER(C11),C11<0),AND(J11<>"",OR(NOT(ISNUMBER(J11)),J11<0))),"REVISAR datos","Correcto")) -> Correcto | H11: =IF(AND(B11="Reserva",ISNUMBER(E11),E11>=0,ISNUMBER(F11),F11>=0,ISNUMBER(G11)),MAX(0,E11-F11)/MAX(1,(YEAR(G11)-YEAR(Resumen!$E$4))*12+MONTH(G11)-MONTH(Resumen!$E$4)),"n.a.") -> n.a. | I11: =IF(D11="Correcto",IF(ISNUMBER(C11),C11,H11),0) -> 150 | K11: =IF(D11="Correcto",I11-N(J11),0) -> 150 | L11: =IF(COUNTA(A11:C11,E11:G11,J11)>0,ROW(),0) -> 11
A12: Ocio | B12: Gasto | C12: 100 | D12: =IF(COUNTA(A12:C12,E12:G12,J12)=0,"",IF(OR(A12="",AND(B12<>"Gasto",B12<>"Reserva",B12<>"Ahorro"),AND(NOT(ISNUMBER(C12)),NOT(AND(C12="",ISNUMBER(H12)))),AND(ISNUMBER(C12),C12<0),AND(J12<>"",OR(NOT(ISNUMBER(J12)),J12<0))),"REVISAR datos","Correcto")) -> Correcto | H12: =IF(AND(B12="Reserva",ISNUMBER(E12),E12>=0,ISNUMBER(F12),F12>=0,ISNUMBER(G12)),MAX(0,E12-F12)/MAX(1,(YEAR(G12)-YEAR(Resumen!$E$4))*12+MONTH(G12)-MONTH(Resumen!$E$4)),"n.a.") -> n.a. | I12: =IF(D12="Correcto",IF(ISNUMBER(C12),C12,H12),0) -> 100 | K12: =IF(D12="Correcto",I12-N(J12),0) -> 100 | L12: =IF(COUNTA(A12:C12,E12:G12,J12)>0,ROW(),0) -> 12
A13: Seguro anual | B13: Reserva | C13: 150 | D13: =IF(COUNTA(A13:C13,E13:G13,J13)=0,"",IF(OR(A13="",AND(B13<>"Gasto",B13<>"Reserva",B13<>"Ahorro"),AND(NOT(ISNUMBER(C13)),NOT(AND(C13="",ISNUMBER(H13)))),AND(ISNUMBER(C13),C13<0),AND(J13<>"",OR(NOT(ISNUMBER(J13)),J13<0))),"REVISAR datos","Correcto")) -> Correcto | H13: =IF(AND(B13="Reserva",ISNUMBER(E13),E13>=0,ISNUMBER(F13),F13>=0,ISNUMBER(G13)),MAX(0,E13-F13)/MAX(1,(YEAR(G13)-YEAR(Resumen!$E$4))*12+MONTH(G13)-MONTH(Resumen!$E$4)),"n.a.") -> n.a. | I13: =IF(D13="Correcto",IF(ISNUMBER(C13),C13,H13),0) -> 150 | K13: =IF(D13="Correcto",I13-N(J13),0) -> 150 | L13: =IF(COUNTA(A13:C13,E13:G13,J13)>0,ROW(),0) -> 13
A14: Fondo de emergencia | B14: Ahorro | C14: 300 | D14: =IF(COUNTA(A14:C14,E14:G14,J14)=0,"",IF(OR(A14="",AND(B14<>"Gasto",B14<>"Reserva",B14<>"Ahorro"),AND(NOT(ISNUMBER(C14)),NOT(AND(C14="",ISNUMBER(H14)))),AND(ISNUMBER(C14),C14<0),AND(J14<>"",OR(NOT(ISNUMBER(J14)),J14<0))),"REVISAR datos","Correcto")) -> Correcto | H14: =IF(AND(B14="Reserva",ISNUMBER(E14),E14>=0,ISNUMBER(F14),F14>=0,ISNUMBER(G14)),MAX(0,E14-F14)/MAX(1,(YEAR(G14)-YEAR(Resumen!$E$4))*12+MONTH(G14)-MONTH(Resumen!$E$4)),"n.a.") -> n.a. | I14: =IF(D14="Correcto",IF(ISNUMBER(C14),C14,H14),0) -> 300 | K14: =IF(D14="Correcto",I14-N(J14),0) -> 300 | L14: =IF(COUNTA(A14:C14,E14:G14,J14)>0,ROW(),0) -> 14
D15: =IF(COUNTA(A15:C15,E15:G15,J15)=0,"",IF(OR(A15="",AND(B15<>"Gasto",B15<>"Reserva",B15<>"Ahorro"),AND(NOT(ISNUMBER(C15)),NOT(AND(C15="",ISNUMBER(H15)))),AND(ISNUMBER(C15),C15<0),AND(J15<>"",OR(NOT(ISNUMBER(J15)),J15<0))),"REVISAR datos","Correcto")) | H15: =IF(AND(B15="Reserva",ISNUMBER(E15),E15>=0,ISNUMBER(F15),F15>=0,ISNUMBER(G15)),MAX(0,E15-F15)/MAX(1,(YEAR(G15)-YEAR(Resumen!$E$4))*12+MONTH(G15)-MONTH(Resumen!$E$4)),"n.a.") -> n.a. | I15: =IF(D15="Correcto",IF(ISNUMBER(C15),C15,H15),0) -> 0 | K15: =IF(D15="Correcto",I15-N(J15),0) -> 0 | L15: =IF(COUNTA(A15:C15,E15:G15,J15)>0,ROW(),0) -> 0
D16: =IF(COUNTA(A16:C16,E16:G16,J16)=0,"",IF(OR(A16="",AND(B16<>"Gasto",B16<>"Reserva",B16<>"Ahorro"),AND(NOT(ISNUMBER(C16)),NOT(AND(C16="",ISNUMBER(H16)))),AND(ISNUMBER(C16),C16<0),AND(J16<>"",OR(NOT(ISNUMBER(J16)),J16<0))),"REVISAR datos","Correcto")) | H16: =IF(AND(B16="Reserva",ISNUMBER(E16),E16>=0,ISNUMBER(F16),F16>=0,ISNUMBER(G16)),MAX(0,E16-F16)/MAX(1,(YEAR(G16)-YEAR(Resumen!$E$4))*12+MONTH(G16)-MONTH(Resumen!$E$4)),"n.a.") -> n.a. | I16: =IF(D16="Correcto",IF(ISNUMBER(C16),C16,H16),0) -> 0 | K16: =IF(D16="Correcto",I16-N(J16),0) -> 0 | L16: =IF(COUNTA(A16:C16,E16:G16,J16)>0,ROW(),0) -> 0
D17: =IF(COUNTA(A17:C17,E17:G17,J17)=0,"",IF(OR(A17="",AND(B17<>"Gasto",B17<>"Reserva",B17<>"Ahorro"),AND(NOT(ISNUMBER(C17)),NOT(AND(C17="",ISNUMBER(H17)))),AND(ISNUMBER(C17),C17<0),AND(J17<>"",OR(NOT(ISNUMBER(J17)),J17<0))),"REVISAR datos","Correcto")) | H17: =IF(AND(B17="Reserva",ISNUMBER(E17),E17>=0,ISNUMBER(F17),F17>=0,ISNUMBER(G17)),MAX(0,E17-F17)/MAX(1,(YEAR(G17)-YEAR(Resumen!$E$4))*12+MONTH(G17)-MONTH(Resumen!$E$4)),"n.a.") -> n.a. | I17: =IF(D17="Correcto",IF(ISNUMBER(C17),C17,H17),0) -> 0 | K17: =IF(D17="Correcto",I17-N(J17),0) -> 0 | L17: =IF(COUNTA(A17:C17,E17:G17,J17)>0,ROW(),0) -> 0
D18: =IF(COUNTA(A18:C18,E18:G18,J18)=0,"",IF(OR(A18="",AND(B18<>"Gasto",B18<>"Reserva",B18<>"Ahorro"),AND(NOT(ISNUMBER(C18)),NOT(AND(C18="",ISNUMBER(H18)))),AND(ISNUMBER(C18),C18<0),AND(J18<>"",OR(NOT(ISNUMBER(J18)),J18<0))),"REVISAR datos","Correcto")) | H18: =IF(AND(B18="Reserva",ISNUMBER(E18),E18>=0,ISNUMBER(F18),F18>=0,ISNUMBER(G18)),MAX(0,E18-F18)/MAX(1,(YEAR(G18)-YEAR(Resumen!$E$4))*12+MONTH(G18)-MONTH(Resumen!$E$4)),"n.a.") -> n.a. | I18: =IF(D18="Correcto",IF(ISNUMBER(C18),C18,H18),0) -> 0 | K18: =IF(D18="Correcto",I18-N(J18),0) -> 0 | L18: =IF(COUNTA(A18:C18,E18:G18,J18)>0,ROW(),0) -> 0
D19: =IF(COUNTA(A19:C19,E19:G19,J19)=0,"",IF(OR(A19="",AND(B19<>"Gasto",B19<>"Reserva",B19<>"Ahorro"),AND(NOT(ISNUMBER(C19)),NOT(AND(C19="",ISNUMBER(H19)))),AND(ISNUMBER(C19),C19<0),AND(J19<>"",OR(NOT(ISNUMBER(J19)),J19<0))),"REVISAR datos","Correcto")) | H19: =IF(AND(B19="Reserva",ISNUMBER(E19),E19>=0,ISNUMBER(F19),F19>=0,ISNUMBER(G19)),MAX(0,E19-F19)/MAX(1,(YEAR(G19)-YEAR(Resumen!$E$4))*12+MONTH(G19)-MONTH(Resumen!$E$4)),"n.a.") -> n.a. | I19: =IF(D19="Correcto",IF(ISNUMBER(C19),C19,H19),0) -> 0 | K19: =IF(D19="Correcto",I19-N(J19),0) -> 0 | L19: =IF(COUNTA(A19:C19,E19:G19,J19)>0,ROW(),0) -> 0
D20: =IF(COUNTA(A20:C20,E20:G20,J20)=0,"",IF(OR(A20="",AND(B20<>"Gasto",B20<>"Reserva",B20<>"Ahorro"),AND(NOT(ISNUMBER(C20)),NOT(AND(C20="",ISNUMBER(H20)))),AND(ISNUMBER(C20),C20<0),AND(J20<>"",OR(NOT(ISNUMBER(J20)),J20<0))),"REVISAR datos","Correcto")) | H20: =IF(AND(B20="Reserva",ISNUMBER(E20),E20>=0,ISNUMBER(F20),F20>=0,ISNUMBER(G20)),MAX(0,E20-F20)/MAX(1,(YEAR(G20)-YEAR(Resumen!$E$4))*12+MONTH(G20)-MONTH(Resumen!$E$4)),"n.a.") -> n.a. | I20: =IF(D20="Correcto",IF(ISNUMBER(C20),C20,H20),0) -> 0 | K20: =IF(D20="Correcto",I20-N(J20),0) -> 0 | L20: =IF(COUNTA(A20:C20,E20:G20,J20)>0,ROW(),0) -> 0
D21: =IF(COUNTA(A21:C21,E21:G21,J21)=0,"",IF(OR(A21="",AND(B21<>"Gasto",B21<>"Reserva",B21<>"Ahorro"),AND(NOT(ISNUMBER(C21)),NOT(AND(C21="",ISNUMBER(H21)))),AND(ISNUMBER(C21),C21<0),AND(J21<>"",OR(NOT(ISNUMBER(J21)),J21<0))),"REVISAR datos","Correcto")) | H21: =IF(AND(B21="Reserva",ISNUMBER(E21),E21>=0,ISNUMBER(F21),F21>=0,ISNUMBER(G21)),MAX(0,E21-F21)/MAX(1,(YEAR(G21)-YEAR(Resumen!$E$4))*12+MONTH(G21)-MONTH(Resumen!$E$4)),"n.a.") -> n.a. | I21: =IF(D21="Correcto",IF(ISNUMBER(C21),C21,H21),0) -> 0 | K21: =IF(D21="Correcto",I21-N(J21),0) -> 0 | L21: =IF(COUNTA(A21:C21,E21:G21,J21)>0,ROW(),0) -> 0
D22: =IF(COUNTA(A22:C22,E22:G22,J22)=0,"",IF(OR(A22="",AND(B22<>"Gasto",B22<>"Reserva",B22<>"Ahorro"),AND(NOT(ISNUMBER(C22)),NOT(AND(C22="",ISNUMBER(H22)))),AND(ISNUMBER(C22),C22<0),AND(J22<>"",OR(NOT(ISNUMBER(J22)),J22<0))),"REVISAR datos","Correcto")) | H22: =IF(AND(B22="Reserva",ISNUMBER(E22),E22>=0,ISNUMBER(F22),F22>=0,ISNUMBER(G22)),MAX(0,E22-F22)/MAX(1,(YEAR(G22)-YEAR(Resumen!$E$4))*12+MONTH(G22)-MONTH(Resumen!$E$4)),"n.a.") -> n.a. | I22: =IF(D22="Correcto",IF(ISNUMBER(C22),C22,H22),0) -> 0 | K22: =IF(D22="Correcto",I22-N(J22),0) -> 0 | L22: =IF(COUNTA(A22:C22,E22:G22,J22)>0,ROW(),0) -> 0
D23: =IF(COUNTA(A23:C23,E23:G23,J23)=0,"",IF(OR(A23="",AND(B23<>"Gasto",B23<>"Reserva",B23<>"Ahorro"),AND(NOT(ISNUMBER(C23)),NOT(AND(C23="",ISNUMBER(H23)))),AND(ISNUMBER(C23),C23<0),AND(J23<>"",OR(NOT(ISNUMBER(J23)),J23<0))),"REVISAR datos","Correcto")) | H23: =IF(AND(B23="Reserva",ISNUMBER(E23),E23>=0,ISNUMBER(F23),F23>=0,ISNUMBER(G23)),MAX(0,E23-F23)/MAX(1,(YEAR(G23)-YEAR(Resumen!$E$4))*12+MONTH(G23)-MONTH(Resumen!$E$4)),"n.a.") -> n.a. | I23: =IF(D23="Correcto",IF(ISNUMBER(C23),C23,H23),0) -> 0 | K23: =IF(D23="Correcto",I23-N(J23),0) -> 0 | L23: =IF(COUNTA(A23:C23,E23:G23,J23)>0,ROW(),0) -> 0
D24: =IF(COUNTA(A24:C24,E24:G24,J24)=0,"",IF(OR(A24="",AND(B24<>"Gasto",B24<>"Reserva",B24<>"Ahorro"),AND(NOT(ISNUMBER(C24)),NOT(AND(C24="",ISNUMBER(H24)))),AND(ISNUMBER(C24),C24<0),AND(J24<>"",OR(NOT(ISNUMBER(J24)),J24<0))),"REVISAR datos","Correcto")) | H24: =IF(AND(B24="Reserva",ISNUMBER(E24),E24>=0,ISNUMBER(F24),F24>=0,ISNUMBER(G24)),MAX(0,E24-F24)/MAX(1,(YEAR(G24)-YEAR(Resumen!$E$4))*12+MONTH(G24)-MONTH(Resumen!$E$4)),"n.a.") -> n.a. | I24: =IF(D24="Correcto",IF(ISNUMBER(C24),C24,H24),0) -> 0 | K24: =IF(D24="Correcto",I24-N(J24),0) -> 0 | L24: =IF(COUNTA(A24:C24,E24:G24,J24)>0,ROW(),0) -> 0
D25: =IF(COUNTA(A25:C25,E25:G25,J25)=0,"",IF(OR(A25="",AND(B25<>"Gasto",B25<>"Reserva",B25<>"Ahorro"),AND(NOT(ISNUMBER(C25)),NOT(AND(C25="",ISNUMBER(H25)))),AND(ISNUMBER(C25),C25<0),AND(J25<>"",OR(NOT(ISNUMBER(J25)),J25<0))),"REVISAR datos","Correcto")) | H25: =IF(AND(B25="Reserva",ISNUMBER(E25),E25>=0,ISNUMBER(F25),F25>=0,ISNUMBER(G25)),MAX(0,E25-F25)/MAX(1,(YEAR(G25)-YEAR(Resumen!$E$4))*12+MONTH(G25)-MONTH(Resumen!$E$4)),"n.a.") -> n.a. | I25: =IF(D25="Correcto",IF(ISNUMBER(C25),C25,H25),0) -> 0 | K25: =IF(D25="Correcto",I25-N(J25),0) -> 0 | L25: =IF(COUNTA(A25:C25,E25:G25,J25)>0,ROW(),0) -> 0
D26: =IF(COUNTA(A26:C26,E26:G26,J26)=0,"",IF(OR(A26="",AND(B26<>"Gasto",B26<>"Reserva",B26<>"Ahorro"),AND(NOT(ISNUMBER(C26)),NOT(AND(C26="",ISNUMBER(H26)))),AND(ISNUMBER(C26),C26<0),AND(J26<>"",OR(NOT(ISNUMBER(J26)),J26<0))),"REVISAR datos","Correcto")) | H26: =IF(AND(B26="Reserva",ISNUMBER(E26),E26>=0,ISNUMBER(F26),F26>=0,ISNUMBER(G26)),MAX(0,E26-F26)/MAX(1,(YEAR(G26)-YEAR(Resumen!$E$4))*12+MONTH(G26)-MONTH(Resumen!$E$4)),"n.a.") -> n.a. | I26: =IF(D26="Correcto",IF(ISNUMBER(C26),C26,H26),0) -> 0 | K26: =IF(D26="Correcto",I26-N(J26),0) -> 0 | L26: =IF(COUNTA(A26:C26,E26:G26,J26)>0,ROW(),0) -> 0
... D507: =IF(COUNTA(A507:C507,E507:G507,J507)=0,"",IF(OR(A507="",AND(B507<>"Gasto",B507<>"Reserva",B507<>"Ahorro"),AND(NOT(ISNUMBER(C507)),NOT(AND(C507="",ISNUMBER(H507)))),AND(ISNUMBER(C507),C507<0),AND(J507<>"",OR(NOT(ISNUMBER(J507)),J507<0))),"REVISAR datos","Correcto")) | H507: =IF(AND(B507="Reserva",ISNUMBER(E507),E507>=0,ISNUMBER(F507),F507>=0,ISNUMBER(G507)),MAX(0,E507-F507)/MAX(1,(YEAR(G507)-YEAR(Resumen!$E$4))*12+MONTH(G507)-MONTH(Resumen!$E$4)),"n.a.") -> n.a. | I507: =IF(D507="Correcto",IF(ISNUMBER(C507),C507,H507),0) -> 0 | K507: =IF(D507="Correcto",I507-N(J507),0) -> 0 | L507: =IF(COUNTA(A507:C507,E507:G507,J507)>0,ROW(),0) -> 0

Sheet Ayuda
B2: Cómo usar esta herramienta
B5: Calcula Disponible con saldo al empezar y cobros que aún no estén incluidos en ese saldo.
B6: Asigna gastos, reservas y ahorro. Pendiente cero significa que cada euro tiene destino, aunque no lo hayas pagado.
B7: En una Reserva puedes dejar Asignado vacío y completar objetivo, ya guardado y vencimiento: se calcula la aportación mensual.
B8: La reserva sugerida reparte lo que falta entre meses hasta el vencimiento, con mínimo de un mes. Una fecha vencida exige revisar el pago ahora.
B9: Ejecutado incluye gasto pagado o dinero efectivamente apartado, según el tipo. Se compara con la asignación, sin volver a sumar ingresos.
B10: Para mover dinero entre destinos usa sobres. Conserva las dos tareas: preparar el plan y ejecutarlo.
B11: Las celdas con fondo azul son editables. Fórmulas protegidas sin contraseña.
B12: Importes de ejemplo ficticios. Cada archivo vacío conserva solo ajustes y fórmulas.
B13: Pruebas de cálculo en LibreOffice. Excel 365, móvil y Google Sheets pendientes.
B14: PlantillasyPortadas · https://plantillasyportadas.com/ · 16/10/2026
A15: Impresión: en Imprimir elige página 1–25 e imprime la hoja activa. El registro original solo ofrece una vista parcial.

Sheet Imprimir
A2: Registro: página de movimientos
A4: Página (1 a 25) | B4: 1 | D4: Páginas con datos | E4: =MAX(1,ROUNDUP((MAX(14,MAX(Asignacion!$L$8:$L$507))-7)/20,0)) -> 1
A5: Imprime esta hoja. Cambia Página para recorrer el registro: veinte filas por página.
A7: =Asignacion!A7 -> Destino | B7: =Asignacion!B7 -> Tipo | C7: =Asignacion!C7 -> Asignado | D7: =Asignacion!D7 -> Control | E7: =Asignacion!E7 -> Objetivo reserva | F7: =Asignacion!F7 -> Ya guardado | G7: =Asignacion!G7 -> Vencimiento | H7: =Asignacion!H7 -> Reserva sugerida | ... K7: =Asignacion!K7 -> Por ejecutar
A8: =IF(AND(ISNUMBER($B$4),$B$4>=1,$B$4<=25,MOD($B$4,1)=0),IF(INDEX(Asignacion!L8:L507,($B$4-1)*20+1)=0,"",IF(INDEX(Asignacion!A8:A507,($B$4-1)*20+1)="","",INDEX(Asignacion!A8:A507,($B$4-1)*20+1))),"Revisa página") -> Vivienda | B8: =IF(AND(ISNUMBER($B$4),$B$4>=1,$B$4<=25,MOD($B$4,1)=0),IF(INDEX(Asignacion!L8:L507,($B$4-1)*20+1)=0,"",IF(INDEX(Asignacion!B8:B507,($B$4-1)*20+1)="","",INDEX(Asignacion!B8:B507,($B$4-1)*20+1))),"Revisa página") -> Gasto | C8: =IF(AND(ISNUMBER($B$4),$B$4>=1,$B$4<=25,MOD($B$4,1)=0),IF(INDEX(Asignacion!L8:L507,($B$4-1)*20+1)=0,"",IF(INDEX(Asignacion!C8:C507,($B$4-1)*20+1)="","",INDEX(Asignacion!C8:C507,($B$4-1)*20+1))),"Revisa página") -> 700 | D8: =IF(AND(ISNUMBER($B$4),$B$4>=1,$B$4<=25,MOD($B$4,1)=0),IF(INDEX(Asignacion!L8:L507,($B$4-1)*20+1)=0,"",IF(INDEX(Asignacion!D8:D507,($B$4-1)*20+1)="","",INDEX(Asignacion!D8:D507,($B$4-1)*20+1))),"Revisa página") -> Correcto | E8: =IF(AND(ISNUMBER($B$4),$B$4>=1,$B$4<=25,MOD($B$4,1)=0),IF(INDEX(Asignacion!L8:L507,($B$4-1)*20+1)=0,"",IF(INDEX(Asignacion!E8:E507,($B$4-1)*20+1)="","",INDEX(Asignacion!E8:E507,($B$4-1)*20+1))),"Revisa página") | F8: =IF(AND(ISNUMBER($B$4),$B$4>=1,$B$4<=25,MOD($B$4,1)=0),IF(INDEX(Asignacion!L8:L507,($B$4-1)*20+1)=0,"",IF(INDEX(Asignacion!F8:F507,($B$4-1)*20+1)="","",INDEX(Asignacion!F8:F507,($B$4-1)*20+1))),"Revisa página") | G8: =IF(AND(ISNUMBER($B$4),$B$4>=1,$B$4<=25,MOD($B$4,1)=0),IF(INDEX(Asignacion!L8:L507,($B$4-1)*20+1)=0,"",IF(INDEX(Asignacion!G8:G507,($B$4-1)*20+1)="","",INDEX(Asignacion!G8:G507,($B$4-1)*20+1))),"Revisa página") | H8: =IF(AND(ISNUMBER($B$4),$B$4>=1,$B$4<=25,MOD($B$4,1)=0),IF(INDEX(Asignacion!L8:L507,($B$4-1)*20+1)=0,"",IF(INDEX(Asignacion!H8:H507,($B$4-1)*20+1)="","",INDEX(Asignacion!H8:H507,($B$4-1)*20+1))),"Revisa página") -> n.a. | I8: =IF(AND(ISNUMBER($B$4),$B$4>=1,$B$4<=25,MOD($B$4,1)=0),IF(INDEX(Asignacion!L8:L507,($B$4-1)*20+1)=0,"",IF(INDEX(Asignacion!I8:I507,($B$4-1)*20+1)="","",INDEX(Asignacion!I8:I507,($B$4-1)*20+1))),"Revisa página") -> 700 | J8: =IF(AND(ISNUMBER($B$4),$B$4>=1,$B$4<=25,MOD($B$4,1)=0),IF(INDEX(Asignacion!L8:L507,($B$4-1)*20+1)=0,"",IF(INDEX(Asignacion!J8:J507,($B$4-1)*20+1)="","",INDEX(Asignacion!J8:J507,($B$4-1)*20+1))),"Revisa página") | K8: =IF(AND(ISNUMBER($B$4),$B$4>=1,$B$4<=25,MOD($B$4,1)=0),IF(INDEX(Asignacion!L8:L507,($B$4-1)*20+1)=0,"",IF(INDEX(Asignacion!K8:K507,($B$4-1)*20+1)="","",INDEX(Asignacion!K8:K507,($B$4-1)*20+1))),"Revisa página") -> 700
A9: =IF(AND(ISNUMBER($B$4),$B$4>=1,$B$4<=25,MOD($B$4,1)=0),IF(INDEX(Asignacion!L8:L507,($B$4-1)*20+2)=0,"",IF(INDEX(Asignacion!A8:A507,($B$4-1)*20+2)="","",INDEX(Asignacion!A8:A507,($B$4-1)*20+2))),"Revisa página") -> Alimentación | B9: =IF(AND(ISNUMBER($B$4),$B$4>=1,$B$4<=25,MOD($B$4,1)=0),IF(INDEX(Asignacion!L8:L507,($B$4-1)*20+2)=0,"",IF(INDEX(Asignacion!B8:B507,($B$4-1)*20+2)="","",INDEX(Asignacion!B8:B507,($B$4-1)*20+2))),"Revisa página") -> Gasto | C9: =IF(AND(ISNUMBER($B$4),$B$4>=1,$B$4<=25,MOD($B$4,1)=0),IF(INDEX(Asignacion!L8:L507,($B$4-1)*20+2)=0,"",IF(INDEX(Asignacion!C8:C507,($B$4-1)*20+2)="","",INDEX(Asignacion!C8:C507,($B$4-1)*20+2))),"Revisa página") -> 300 | D9: =IF(AND(ISNUMBER($B$4),$B$4>=1,$B$4<=25,MOD($B$4,1)=0),IF(INDEX(Asignacion!L8:L507,($B$4-1)*20+2)=0,"",IF(INDEX(Asignacion!D8:D507,($B$4-1)*20+2)="","",INDEX(Asignacion!D8:D507,($B$4-1)*20+2))),"Revisa página") -> Correcto | E9: =IF(AND(ISNUMBER($B$4),$B$4>=1,$B$4<=25,MOD($B$4,1)=0),IF(INDEX(Asignacion!L8:L507,($B$4-1)*20+2)=0,"",IF(INDEX(Asignacion!E8:E507,($B$4-1)*20+2)="","",INDEX(Asignacion!E8:E507,($B$4-1)*20+2))),"Revisa página") | F9: =IF(AND(ISNUMBER($B$4),$B$4>=1,$B$4<=25,MOD($B$4,1)=0),IF(INDEX(Asignacion!L8:L507,($B$4-1)*20+2)=0,"",IF(INDEX(Asignacion!F8:F507,($B$4-1)*20+2)="","",INDEX(Asignacion!F8:F507,($B$4-1)*20+2))),"Revisa página") | G9: =IF(AND(ISNUMBER($B$4),$B$4>=1,$B$4<=25,MOD($B$4,1)=0),IF(INDEX(Asignacion!L8:L507,($B$4-1)*20+2)=0,"",IF(INDEX(Asignacion!G8:G507,($B$4-1)*20+2)="","",INDEX(Asignacion!G8:G507,($B$4-1)*20+2))),"Revisa página") | H9: =IF(AND(ISNUMBER($B$4),$B$4>=1,$B$4<=25,MOD($B$4,1)=0),IF(INDEX(Asignacion!L8:L507,($B$4-1)*20+2)=0,"",IF(INDEX(Asignacion!H8:H507,($B$4-1)*20+2)="","",INDEX(Asignacion!H8:H507,($B$4-1)*20+2))),"Revisa página") -> n.a. | I9: =IF(AND(ISNUMBER($B$4),$B$4>=1,$B$4<=25,MOD($B$4,1)=0),IF(INDEX(Asignacion!L8:L507,($B$4-1)*20+2)=0,"",IF(INDEX(Asignacion!I8:I507,($B$4-1)*20+2)="","",INDEX(Asignacion!I8:I507,($B$4-1)*20+2))),"Revisa página") -> 300 | J9: =IF(AND(ISNUMBER($B$4),$B$4>=1,$B$4<=25,MOD($B$4,1)=0),IF(INDEX(Asignacion!L8:L507,($B$4-1)*20+2)=0,"",IF(INDEX(Asignacion!J8:J507,($B$4-1)*20+2)="","",INDEX(Asignacion!J8:J507,($B$4-1)*20+2))),"Revisa página") | K9: =IF(AND(ISNUMBER($B$4),$B$4>=1,$B$4<=25,MOD($B$4,1)=0),IF(INDEX(Asignacion!L8:L507,($B$4-1)*20+2)=0,"",IF(INDEX(Asignacion!K8:K507,($B$4-1)*20+2)="","",INDEX(Asignacion!K8:K507,($B$4-1)*20+2))),"Revisa página") -> 300
A10: =IF(AND(ISNUMBER($B$4),$B$4>=1,$B$4<=25,MOD($B$4,1)=0),IF(INDEX(Asignacion!L8:L507,($B$4-1)*20+3)=0,"",IF(INDEX(Asignacion!A8:A507,($B$4-1)*20+3)="","",INDEX(Asignacion!A8:A507,($B$4-1)*20+3))),"Revisa página") -> Transporte | B10: =IF(AND(ISNUMBER($B$4),$B$4>=1,$B$4<=25,MOD($B$4,1)=0),IF(INDEX(Asignacion!L8:L507,($B$4-1)*20+3)=0,"",IF(INDEX(Asignacion!B8:B507,($B$4-1)*20+3)="","",INDEX(Asignacion!B8:B507,($B$4-1)*20+3))),"Revisa página") -> Gasto | C10: =IF(AND(ISNUMBER($B$4),$B$4>=1,$B$4<=25,MOD($B$4,1)=0),IF(INDEX(Asignacion!L8:L507,($B$4-1)*20+3)=0,"",IF(INDEX(Asignacion!C8:C507,($B$4-1)*20+3)="","",INDEX(Asignacion!C8:C507,($B$4-1)*20+3))),"Revisa página") -> 100 | D10: =IF(AND(ISNUMBER($B$4),$B$4>=1,$B$4<=25,MOD($B$4,1)=0),IF(INDEX(Asignacion!L8:L507,($B$4-1)*20+3)=0,"",IF(INDEX(Asignacion!D8:D507,($B$4-1)*20+3)="","",INDEX(Asignacion!D8:D507,($B$4-1)*20+3))),"Revisa página") -> Correcto | E10: =IF(AND(ISNUMBER($B$4),$B$4>=1,$B$4<=25,MOD($B$4,1)=0),IF(INDEX(Asignacion!L8:L507,($B$4-1)*20+3)=0,"",IF(INDEX(Asignacion!E8:E507,($B$4-1)*20+3)="","",INDEX(Asignacion!E8:E507,($B$4-1)*20+3))),"Revisa página") | F10: =IF(AND(ISNUMBER($B$4),$B$4>=1,$B$4<=25,MOD($B$4,1)=0),IF(INDEX(Asignacion!L8:L507,($B$4-1)*20+3)=0,"",IF(INDEX(Asignacion!F8:F507,($B$4-1)*20+3)="","",INDEX(Asignacion!F8:F507,($B$4-1)*20+3))),"Revisa página") | G10: =IF(AND(ISNUMBER($B$4),$B$4>=1,$B$4<=25,MOD($B$4,1)=0),IF(INDEX(Asignacion!L8:L507,($B$4-1)*20+3)=0,"",IF(INDEX(Asignacion!G8:G507,($B$4-1)*20+3)="","",INDEX(Asignacion!G8:G507,($B$4-1)*20+3))),"Revisa página") | H10: =IF(AND(ISNUMBER($B$4),$B$4>=1,$B$4<=25,MOD($B$4,1)=0),IF(INDEX(Asignacion!L8:L507,($B$4-1)*20+3)=0,"",IF(INDEX(Asignacion!H8:H507,($B$4-1)*20+3)="","",INDEX(Asignacion!H8:H507,($B$4-1)*20+3))),"Revisa página") -> n.a. | I10: =IF(AND(ISNUMBER($B$4),$B$4>=1,$B$4<=25,MOD($B$4,1)=0),IF(INDEX(Asignacion!L8:L507,($B$4-1)*20+3)=0,"",IF(INDEX(Asignacion!I8:I507,($B$4-1)*20+3)="","",INDEX(Asignacion!I8:I507,($B$4-1)*20+3))),"Revisa página") -> 100 | J10: =IF(AND(ISNUMBER($B$4),$B$4>=1,$B$4<=25,MOD($B$4,1)=0),IF(INDEX(Asignacion!L8:L507,($B$4-1)*20+3)=0,"",IF(INDEX(Asignacion!J8:J507,($B$4-1)*20+3)="","",INDEX(Asignacion!J8:J507,($B$4-1)*20+3))),"Revisa página") | K10: =IF(AND(ISNUMBER($B$4),$B$4>=1,$B$4<=25,MOD($B$4,1)=0),IF(INDEX(Asignacion!L8:L507,($B$4-1)*20+3)=0,"",IF(INDEX(Asignacion!K8:K507,($B$4-1)*20+3)="","",INDEX(Asignacion!K8:K507,($B$4-1)*20+3))),"Revisa página") -> 100
A11: =IF(AND(ISNUMBER($B$4),$B$4>=1,$B$4<=25,MOD($B$4,1)=0),IF(INDEX(Asignacion!L8:L507,($B$4-1)*20+4)=0,"",IF(INDEX(Asignacion!A8:A507,($B$4-1)*20+4)="","",INDEX(Asignacion!A8:A507,($B$4-1)*20+4))),"Revisa página") -> Suministros | B11: =IF(AND(ISNUMBER($B$4),$B$4>=1,$B$4<=25,MOD($B$4,1)=0),IF(INDEX(Asignacion!L8:L507,($B$4-1)*20+4)=0,"",IF(INDEX(Asignacion!B8:B507,($B$4-1)*20+4)="","",INDEX(Asignacion!B8:B507,($B$4-1)*20+4))),"Revisa página") -> Gasto | C11: =IF(AND(ISNUMBER($B$4),$B$4>=1,$B$4<=25,MOD($B$4,1)=0),IF(INDEX(Asignacion!L8:L507,($B$4-1)*20+4)=0,"",IF(INDEX(Asignacion!C8:C507,($B$4-1)*20+4)="","",INDEX(Asignacion!C8:C507,($B$4-1)*20+4))),"Revisa página") -> 150 | D11: =IF(AND(ISNUMBER($B$4),$B$4>=1,$B$4<=25,MOD($B$4,1)=0),IF(INDEX(Asignacion!L8:L507,($B$4-1)*20+4)=0,"",IF(INDEX(Asignacion!D8:D507,($B$4-1)*20+4)="","",INDEX(Asignacion!D8:D507,($B$4-1)*20+4))),"Revisa página") -> Correcto | E11: =IF(AND(ISNUMBER($B$4),$B$4>=1,$B$4<=25,MOD($B$4,1)=0),IF(INDEX(Asignacion!L8:L507,($B$4-1)*20+4)=0,"",IF(INDEX(Asignacion!E8:E507,($B$4-1)*20+4)="","",INDEX(Asignacion!E8:E507,($B$4-1)*20+4))),"Revisa página") | F11: =IF(AND(ISNUMBER($B$4),$B$4>=1,$B$4<=25,MOD($B$4,1)=0),IF(INDEX(Asignacion!L8:L507,($B$4-1)*20+4)=0,"",IF(INDEX(Asignacion!F8:F507,($B$4-1)*20+4)="","",INDEX(Asignacion!F8:F507,($B$4-1)*20+4))),"Revisa página") | G11: =IF(AND(ISNUMBER($B$4),$B$4>=1,$B$4<=25,MOD($B$4,1)=0),IF(INDEX(Asignacion!L8:L507,($B$4-1)*20+4)=0,"",IF(INDEX(Asignacion!G8:G507,($B$4-1)*20+4)="","",INDEX(Asignacion!G8:G507,($B$4-1)*20+4))),"Revisa página") | H11: =IF(AND(ISNUMBER($B$4),$B$4>=1,$B$4<=25,MOD($B$4,1)=0),IF(INDEX(Asignacion!L8:L507,($B$4-1)*20+4)=0,"",IF(INDEX(Asignacion!H8:H507,($B$4-1)*20+4)="","",INDEX(Asignacion!H8:H507,($B$4-1)*20+4))),"Revisa página") -> n.a. | I11: =IF(AND(ISNUMBER($B$4),$B$4>=1,$B$4<=25,MOD($B$4,1)=0),IF(INDEX(Asignacion!L8:L507,($B$4-1)*20+4)=0,"",IF(INDEX(Asignacion!I8:I507,($B$4-1)*20+4)="","",INDEX(Asignacion!I8:I507,($B$4-1)*20+4))),"Revisa página") -> 150 | J11: =IF(AND(ISNUMBER($B$4),$B$4>=1,$B$4<=25,MOD($B$4,1)=0),IF(INDEX(Asignacion!L8:L507,($B$4-1)*20+4)=0,"",IF(INDEX(Asignacion!J8:J507,($B$4-1)*20+4)="","",INDEX(Asignacion!J8:J507,($B$4-1)*20+4))),"Revisa página") | K11: =IF(AND(ISNUMBER($B$4),$B$4>=1,$B$4<=25,MOD($B$4,1)=0),IF(INDEX(Asignacion!L8:L507,($B$4-1)*20+4)=0,"",IF(INDEX(Asignacion!K8:K507,($B$4-1)*20+4)="","",INDEX(Asignacion!K8:K507,($B$4-1)*20+4))),"Revisa página") -> 150
A12: =IF(AND(ISNUMBER($B$4),$B$4>=1,$B$4<=25,MOD($B$4,1)=0),IF(INDEX(Asignacion!L8:L507,($B$4-1)*20+5)=0,"",IF(INDEX(Asignacion!A8:A507,($B$4-1)*20+5)="","",INDEX(Asignacion!A8:A507,($B$4-1)*20+5))),"Revisa página") -> Ocio | B12: =IF(AND(ISNUMBER($B$4),$B$4>=1,$B$4<=25,MOD($B$4,1)=0),IF(INDEX(Asignacion!L8:L507,($B$4-1)*20+5)=0,"",IF(INDEX(Asignacion!B8:B507,($B$4-1)*20+5)="","",INDEX(Asignacion!B8:B507,($B$4-1)*20+5))),"Revisa página") -> Gasto | C12: =IF(AND(ISNUMBER($B$4),$B$4>=1,$B$4<=25,MOD($B$4,1)=0),IF(INDEX(Asignacion!L8:L507,($B$4-1)*20+5)=0,"",IF(INDEX(Asignacion!C8:C507,($B$4-1)*20+5)="","",INDEX(Asignacion!C8:C507,($B$4-1)*20+5))),"Revisa página") -> 100 | D12: =IF(AND(ISNUMBER($B$4),$B$4>=1,$B$4<=25,MOD($B$4,1)=0),IF(INDEX(Asignacion!L8:L507,($B$4-1)*20+5)=0,"",IF(INDEX(Asignacion!D8:D507,($B$4-1)*20+5)="","",INDEX(Asignacion!D8:D507,($B$4-1)*20+5))),"Revisa página") -> Correcto | E12: =IF(AND(ISNUMBER($B$4),$B$4>=1,$B$4<=25,MOD($B$4,1)=0),IF(INDEX(Asignacion!L8:L507,($B$4-1)*20+5)=0,"",IF(INDEX(Asignacion!E8:E507,($B$4-1)*20+5)="","",INDEX(Asignacion!E8:E507,($B$4-1)*20+5))),"Revisa página") | F12: =IF(AND(ISNUMBER($B$4),$B$4>=1,$B$4<=25,MOD($B$4,1)=0),IF(INDEX(Asignacion!L8:L507,($B$4-1)*20+5)=0,"",IF(INDEX(Asignacion!F8:F507,($B$4-1)*20+5)="","",INDEX(Asignacion!F8:F507,($B$4-1)*20+5))),"Revisa página") | G12: =IF(AND(ISNUMBER($B$4),$B$4>=1,$B$4<=25,MOD($B$4,1)=0),IF(INDEX(Asignacion!L8:L507,($B$4-1)*20+5)=0,"",IF(INDEX(Asignacion!G8:G507,($B$4-1)*20+5)="","",INDEX(Asignacion!G8:G507,($B$4-1)*20+5))),"Revisa página") | H12: =IF(AND(ISNUMBER($B$4),$B$4>=1,$B$4<=25,MOD($B$4,1)=0),IF(INDEX(Asignacion!L8:L507,($B$4-1)*20+5)=0,"",IF(INDEX(Asignacion!H8:H507,($B$4-1)*20+5)="","",INDEX(Asignacion!H8:H507,($B$4-1)*20+5))),"Revisa página") -> n.a. | I12: =IF(AND(ISNUMBER($B$4),$B$4>=1,$B$4<=25,MOD($B$4,1)=0),IF(INDEX(Asignacion!L8:L507,($B$4-1)*20+5)=0,"",IF(INDEX(Asignacion!I8:I507,($B$4-1)*20+5)="","",INDEX(Asignacion!I8:I507,($B$4-1)*20+5))),"Revisa página") -> 100 | J12: =IF(AND(ISNUMBER($B$4),$B$4>=1,$B$4<=25,MOD($B$4,1)=0),IF(INDEX(Asignacion!L8:L507,($B$4-1)*20+5)=0,"",IF(INDEX(Asignacion!J8:J507,($B$4-1)*20+5)="","",INDEX(Asignacion!J8:J507,($B$4-1)*20+5))),"Revisa página") | K12: =IF(AND(ISNUMBER($B$4),$B$4>=1,$B$4<=25,MOD($B$4,1)=0),IF(INDEX(Asignacion!L8:L507,($B$4-1)*20+5)=0,"",IF(INDEX(Asignacion!K8:K507,($B$4-1)*20+5)="","",INDEX(Asignacion!K8:K507,($B$4-1)*20+5))),"Revisa página") -> 100
A13: =IF(AND(ISNUMBER($B$4),$B$4>=1,$B$4<=25,MOD($B$4,1)=0),IF(INDEX(Asignacion!L8:L507,($B$4-1)*20+6)=0,"",IF(INDEX(Asignacion!A8:A507,($B$4-1)*20+6)="","",INDEX(Asignacion!A8:A507,($B$4-1)*20+6))),"Revisa página") -> Seguro anual | B13: =IF(AND(ISNUMBER($B$4),$B$4>=1,$B$4<=25,MOD($B$4,1)=0),IF(INDEX(Asignacion!L8:L507,($B$4-1)*20+6)=0,"",IF(INDEX(Asignacion!B8:B507,($B$4-1)*20+6)="","",INDEX(Asignacion!B8:B507,($B$4-1)*20+6))),"Revisa página") -> Reserva | C13: =IF(AND(ISNUMBER($B$4),$B$4>=1,$B$4<=25,MOD($B$4,1)=0),IF(INDEX(Asignacion!L8:L507,($B$4-1)*20+6)=0,"",IF(INDEX(Asignacion!C8:C507,($B$4-1)*20+6)="","",INDEX(Asignacion!C8:C507,($B$4-1)*20+6))),"Revisa página") -> 150 | D13: =IF(AND(ISNUMBER($B$4),$B$4>=1,$B$4<=25,MOD($B$4,1)=0),IF(INDEX(Asignacion!L8:L507,($B$4-1)*20+6)=0,"",IF(INDEX(Asignacion!D8:D507,($B$4-1)*20+6)="","",INDEX(Asignacion!D8:D507,($B$4-1)*20+6))),"Revisa página") -> Correcto | E13: =IF(AND(ISNUMBER($B$4),$B$4>=1,$B$4<=25,MOD($B$4,1)=0),IF(INDEX(Asignacion!L8:L507,($B$4-1)*20+6)=0,"",IF(INDEX(Asignacion!E8:E507,($B$4-1)*20+6)="","",INDEX(Asignacion!E8:E507,($B$4-1)*20+6))),"Revisa página") | F13: =IF(AND(ISNUMBER($B$4),$B$4>=1,$B$4<=25,MOD($B$4,1)=0),IF(INDEX(Asignacion!L8:L507,($B$4-1)*20+6)=0,"",IF(INDEX(Asignacion!F8:F507,($B$4-1)*20+6)="","",INDEX(Asignacion!F8:F507,($B$4-1)*20+6))),"Revisa página") | G13: =IF(AND(ISNUMBER($B$4),$B$4>=1,$B$4<=25,MOD($B$4,1)=0),IF(INDEX(Asignacion!L8:L507,($B$4-1)*20+6)=0,"",IF(INDEX(Asignacion!G8:G507,($B$4-1)*20+6)="","",INDEX(Asignacion!G8:G507,($B$4-1)*20+6))),"Revisa página") | H13: =IF(AND(ISNUMBER($B$4),$B$4>=1,$B$4<=25,MOD($B$4,1)=0),IF(INDEX(Asignacion!L8:L507,($B$4-1)*20+6)=0,"",IF(INDEX(Asignacion!H8:H507,($B$4-1)*20+6)="","",INDEX(Asignacion!H8:H507,($B$4-1)*20+6))),"Revisa página") -> n.a. | I13: =IF(AND(ISNUMBER($B$4),$B$4>=1,$B$4<=25,MOD($B$4,1)=0),IF(INDEX(Asignacion!L8:L507,($B$4-1)*20+6)=0,"",IF(INDEX(Asignacion!I8:I507,($B$4-1)*20+6)="","",INDEX(Asignacion!I8:I507,($B$4-1)*20+6))),"Revisa página") -> 150 | J13: =IF(AND(ISNUMBER($B$4),$B$4>=1,$B$4<=25,MOD($B$4,1)=0),IF(INDEX(Asignacion!L8:L507,($B$4-1)*20+6)=0,"",IF(INDEX(Asignacion!J8:J507,($B$4-1)*20+6)="","",INDEX(Asignacion!J8:J507,($B$4-1)*20+6))),"Revisa página") | K13: =IF(AND(ISNUMBER($B$4),$B$4>=1,$B$4<=25,MOD($B$4,1)=0),IF(INDEX(Asignacion!L8:L507,($B$4-1)*20+6)=0,"",IF(INDEX(Asignacion!K8:K507,($B$4-1)*20+6)="","",INDEX(Asignacion!K8:K507,($B$4-1)*20+6))),"Revisa página") -> 150
A14: =IF(AND(ISNUMBER($B$4),$B$4>=1,$B$4<=25,MOD($B$4,1)=0),IF(INDEX(Asignacion!L8:L507,($B$4-1)*20+7)=0,"",IF(INDEX(Asignacion!A8:A507,($B$4-1)*20+7)="","",INDEX(Asignacion!A8:A507,($B$4-1)*20+7))),"Revisa página") -> Fondo de emergencia | B14: =IF(AND(ISNUMBER($B$4),$B$4>=1,$B$4<=25,MOD($B$4,1)=0),IF(INDEX(Asignacion!L8:L507,($B$4-1)*20+7)=0,"",IF(INDEX(Asignacion!B8:B507,($B$4-1)*20+7)="","",INDEX(Asignacion!B8:B507,($B$4-1)*20+7))),"Revisa página") -> Ahorro | C14: =IF(AND(ISNUMBER($B$4),$B$4>=1,$B$4<=25,MOD($B$4,1)=0),IF(INDEX(Asignacion!L8:L507,($B$4-1)*20+7)=0,"",IF(INDEX(Asignacion!C8:C507,($B$4-1)*20+7)="","",INDEX(Asignacion!C8:C507,($B$4-1)*20+7))),"Revisa página") -> 300 | D14: =IF(AND(ISNUMBER($B$4),$B$4>=1,$B$4<=25,MOD($B$4,1)=0),IF(INDEX(Asignacion!L8:L507,($B$4-1)*20+7)=0,"",IF(INDEX(Asignacion!D8:D507,($B$4-1)*20+7)="","",INDEX(Asignacion!D8:D507,($B$4-1)*20+7))),"Revisa página") -> Correcto | E14: =IF(AND(ISNUMBER($B$4),$B$4>=1,$B$4<=25,MOD($B$4,1)=0),IF(INDEX(Asignacion!L8:L507,($B$4-1)*20+7)=0,"",IF(INDEX(Asignacion!E8:E507,($B$4-1)*20+7)="","",INDEX(Asignacion!E8:E507,($B$4-1)*20+7))),"Revisa página") | F14: =IF(AND(ISNUMBER($B$4),$B$4>=1,$B$4<=25,MOD($B$4,1)=0),IF(INDEX(Asignacion!L8:L507,($B$4-1)*20+7)=0,"",IF(INDEX(Asignacion!F8:F507,($B$4-1)*20+7)="","",INDEX(Asignacion!F8:F507,($B$4-1)*20+7))),"Revisa página") | G14: =IF(AND(ISNUMBER($B$4),$B$4>=1,$B$4<=25,MOD($B$4,1)=0),IF(INDEX(Asignacion!L8:L507,($B$4-1)*20+7)=0,"",IF(INDEX(Asignacion!G8:G507,($B$4-1)*20+7)="","",INDEX(Asignacion!G8:G507,($B$4-1)*20+7))),"Revisa página") | H14: =IF(AND(ISNUMBER($B$4),$B$4>=1,$B$4<=25,MOD($B$4,1)=0),IF(INDEX(Asignacion!L8:L507,($B$4-1)*20+7)=0,"",IF(INDEX(Asignacion!H8:H507,($B$4-1)*20+7)="","",INDEX(Asignacion!H8:H507,($B$4-1)*20+7))),"Revisa página") -> n.a. | I14: =IF(AND(ISNUMBER($B$4),$B$4>=1,$B$4<=25,MOD($B$4,1)=0),IF(INDEX(Asignacion!L8:L507,($B$4-1)*20+7)=0,"",IF(INDEX(Asignacion!I8:I507,($B$4-1)*20+7)="","",INDEX(Asignacion!I8:I507,($B$4-1)*20+7))),"Revisa página") -> 300 | J14: =IF(AND(ISNUMBER($B$4),$B$4>=1,$B$4<=25,MOD($B$4,1)=0),IF(INDEX(Asignacion!L8:L507,($B$4-1)*20+7)=0,"",IF(INDEX(Asignacion!J8:J507,($B$4-1)*20+7)="","",INDEX(Asignacion!J8:J507,($B$4-1)*20+7))),"Revisa página") | K14: =IF(AND(ISNUMBER($B$4),$B$4>=1,$B$4<=25,MOD($B$4,1)=0),IF(INDEX(Asignacion!L8:L507,($B$4-1)*20+7)=0,"",IF(INDEX(Asignacion!K8:K507,($B$4-1)*20+7)="","",INDEX(Asignacion!K8:K507,($B$4-1)*20+7))),"Revisa página") -> 300
A15: =IF(AND(ISNUMBER($B$4),$B$4>=1,$B$4<=25,MOD($B$4,1)=0),IF(INDEX(Asignacion!L8:L507,($B$4-1)*20+8)=0,"",IF(INDEX(Asignacion!A8:A507,($B$4-1)*20+8)="","",INDEX(Asignacion!A8:A507,($B$4-1)*20+8))),"Revisa página") | B15: =IF(AND(ISNUMBER($B$4),$B$4>=1,$B$4<=25,MOD($B$4,1)=0),IF(INDEX(Asignacion!L8:L507,($B$4-1)*20+8)=0,"",IF(INDEX(Asignacion!B8:B507,($B$4-1)*20+8)="","",INDEX(Asignacion!B8:B507,($B$4-1)*20+8))),"Revisa página") | C15: =IF(AND(ISNUMBER($B$4),$B$4>=1,$B$4<=25,MOD($B$4,1)=0),IF(INDEX(Asignacion!L8:L507,($B$4-1)*20+8)=0,"",IF(INDEX(Asignacion!C8:C507,($B$4-1)*20+8)="","",INDEX(Asignacion!C8:C507,($B$4-1)*20+8))),"Revisa página") | D15: =IF(AND(ISNUMBER($B$4),$B$4>=1,$B$4<=25,MOD($B$4,1)=0),IF(INDEX(Asignacion!L8:L507,($B$4-1)*20+8)=0,"",IF(INDEX(Asignacion!D8:D507,($B$4-1)*20+8)="","",INDEX(Asignacion!D8:D507,($B$4-1)*20+8))),"Revisa página") | E15: =IF(AND(ISNUMBER($B$4),$B$4>=1,$B$4<=25,MOD($B$4,1)=0),IF(INDEX(Asignacion!L8:L507,($B$4-1)*20+8)=0,"",IF(INDEX(Asignacion!E8:E507,($B$4-1)*20+8)="","",INDEX(Asignacion!E8:E507,($B$4-1)*20+8))),"Revisa página") | F15: =IF(AND(ISNUMBER($B$4),$B$4>=1,$B$4<=25,MOD($B$4,1)=0),IF(INDEX(Asignacion!L8:L507,($B$4-1)*20+8)=0,"",IF(INDEX(Asignacion!F8:F507,($B$4-1)*20+8)="","",INDEX(Asignacion!F8:F507,($B$4-1)*20+8))),"Revisa página") | G15: =IF(AND(ISNUMBER($B$4),$B$4>=1,$B$4<=25,MOD($B$4,1)=0),IF(INDEX(Asignacion!L8:L507,($B$4-1)*20+8)=0,"",IF(INDEX(Asignacion!G8:G507,($B$4-1)*20+8)="","",INDEX(Asignacion!G8:G507,($B$4-1)*20+8))),"Revisa página") | H15: =IF(AND(ISNUMBER($B$4),$B$4>=1,$B$4<=25,MOD($B$4,1)=0),IF(INDEX(Asignacion!L8:L507,($B$4-1)*20+8)=0,"",IF(INDEX(Asignacion!H8:H507,($B$4-1)*20+8)="","",INDEX(Asignacion!H8:H507,($B$4-1)*20+8))),"Revisa página") | I15: =IF(AND(ISNUMBER($B$4),$B$4>=1,$B$4<=25,MOD($B$4,1)=0),IF(INDEX(Asignacion!L8:L507,($B$4-1)*20+8)=0,"",IF(INDEX(Asignacion!I8:I507,($B$4-1)*20+8)="","",INDEX(Asignacion!I8:I507,($B$4-1)*20+8))),"Revisa página") | J15: =IF(AND(ISNUMBER($B$4),$B$4>=1,$B$4<=25,MOD($B$4,1)=0),IF(INDEX(Asignacion!L8:L507,($B$4-1)*20+8)=0,"",IF(INDEX(Asignacion!J8:J507,($B$4-1)*20+8)="","",INDEX(Asignacion!J8:J507,($B$4-1)*20+8))),"Revisa página") | K15: =IF(AND(ISNUMBER($B$4),$B$4>=1,$B$4<=25,MOD($B$4,1)=0),IF(INDEX(Asignacion!L8:L507,($B$4-1)*20+8)=0,"",IF(INDEX(Asignacion!K8:K507,($B$4-1)*20+8)="","",INDEX(Asignacion!K8:K507,($B$4-1)*20+8))),"Revisa página")
A16: =IF(AND(ISNUMBER($B$4),$B$4>=1,$B$4<=25,MOD($B$4,1)=0),IF(INDEX(Asignacion!L8:L507,($B$4-1)*20+9)=0,"",IF(INDEX(Asignacion!A8:A507,($B$4-1)*20+9)="","",INDEX(Asignacion!A8:A507,($B$4-1)*20+9))),"Revisa página") | B16: =IF(AND(ISNUMBER($B$4),$B$4>=1,$B$4<=25,MOD($B$4,1)=0),IF(INDEX(Asignacion!L8:L507,($B$4-1)*20+9)=0,"",IF(INDEX(Asignacion!B8:B507,($B$4-1)*20+9)="","",INDEX(Asignacion!B8:B507,($B$4-1)*20+9))),"Revisa página") | C16: =IF(AND(ISNUMBER($B$4),$B$4>=1,$B$4<=25,MOD($B$4,1)=0),IF(INDEX(Asignacion!L8:L507,($B$4-1)*20+9)=0,"",IF(INDEX(Asignacion!C8:C507,($B$4-1)*20+9)="","",INDEX(Asignacion!C8:C507,($B$4-1)*20+9))),"Revisa página") | D16: =IF(AND(ISNUMBER($B$4),$B$4>=1,$B$4<=25,MOD($B$4,1)=0),IF(INDEX(Asignacion!L8:L507,($B$4-1)*20+9)=0,"",IF(INDEX(Asignacion!D8:D507,($B$4-1)*20+9)="","",INDEX(Asignacion!D8:D507,($B$4-1)*20+9))),"Revisa página") | E16: =IF(AND(ISNUMBER($B$4),$B$4>=1,$B$4<=25,MOD($B$4,1)=0),IF(INDEX(Asignacion!L8:L507,($B$4-1)*20+9)=0,"",IF(INDEX(Asignacion!E8:E507,($B$4-1)*20+9)="","",INDEX(Asignacion!E8:E507,($B$4-1)*20+9))),"Revisa página") | F16: =IF(AND(ISNUMBER($B$4),$B$4>=1,$B$4<=25,MOD($B$4,1)=0),IF(INDEX(Asignacion!L8:L507,($B$4-1)*20+9)=0,"",IF(INDEX(Asignacion!F8:F507,($B$4-1)*20+9)="","",INDEX(Asignacion!F8:F507,($B$4-1)*20+9))),"Revisa página") | G16: =IF(AND(ISNUMBER($B$4),$B$4>=1,$B$4<=25,MOD($B$4,1)=0),IF(INDEX(Asignacion!L8:L507,($B$4-1)*20+9)=0,"",IF(INDEX(Asignacion!G8:G507,($B$4-1)*20+9)="","",INDEX(Asignacion!G8:G507,($B$4-1)*20+9))),"Revisa página") | H16: =IF(AND(ISNUMBER($B$4),$B$4>=1,$B$4<=25,MOD($B$4,1)=0),IF(INDEX(Asignacion!L8:L507,($B$4-1)*20+9)=0,"",IF(INDEX(Asignacion!H8:H507,($B$4-1)*20+9)="","",INDEX(Asignacion!H8:H507,($B$4-1)*20+9))),"Revisa página") | I16: =IF(AND(ISNUMBER($B$4),$B$4>=1,$B$4<=25,MOD($B$4,1)=0),IF(INDEX(Asignacion!L8:L507,($B$4-1)*20+9)=0,"",IF(INDEX(Asignacion!I8:I507,($B$4-1)*20+9)="","",INDEX(Asignacion!I8:I507,($B$4-1)*20+9))),"Revisa página") | J16: =IF(AND(ISNUMBER($B$4),$B$4>=1,$B$4<=25,MOD($B$4,1)=0),IF(INDEX(Asignacion!L8:L507,($B$4-1)*20+9)=0,"",IF(INDEX(Asignacion!J8:J507,($B$4-1)*20+9)="","",INDEX(Asignacion!J8:J507,($B$4-1)*20+9))),"Revisa página") | K16: =IF(AND(ISNUMBER($B$4),$B$4>=1,$B$4<=25,MOD($B$4,1)=0),IF(INDEX(Asignacion!L8:L507,($B$4-1)*20+9)=0,"",IF(INDEX(Asignacion!K8:K507,($B$4-1)*20+9)="","",INDEX(Asignacion!K8:K507,($B$4-1)*20+9))),"Revisa página")
A17: =IF(AND(ISNUMBER($B$4),$B$4>=1,$B$4<=25,MOD($B$4,1)=0),IF(INDEX(Asignacion!L8:L507,($B$4-1)*20+10)=0,"",IF(INDEX(Asignacion!A8:A507,($B$4-1)*20+10)="","",INDEX(Asignacion!A8:A507,($B$4-1)*20+10))),"Revisa página") | B17: =IF(AND(ISNUMBER($B$4),$B$4>=1,$B$4<=25,MOD($B$4,1)=0),IF(INDEX(Asignacion!L8:L507,($B$4-1)*20+10)=0,"",IF(INDEX(Asignacion!B8:B507,($B$4-1)*20+10)="","",INDEX(Asignacion!B8:B507,($B$4-1)*20+10))),"Revisa página") | C17: =IF(AND(ISNUMBER($B$4),$B$4>=1,$B$4<=25,MOD($B$4,1)=0),IF(INDEX(Asignacion!L8:L507,($B$4-1)*20+10)=0,"",IF(INDEX(Asignacion!C8:C507,($B$4-1)*20+10)="","",INDEX(Asignacion!C8:C507,($B$4-1)*20+10))),"Revisa página") | D17: =IF(AND(ISNUMBER($B$4),$B$4>=1,$B$4<=25,MOD($B$4,1)=0),IF(INDEX(Asignacion!L8:L507,($B$4-1)*20+10)=0,"",IF(INDEX(Asignacion!D8:D507,($B$4-1)*20+10)="","",INDEX(Asignacion!D8:D507,($B$4-1)*20+10))),"Revisa página") | E17: =IF(AND(ISNUMBER($B$4),$B$4>=1,$B$4<=25,MOD($B$4,1)=0),IF(INDEX(Asignacion!L8:L507,($B$4-1)*20+10)=0,"",IF(INDEX(Asignacion!E8:E507,($B$4-1)*20+10)="","",INDEX(Asignacion!E8:E507,($B$4-1)*20+10))),"Revisa página") | F17: =IF(AND(ISNUMBER($B$4),$B$4>=1,$B$4<=25,MOD($B$4,1)=0),IF(INDEX(Asignacion!L8:L507,($B$4-1)*20+10)=0,"",IF(INDEX(Asignacion!F8:F507,($B$4-1)*20+10)="","",INDEX(Asignacion!F8:F507,($B$4-1)*20+10))),"Revisa página") | G17: =IF(AND(ISNUMBER($B$4),$B$4>=1,$B$4<=25,MOD($B$4,1)=0),IF(INDEX(Asignacion!L8:L507,($B$4-1)*20+10)=0,"",IF(INDEX(Asignacion!G8:G507,($B$4-1)*20+10)="","",INDEX(Asignacion!G8:G507,($B$4-1)*20+10))),"Revisa página") | H17: =IF(AND(ISNUMBER($B$4),$B$4>=1,$B$4<=25,MOD($B$4,1)=0),IF(INDEX(Asignacion!L8:L507,($B$4-1)*20+10)=0,"",IF(INDEX(Asignacion!H8:H507,($B$4-1)*20+10)="","",INDEX(Asignacion!H8:H507,($B$4-1)*20+10))),"Revisa página") | I17: =IF(AND(ISNUMBER($B$4),$B$4>=1,$B$4<=25,MOD($B$4,1)=0),IF(INDEX(Asignacion!L8:L507,($B$4-1)*20+10)=0,"",IF(INDEX(Asignacion!I8:I507,($B$4-1)*20+10)="","",INDEX(Asignacion!I8:I507,($B$4-1)*20+10))),"Revisa página") | J17: =IF(AND(ISNUMBER($B$4),$B$4>=1,$B$4<=25,MOD($B$4,1)=0),IF(INDEX(Asignacion!L8:L507,($B$4-1)*20+10)=0,"",IF(INDEX(Asignacion!J8:J507,($B$4-1)*20+10)="","",INDEX(Asignacion!J8:J507,($B$4-1)*20+10))),"Revisa página") | K17: =IF(AND(ISNUMBER($B$4),$B$4>=1,$B$4<=25,MOD($B$4,1)=0),IF(INDEX(Asignacion!L8:L507,($B$4-1)*20+10)=0,"",IF(INDEX(Asignacion!K8:K507,($B$4-1)*20+10)="","",INDEX(Asignacion!K8:K507,($B$4-1)*20+10))),"Revisa página")
A18: =IF(AND(ISNUMBER($B$4),$B$4>=1,$B$4<=25,MOD($B$4,1)=0),IF(INDEX(Asignacion!L8:L507,($B$4-1)*20+11)=0,"",IF(INDEX(Asignacion!A8:A507,($B$4-1)*20+11)="","",INDEX(Asignacion!A8:A507,($B$4-1)*20+11))),"Revisa página") | B18: =IF(AND(ISNUMBER($B$4),$B$4>=1,$B$4<=25,MOD($B$4,1)=0),IF(INDEX(Asignacion!L8:L507,($B$4-1)*20+11)=0,"",IF(INDEX(Asignacion!B8:B507,($B$4-1)*20+11)="","",INDEX(Asignacion!B8:B507,($B$4-1)*20+11))),"Revisa página") | C18: =IF(AND(ISNUMBER($B$4),$B$4>=1,$B$4<=25,MOD($B$4,1)=0),IF(INDEX(Asignacion!L8:L507,($B$4-1)*20+11)=0,"",IF(INDEX(Asignacion!C8:C507,($B$4-1)*20+11)="","",INDEX(Asignacion!C8:C507,($B$4-1)*20+11))),"Revisa página") | D18: =IF(AND(ISNUMBER($B$4),$B$4>=1,$B$4<=25,MOD($B$4,1)=0),IF(INDEX(Asignacion!L8:L507,($B$4-1)*20+11)=0,"",IF(INDEX(Asignacion!D8:D507,($B$4-1)*20+11)="","",INDEX(Asignacion!D8:D507,($B$4-1)*20+11))),"Revisa página") | E18: =IF(AND(ISNUMBER($B$4),$B$4>=1,$B$4<=25,MOD($B$4,1)=0),IF(INDEX(Asignacion!L8:L507,($B$4-1)*20+11)=0,"",IF(INDEX(Asignacion!E8:E507,($B$4-1)*20+11)="","",INDEX(Asignacion!E8:E507,($B$4-1)*20+11))),"Revisa página") | F18: =IF(AND(ISNUMBER($B$4),$B$4>=1,$B$4<=25,MOD($B$4,1)=0),IF(INDEX(Asignacion!L8:L507,($B$4-1)*20+11)=0,"",IF(INDEX(Asignacion!F8:F507,($B$4-1)*20+11)="","",INDEX(Asignacion!F8:F507,($B$4-1)*20+11))),"Revisa página") | G18: =IF(AND(ISNUMBER($B$4),$B$4>=1,$B$4<=25,MOD($B$4,1)=0),IF(INDEX(Asignacion!L8:L507,($B$4-1)*20+11)=0,"",IF(INDEX(Asignacion!G8:G507,($B$4-1)*20+11)="","",INDEX(Asignacion!G8:G507,($B$4-1)*20+11))),"Revisa página") | H18: =IF(AND(ISNUMBER($B$4),$B$4>=1,$B$4<=25,MOD($B$4,1)=0),IF(INDEX(Asignacion!L8:L507,($B$4-1)*20+11)=0,"",IF(INDEX(Asignacion!H8:H507,($B$4-1)*20+11)="","",INDEX(Asignacion!H8:H507,($B$4-1)*20+11))),"Revisa página") | I18: =IF(AND(ISNUMBER($B$4),$B$4>=1,$B$4<=25,MOD($B$4,1)=0),IF(INDEX(Asignacion!L8:L507,($B$4-1)*20+11)=0,"",IF(INDEX(Asignacion!I8:I507,($B$4-1)*20+11)="","",INDEX(Asignacion!I8:I507,($B$4-1)*20+11))),"Revisa página") | J18: =IF(AND(ISNUMBER($B$4),$B$4>=1,$B$4<=25,MOD($B$4,1)=0),IF(INDEX(Asignacion!L8:L507,($B$4-1)*20+11)=0,"",IF(INDEX(Asignacion!J8:J507,($B$4-1)*20+11)="","",INDEX(Asignacion!J8:J507,($B$4-1)*20+11))),"Revisa página") | K18: =IF(AND(ISNUMBER($B$4),$B$4>=1,$B$4<=25,MOD($B$4,1)=0),IF(INDEX(Asignacion!L8:L507,($B$4-1)*20+11)=0,"",IF(INDEX(Asignacion!K8:K507,($B$4-1)*20+11)="","",INDEX(Asignacion!K8:K507,($B$4-1)*20+11))),"Revisa página")
A19: =IF(AND(ISNUMBER($B$4),$B$4>=1,$B$4<=25,MOD($B$4,1)=0),IF(INDEX(Asignacion!L8:L507,($B$4-1)*20+12)=0,"",IF(INDEX(Asignacion!A8:A507,($B$4-1)*20+12)="","",INDEX(Asignacion!A8:A507,($B$4-1)*20+12))),"Revisa página") | B19: =IF(AND(ISNUMBER($B$4),$B$4>=1,$B$4<=25,MOD($B$4,1)=0),IF(INDEX(Asignacion!L8:L507,($B$4-1)*20+12)=0,"",IF(INDEX(Asignacion!B8:B507,($B$4-1)*20+12)="","",INDEX(Asignacion!B8:B507,($B$4-1)*20+12))),"Revisa página") | C19: =IF(AND(ISNUMBER($B$4),$B$4>=1,$B$4<=25,MOD($B$4,1)=0),IF(INDEX(Asignacion!L8:L507,($B$4-1)*20+12)=0,"",IF(INDEX(Asignacion!C8:C507,($B$4-1)*20+12)="","",INDEX(Asignacion!C8:C507,($B$4-1)*20+12))),"Revisa página") | D19: =IF(AND(ISNUMBER($B$4),$B$4>=1,$B$4<=25,MOD($B$4,1)=0),IF(INDEX(Asignacion!L8:L507,($B$4-1)*20+12)=0,"",IF(INDEX(Asignacion!D8:D507,($B$4-1)*20+12)="","",INDEX(Asignacion!D8:D507,($B$4-1)*20+12))),"Revisa página") | E19: =IF(AND(ISNUMBER($B$4),$B$4>=1,$B$4<=25,MOD($B$4,1)=0),IF(INDEX(Asignacion!L8:L507,($B$4-1)*20+12)=0,"",IF(INDEX(Asignacion!E8:E507,($B$4-1)*20+12)="","",INDEX(Asignacion!E8:E507,($B$4-1)*20+12))),"Revisa página") | F19: =IF(AND(ISNUMBER($B$4),$B$4>=1,$B$4<=25,MOD($B$4,1)=0),IF(INDEX(Asignacion!L8:L507,($B$4-1)*20+12)=0,"",IF(INDEX(Asignacion!F8:F507,($B$4-1)*20+12)="","",INDEX(Asignacion!F8:F507,($B$4-1)*20+12))),"Revisa página") | G19: =IF(AND(ISNUMBER($B$4),$B$4>=1,$B$4<=25,MOD($B$4,1)=0),IF(INDEX(Asignacion!L8:L507,($B$4-1)*20+12)=0,"",IF(INDEX(Asignacion!G8:G507,($B$4-1)*20+12)="","",INDEX(Asignacion!G8:G507,($B$4-1)*20+12))),"Revisa página") | H19: =IF(AND(ISNUMBER($B$4),$B$4>=1,$B$4<=25,MOD($B$4,1)=0),IF(INDEX(Asignacion!L8:L507,($B$4-1)*20+12)=0,"",IF(INDEX(Asignacion!H8:H507,($B$4-1)*20+12)="","",INDEX(Asignacion!H8:H507,($B$4-1)*20+12))),"Revisa página") | I19: =IF(AND(ISNUMBER($B$4),$B$4>=1,$B$4<=25,MOD($B$4,1)=0),IF(INDEX(Asignacion!L8:L507,($B$4-1)*20+12)=0,"",IF(INDEX(Asignacion!I8:I507,($B$4-1)*20+12)="","",INDEX(Asignacion!I8:I507,($B$4-1)*20+12))),"Revisa página") | J19: =IF(AND(ISNUMBER($B$4),$B$4>=1,$B$4<=25,MOD($B$4,1)=0),IF(INDEX(Asignacion!L8:L507,($B$4-1)*20+12)=0,"",IF(INDEX(Asignacion!J8:J507,($B$4-1)*20+12)="","",INDEX(Asignacion!J8:J507,($B$4-1)*20+12))),"Revisa página") | K19: =IF(AND(ISNUMBER($B$4),$B$4>=1,$B$4<=25,MOD($B$4,1)=0),IF(INDEX(Asignacion!L8:L507,($B$4-1)*20+12)=0,"",IF(INDEX(Asignacion!K8:K507,($B$4-1)*20+12)="","",INDEX(Asignacion!K8:K507,($B$4-1)*20+12))),"Revisa página")
A20: =IF(AND(ISNUMBER($B$4),$B$4>=1,$B$4<=25,MOD($B$4,1)=0),IF(INDEX(Asignacion!L8:L507,($B$4-1)*20+13)=0,"",IF(INDEX(Asignacion!A8:A507,($B$4-1)*20+13)="","",INDEX(Asignacion!A8:A507,($B$4-1)*20+13))),"Revisa página") | B20: =IF(AND(ISNUMBER($B$4),$B$4>=1,$B$4<=25,MOD($B$4,1)=0),IF(INDEX(Asignacion!L8:L507,($B$4-1)*20+13)=0,"",IF(INDEX(Asignacion!B8:B507,($B$4-1)*20+13)="","",INDEX(Asignacion!B8:B507,($B$4-1)*20+13))),"Revisa página") | C20: =IF(AND(ISNUMBER($B$4),$B$4>=1,$B$4<=25,MOD($B$4,1)=0),IF(INDEX(Asignacion!L8:L507,($B$4-1)*20+13)=0,"",IF(INDEX(Asignacion!C8:C507,($B$4-1)*20+13)="","",INDEX(Asignacion!C8:C507,($B$4-1)*20+13))),"Revisa página") | D20: =IF(AND(ISNUMBER($B$4),$B$4>=1,$B$4<=25,MOD($B$4,1)=0),IF(INDEX(Asignacion!L8:L507,($B$4-1)*20+13)=0,"",IF(INDEX(Asignacion!D8:D507,($B$4-1)*20+13)="","",INDEX(Asignacion!D8:D507,($B$4-1)*20+13))),"Revisa página") | E20: =IF(AND(ISNUMBER($B$4),$B$4>=1,$B$4<=25,MOD($B$4,1)=0),IF(INDEX(Asignacion!L8:L507,($B$4-1)*20+13)=0,"",IF(INDEX(Asignacion!E8:E507,($B$4-1)*20+13)="","",INDEX(Asignacion!E8:E507,($B$4-1)*20+13))),"Revisa página") | F20: =IF(AND(ISNUMBER($B$4),$B$4>=1,$B$4<=25,MOD($B$4,1)=0),IF(INDEX(Asignacion!L8:L507,($B$4-1)*20+13)=0,"",IF(INDEX(Asignacion!F8:F507,($B$4-1)*20+13)="","",INDEX(Asignacion!F8:F507,($B$4-1)*20+13))),"Revisa página") | G20: =IF(AND(ISNUMBER($B$4),$B$4>=1,$B$4<=25,MOD($B$4,1)=0),IF(INDEX(Asignacion!L8:L507,($B$4-1)*20+13)=0,"",IF(INDEX(Asignacion!G8:G507,($B$4-1)*20+13)="","",INDEX(Asignacion!G8:G507,($B$4-1)*20+13))),"Revisa página") | H20: =IF(AND(ISNUMBER($B$4),$B$4>=1,$B$4<=25,MOD($B$4,1)=0),IF(INDEX(Asignacion!L8:L507,($B$4-1)*20+13)=0,"",IF(INDEX(Asignacion!H8:H507,($B$4-1)*20+13)="","",INDEX(Asignacion!H8:H507,($B$4-1)*20+13))),"Revisa página") | I20: =IF(AND(ISNUMBER($B$4),$B$4>=1,$B$4<=25,MOD($B$4,1)=0),IF(INDEX(Asignacion!L8:L507,($B$4-1)*20+13)=0,"",IF(INDEX(Asignacion!I8:I507,($B$4-1)*20+13)="","",INDEX(Asignacion!I8:I507,($B$4-1)*20+13))),"Revisa página") | J20: =IF(AND(ISNUMBER($B$4),$B$4>=1,$B$4<=25,MOD($B$4,1)=0),IF(INDEX(Asignacion!L8:L507,($B$4-1)*20+13)=0,"",IF(INDEX(Asignacion!J8:J507,($B$4-1)*20+13)="","",INDEX(Asignacion!J8:J507,($B$4-1)*20+13))),"Revisa página") | K20: =IF(AND(ISNUMBER($B$4),$B$4>=1,$B$4<=25,MOD($B$4,1)=0),IF(INDEX(Asignacion!L8:L507,($B$4-1)*20+13)=0,"",IF(INDEX(Asignacion!K8:K507,($B$4-1)*20+13)="","",INDEX(Asignacion!K8:K507,($B$4-1)*20+13))),"Revisa página")
A21: =IF(AND(ISNUMBER($B$4),$B$4>=1,$B$4<=25,MOD($B$4,1)=0),IF(INDEX(Asignacion!L8:L507,($B$4-1)*20+14)=0,"",IF(INDEX(Asignacion!A8:A507,($B$4-1)*20+14)="","",INDEX(Asignacion!A8:A507,($B$4-1)*20+14))),"Revisa página") | B21: =IF(AND(ISNUMBER($B$4),$B$4>=1,$B$4<=25,MOD($B$4,1)=0),IF(INDEX(Asignacion!L8:L507,($B$4-1)*20+14)=0,"",IF(INDEX(Asignacion!B8:B507,($B$4-1)*20+14)="","",INDEX(Asignacion!B8:B507,($B$4-1)*20+14))),"Revisa página") | C21: =IF(AND(ISNUMBER($B$4),$B$4>=1,$B$4<=25,MOD($B$4,1)=0),IF(INDEX(Asignacion!L8:L507,($B$4-1)*20+14)=0,"",IF(INDEX(Asignacion!C8:C507,($B$4-1)*20+14)="","",INDEX(Asignacion!C8:C507,($B$4-1)*20+14))),"Revisa página") | D21: =IF(AND(ISNUMBER($B$4),$B$4>=1,$B$4<=25,MOD($B$4,1)=0),IF(INDEX(Asignacion!L8:L507,($B$4-1)*20+14)=0,"",IF(INDEX(Asignacion!D8:D507,($B$4-1)*20+14)="","",INDEX(Asignacion!D8:D507,($B$4-1)*20+14))),"Revisa página") | E21: =IF(AND(ISNUMBER($B$4),$B$4>=1,$B$4<=25,MOD($B$4,1)=0),IF(INDEX(Asignacion!L8:L507,($B$4-1)*20+14)=0,"",IF(INDEX(Asignacion!E8:E507,($B$4-1)*20+14)="","",INDEX(Asignacion!E8:E507,($B$4-1)*20+14))),"Revisa página") | F21: =IF(AND(ISNUMBER($B$4),$B$4>=1,$B$4<=25,MOD($B$4,1)=0),IF(INDEX(Asignacion!L8:L507,($B$4-1)*20+14)=0,"",IF(INDEX(Asignacion!F8:F507,($B$4-1)*20+14)="","",INDEX(Asignacion!F8:F507,($B$4-1)*20+14))),"Revisa página") | G21: =IF(AND(ISNUMBER($B$4),$B$4>=1,$B$4<=25,MOD($B$4,1)=0),IF(INDEX(Asignacion!L8:L507,($B$4-1)*20+14)=0,"",IF(INDEX(Asignacion!G8:G507,($B$4-1)*20+14)="","",INDEX(Asignacion!G8:G507,($B$4-1)*20+14))),"Revisa página") | H21: =IF(AND(ISNUMBER($B$4),$B$4>=1,$B$4<=25,MOD($B$4,1)=0),IF(INDEX(Asignacion!L8:L507,($B$4-1)*20+14)=0,"",IF(INDEX(Asignacion!H8:H507,($B$4-1)*20+14)="","",INDEX(Asignacion!H8:H507,($B$4-1)*20+14))),"Revisa página") | I21: =IF(AND(ISNUMBER($B$4),$B$4>=1,$B$4<=25,MOD($B$4,1)=0),IF(INDEX(Asignacion!L8:L507,($B$4-1)*20+14)=0,"",IF(INDEX(Asignacion!I8:I507,($B$4-1)*20+14)="","",INDEX(Asignacion!I8:I507,($B$4-1)*20+14))),"Revisa página") | J21: =IF(AND(ISNUMBER($B$4),$B$4>=1,$B$4<=25,MOD($B$4,1)=0),IF(INDEX(Asignacion!L8:L507,($B$4-1)*20+14)=0,"",IF(INDEX(Asignacion!J8:J507,($B$4-1)*20+14)="","",INDEX(Asignacion!J8:J507,($B$4-1)*20+14))),"Revisa página") | K21: =IF(AND(ISNUMBER($B$4),$B$4>=1,$B$4<=25,MOD($B$4,1)=0),IF(INDEX(Asignacion!L8:L507,($B$4-1)*20+14)=0,"",IF(INDEX(Asignacion!K8:K507,($B$4-1)*20+14)="","",INDEX(Asignacion!K8:K507,($B$4-1)*20+14))),"Revisa página")
A22: =IF(AND(ISNUMBER($B$4),$B$4>=1,$B$4<=25,MOD($B$4,1)=0),IF(INDEX(Asignacion!L8:L507,($B$4-1)*20+15)=0,"",IF(INDEX(Asignacion!A8:A507,($B$4-1)*20+15)="","",INDEX(Asignacion!A8:A507,($B$4-1)*20+15))),"Revisa página") | B22: =IF(AND(ISNUMBER($B$4),$B$4>=1,$B$4<=25,MOD($B$4,1)=0),IF(INDEX(Asignacion!L8:L507,($B$4-1)*20+15)=0,"",IF(INDEX(Asignacion!B8:B507,($B$4-1)*20+15)="","",INDEX(Asignacion!B8:B507,($B$4-1)*20+15))),"Revisa página") | C22: =IF(AND(ISNUMBER($B$4),$B$4>=1,$B$4<=25,MOD($B$4,1)=0),IF(INDEX(Asignacion!L8:L507,($B$4-1)*20+15)=0,"",IF(INDEX(Asignacion!C8:C507,($B$4-1)*20+15)="","",INDEX(Asignacion!C8:C507,($B$4-1)*20+15))),"Revisa página") | D22: =IF(AND(ISNUMBER($B$4),$B$4>=1,$B$4<=25,MOD($B$4,1)=0),IF(INDEX(Asignacion!L8:L507,($B$4-1)*20+15)=0,"",IF(INDEX(Asignacion!D8:D507,($B$4-1)*20+15)="","",INDEX(Asignacion!D8:D507,($B$4-1)*20+15))),"Revisa página") | E22: =IF(AND(ISNUMBER($B$4),$B$4>=1,$B$4<=25,MOD($B$4,1)=0),IF(INDEX(Asignacion!L8:L507,($B$4-1)*20+15)=0,"",IF(INDEX(Asignacion!E8:E507,($B$4-1)*20+15)="","",INDEX(Asignacion!E8:E507,($B$4-1)*20+15))),"Revisa página") | F22: =IF(AND(ISNUMBER($B$4),$B$4>=1,$B$4<=25,MOD($B$4,1)=0),IF(INDEX(Asignacion!L8:L507,($B$4-1)*20+15)=0,"",IF(INDEX(Asignacion!F8:F507,($B$4-1)*20+15)="","",INDEX(Asignacion!F8:F507,($B$4-1)*20+15))),"Revisa página") | G22: =IF(AND(ISNUMBER($B$4),$B$4>=1,$B$4<=25,MOD($B$4,1)=0),IF(INDEX(Asignacion!L8:L507,($B$4-1)*20+15)=0,"",IF(INDEX(Asignacion!G8:G507,($B$4-1)*20+15)="","",INDEX(Asignacion!G8:G507,($B$4-1)*20+15))),"Revisa página") | H22: =IF(AND(ISNUMBER($B$4),$B$4>=1,$B$4<=25,MOD($B$4,1)=0),IF(INDEX(Asignacion!L8:L507,($B$4-1)*20+15)=0,"",IF(INDEX(Asignacion!H8:H507,($B$4-1)*20+15)="","",INDEX(Asignacion!H8:H507,($B$4-1)*20+15))),"Revisa página") | I22: =IF(AND(ISNUMBER($B$4),$B$4>=1,$B$4<=25,MOD($B$4,1)=0),IF(INDEX(Asignacion!L8:L507,($B$4-1)*20+15)=0,"",IF(INDEX(Asignacion!I8:I507,($B$4-1)*20+15)="","",INDEX(Asignacion!I8:I507,($B$4-1)*20+15))),"Revisa página") | J22: =IF(AND(ISNUMBER($B$4),$B$4>=1,$B$4<=25,MOD($B$4,1)=0),IF(INDEX(Asignacion!L8:L507,($B$4-1)*20+15)=0,"",IF(INDEX(Asignacion!J8:J507,($B$4-1)*20+15)="","",INDEX(Asignacion!J8:J507,($B$4-1)*20+15))),"Revisa página") | K22: =IF(AND(ISNUMBER($B$4),$B$4>=1,$B$4<=25,MOD($B$4,1)=0),IF(INDEX(Asignacion!L8:L507,($B$4-1)*20+15)=0,"",IF(INDEX(Asignacion!K8:K507,($B$4-1)*20+15)="","",INDEX(Asignacion!K8:K507,($B$4-1)*20+15))),"Revisa página")
A23: =IF(AND(ISNUMBER($B$4),$B$4>=1,$B$4<=25,MOD($B$4,1)=0),IF(INDEX(Asignacion!L8:L507,($B$4-1)*20+16)=0,"",IF(INDEX(Asignacion!A8:A507,($B$4-1)*20+16)="","",INDEX(Asignacion!A8:A507,($B$4-1)*20+16))),"Revisa página") | B23: =IF(AND(ISNUMBER($B$4),$B$4>=1,$B$4<=25,MOD($B$4,1)=0),IF(INDEX(Asignacion!L8:L507,($B$4-1)*20+16)=0,"",IF(INDEX(Asignacion!B8:B507,($B$4-1)*20+16)="","",INDEX(Asignacion!B8:B507,($B$4-1)*20+16))),"Revisa página") | C23: =IF(AND(ISNUMBER($B$4),$B$4>=1,$B$4<=25,MOD($B$4,1)=0),IF(INDEX(Asignacion!L8:L507,($B$4-1)*20+16)=0,"",IF(INDEX(Asignacion!C8:C507,($B$4-1)*20+16)="","",INDEX(Asignacion!C8:C507,($B$4-1)*20+16))),"Revisa página") | D23: =IF(AND(ISNUMBER($B$4),$B$4>=1,$B$4<=25,MOD($B$4,1)=0),IF(INDEX(Asignacion!L8:L507,($B$4-1)*20+16)=0,"",IF(INDEX(Asignacion!D8:D507,($B$4-1)*20+16)="","",INDEX(Asignacion!D8:D507,($B$4-1)*20+16))),"Revisa página") | E23: =IF(AND(ISNUMBER($B$4),$B$4>=1,$B$4<=25,MOD($B$4,1)=0),IF(INDEX(Asignacion!L8:L507,($B$4-1)*20+16)=0,"",IF(INDEX(Asignacion!E8:E507,($B$4-1)*20+16)="","",INDEX(Asignacion!E8:E507,($B$4-1)*20+16))),"Revisa página") | F23: =IF(AND(ISNUMBER($B$4),$B$4>=1,$B$4<=25,MOD($B$4,1)=0),IF(INDEX(Asignacion!L8:L507,($B$4-1)*20+16)=0,"",IF(INDEX(Asignacion!F8:F507,($B$4-1)*20+16)="","",INDEX(Asignacion!F8:F507,($B$4-1)*20+16))),"Revisa página") | G23: =IF(AND(ISNUMBER($B$4),$B$4>=1,$B$4<=25,MOD($B$4,1)=0),IF(INDEX(Asignacion!L8:L507,($B$4-1)*20+16)=0,"",IF(INDEX(Asignacion!G8:G507,($B$4-1)*20+16)="","",INDEX(Asignacion!G8:G507,($B$4-1)*20+16))),"Revisa página") | H23: =IF(AND(ISNUMBER($B$4),$B$4>=1,$B$4<=25,MOD($B$4,1)=0),IF(INDEX(Asignacion!L8:L507,($B$4-1)*20+16)=0,"",IF(INDEX(Asignacion!H8:H507,($B$4-1)*20+16)="","",INDEX(Asignacion!H8:H507,($B$4-1)*20+16))),"Revisa página") | I23: =IF(AND(ISNUMBER($B$4),$B$4>=1,$B$4<=25,MOD($B$4,1)=0),IF(INDEX(Asignacion!L8:L507,($B$4-1)*20+16)=0,"",IF(INDEX(Asignacion!I8:I507,($B$4-1)*20+16)="","",INDEX(Asignacion!I8:I507,($B$4-1)*20+16))),"Revisa página") | J23: =IF(AND(ISNUMBER($B$4),$B$4>=1,$B$4<=25,MOD($B$4,1)=0),IF(INDEX(Asignacion!L8:L507,($B$4-1)*20+16)=0,"",IF(INDEX(Asignacion!J8:J507,($B$4-1)*20+16)="","",INDEX(Asignacion!J8:J507,($B$4-1)*20+16))),"Revisa página") | K23: =IF(AND(ISNUMBER($B$4),$B$4>=1,$B$4<=25,MOD($B$4,1)=0),IF(INDEX(Asignacion!L8:L507,($B$4-1)*20+16)=0,"",IF(INDEX(Asignacion!K8:K507,($B$4-1)*20+16)="","",INDEX(Asignacion!K8:K507,($B$4-1)*20+16))),"Revisa página")
A24: =IF(AND(ISNUMBER($B$4),$B$4>=1,$B$4<=25,MOD($B$4,1)=0),IF(INDEX(Asignacion!L8:L507,($B$4-1)*20+17)=0,"",IF(INDEX(Asignacion!A8:A507,($B$4-1)*20+17)="","",INDEX(Asignacion!A8:A507,($B$4-1)*20+17))),"Revisa página") | B24: =IF(AND(ISNUMBER($B$4),$B$4>=1,$B$4<=25,MOD($B$4,1)=0),IF(INDEX(Asignacion!L8:L507,($B$4-1)*20+17)=0,"",IF(INDEX(Asignacion!B8:B507,($B$4-1)*20+17)="","",INDEX(Asignacion!B8:B507,($B$4-1)*20+17))),"Revisa página") | C24: =IF(AND(ISNUMBER($B$4),$B$4>=1,$B$4<=25,MOD($B$4,1)=0),IF(INDEX(Asignacion!L8:L507,($B$4-1)*20+17)=0,"",IF(INDEX(Asignacion!C8:C507,($B$4-1)*20+17)="","",INDEX(Asignacion!C8:C507,($B$4-1)*20+17))),"Revisa página") | D24: =IF(AND(ISNUMBER($B$4),$B$4>=1,$B$4<=25,MOD($B$4,1)=0),IF(INDEX(Asignacion!L8:L507,($B$4-1)*20+17)=0,"",IF(INDEX(Asignacion!D8:D507,($B$4-1)*20+17)="","",INDEX(Asignacion!D8:D507,($B$4-1)*20+17))),"Revisa página") | E24: =IF(AND(ISNUMBER($B$4),$B$4>=1,$B$4<=25,MOD($B$4,1)=0),IF(INDEX(Asignacion!L8:L507,($B$4-1)*20+17)=0,"",IF(INDEX(Asignacion!E8:E507,($B$4-1)*20+17)="","",INDEX(Asignacion!E8:E507,($B$4-1)*20+17))),"Revisa página") | F24: =IF(AND(ISNUMBER($B$4),$B$4>=1,$B$4<=25,MOD($B$4,1)=0),IF(INDEX(Asignacion!L8:L507,($B$4-1)*20+17)=0,"",IF(INDEX(Asignacion!F8:F507,($B$4-1)*20+17)="","",INDEX(Asignacion!F8:F507,($B$4-1)*20+17))),"Revisa página") | G24: =IF(AND(ISNUMBER($B$4),$B$4>=1,$B$4<=25,MOD($B$4,1)=0),IF(INDEX(Asignacion!L8:L507,($B$4-1)*20+17)=0,"",IF(INDEX(Asignacion!G8:G507,($B$4-1)*20+17)="","",INDEX(Asignacion!G8:G507,($B$4-1)*20+17))),"Revisa página") | H24: =IF(AND(ISNUMBER($B$4),$B$4>=1,$B$4<=25,MOD($B$4,1)=0),IF(INDEX(Asignacion!L8:L507,($B$4-1)*20+17)=0,"",IF(INDEX(Asignacion!H8:H507,($B$4-1)*20+17)="","",INDEX(Asignacion!H8:H507,($B$4-1)*20+17))),"Revisa página") | I24: =IF(AND(ISNUMBER($B$4),$B$4>=1,$B$4<=25,MOD($B$4,1)=0),IF(INDEX(Asignacion!L8:L507,($B$4-1)*20+17)=0,"",IF(INDEX(Asignacion!I8:I507,($B$4-1)*20+17)="","",INDEX(Asignacion!I8:I507,($B$4-1)*20+17))),"Revisa página") | J24: =IF(AND(ISNUMBER($B$4),$B$4>=1,$B$4<=25,MOD($B$4,1)=0),IF(INDEX(Asignacion!L8:L507,($B$4-1)*20+17)=0,"",IF(INDEX(Asignacion!J8:J507,($B$4-1)*20+17)="","",INDEX(Asignacion!J8:J507,($B$4-1)*20+17))),"Revisa página") | K24: =IF(AND(ISNUMBER($B$4),$B$4>=1,$B$4<=25,MOD($B$4,1)=0),IF(INDEX(Asignacion!L8:L507,($B$4-1)*20+17)=0,"",IF(INDEX(Asignacion!K8:K507,($B$4-1)*20+17)="","",INDEX(Asignacion!K8:K507,($B$4-1)*20+17))),"Revisa página")
A25: =IF(AND(ISNUMBER($B$4),$B$4>=1,$B$4<=25,MOD($B$4,1)=0),IF(INDEX(Asignacion!L8:L507,($B$4-1)*20+18)=0,"",IF(INDEX(Asignacion!A8:A507,($B$4-1)*20+18)="","",INDEX(Asignacion!A8:A507,($B$4-1)*20+18))),"Revisa página") | B25: =IF(AND(ISNUMBER($B$4),$B$4>=1,$B$4<=25,MOD($B$4,1)=0),IF(INDEX(Asignacion!L8:L507,($B$4-1)*20+18)=0,"",IF(INDEX(Asignacion!B8:B507,($B$4-1)*20+18)="","",INDEX(Asignacion!B8:B507,($B$4-1)*20+18))),"Revisa página") | C25: =IF(AND(ISNUMBER($B$4),$B$4>=1,$B$4<=25,MOD($B$4,1)=0),IF(INDEX(Asignacion!L8:L507,($B$4-1)*20+18)=0,"",IF(INDEX(Asignacion!C8:C507,($B$4-1)*20+18)="","",INDEX(Asignacion!C8:C507,($B$4-1)*20+18))),"Revisa página") | D25: =IF(AND(ISNUMBER($B$4),$B$4>=1,$B$4<=25,MOD($B$4,1)=0),IF(INDEX(Asignacion!L8:L507,($B$4-1)*20+18)=0,"",IF(INDEX(Asignacion!D8:D507,($B$4-1)*20+18)="","",INDEX(Asignacion!D8:D507,($B$4-1)*20+18))),"Revisa página") | E25: =IF(AND(ISNUMBER($B$4),$B$4>=1,$B$4<=25,MOD($B$4,1)=0),IF(INDEX(Asignacion!L8:L507,($B$4-1)*20+18)=0,"",IF(INDEX(Asignacion!E8:E507,($B$4-1)*20+18)="","",INDEX(Asignacion!E8:E507,($B$4-1)*20+18))),"Revisa página") | F25: =IF(AND(ISNUMBER($B$4),$B$4>=1,$B$4<=25,MOD($B$4,1)=0),IF(INDEX(Asignacion!L8:L507,($B$4-1)*20+18)=0,"",IF(INDEX(Asignacion!F8:F507,($B$4-1)*20+18)="","",INDEX(Asignacion!F8:F507,($B$4-1)*20+18))),"Revisa página") | G25: =IF(AND(ISNUMBER($B$4),$B$4>=1,$B$4<=25,MOD($B$4,1)=0),IF(INDEX(Asignacion!L8:L507,($B$4-1)*20+18)=0,"",IF(INDEX(Asignacion!G8:G507,($B$4-1)*20+18)="","",INDEX(Asignacion!G8:G507,($B$4-1)*20+18))),"Revisa página") | H25: =IF(AND(ISNUMBER($B$4),$B$4>=1,$B$4<=25,MOD($B$4,1)=0),IF(INDEX(Asignacion!L8:L507,($B$4-1)*20+18)=0,"",IF(INDEX(Asignacion!H8:H507,($B$4-1)*20+18)="","",INDEX(Asignacion!H8:H507,($B$4-1)*20+18))),"Revisa página") | I25: =IF(AND(ISNUMBER($B$4),$B$4>=1,$B$4<=25,MOD($B$4,1)=0),IF(INDEX(Asignacion!L8:L507,($B$4-1)*20+18)=0,"",IF(INDEX(Asignacion!I8:I507,($B$4-1)*20+18)="","",INDEX(Asignacion!I8:I507,($B$4-1)*20+18))),"Revisa página") | J25: =IF(AND(ISNUMBER($B$4),$B$4>=1,$B$4<=25,MOD($B$4,1)=0),IF(INDEX(Asignacion!L8:L507,($B$4-1)*20+18)=0,"",IF(INDEX(Asignacion!J8:J507,($B$4-1)*20+18)="","",INDEX(Asignacion!J8:J507,($B$4-1)*20+18))),"Revisa página") | K25: =IF(AND(ISNUMBER($B$4),$B$4>=1,$B$4<=25,MOD($B$4,1)=0),IF(INDEX(Asignacion!L8:L507,($B$4-1)*20+18)=0,"",IF(INDEX(Asignacion!K8:K507,($B$4-1)*20+18)="","",INDEX(Asignacion!K8:K507,($B$4-1)*20+18))),"Revisa página")
