Workbook

Sheet Resumen
A2: Agenda de seguimiento de cobros
A5: Fecha de corte | B5: 46292 | D5: Moneda del libro | E5: UM
A7: Saldo pendiente | B7: =SUM(Documentos!G8:G35) -> 1100 | D7: Abonos hasta corte | E7: =SUM(Documentos!F8:F35) -> 650
D10: Documentos a revisar | E10: =COUNTIFS(Documentos!J8:J35,"REVISAR*") -> 0
D12: Cobros a revisar | E12: =COUNTIFS(Cobros!F8:F55,"REVISAR*") -> 0
A14: Antigüedad | B14: Saldo | D14: Clientes a revisar | E14: =COUNTIFS(Clientes!D8:D35,"REVISAR*") -> 0
A15: Al día | B15: =SUMIFS(Documentos!G8:G35,Documentos!I8:I35,A15) -> 500
A16: 1–30 días | B16: =SUMIFS(Documentos!G8:G35,Documentos!I8:I35,A16) -> 0
A17: 31–60 días | B17: =SUMIFS(Documentos!G8:G35,Documentos!I8:I35,A17) -> 600
A18: 61–90 días | B18: =SUMIFS(Documentos!G8:G35,Documentos!I8:I35,A18) -> 0
A19: Más de 90 días | B19: =SUMIFS(Documentos!G8:G35,Documentos!I8:I35,A19) -> 0
A24: Comprobar antes de interpretar
B25: =IF(OR(NOT(ISNUMBER(B5)),B5<=0),"REVISAR fecha de corte",IF(SUM(E10,E12,E14)>0,"REVISAR registros","Registros sin alertas")) -> Registros sin alertas
A27: Ejemplo ficticio. UM = unidad monetaria. Una moneda por libro.
A28: Los saldos negativos se muestran: revisa los abonos en exceso.

Sheet Documentos
A2: Documentos y saldo a la fecha de corte
A7: ID documento | B7: ID cliente | C7: Emisión | D7: Vencimiento | E7: Importe | F7: Cobrado al corte | G7: Saldo al corte | H7: Días vencido | I7: Tramo | J7: Revisión | K7: Próxima acción
A8: F-001 | B8: C-001 | C8: 46235 | D8: 46254 | E8: 1000 | F8: =IF(A8="","",SUMIFS(Cobros!$D$8:$D$55,Cobros!$B$8:$B$55,A8,Cobros!$C$8:$C$55,"<="&Resumen!$B$5)) -> 400 | G8: =IF(A8="","",IF(C8>Resumen!$B$5,0,E8-F8)) -> 600 | H8: =IF(A8="","",IF(G8<=0,0,MAX(0,Resumen!$B$5-D8))) -> 38 | I8: =IF(A8="","",IF(H8=0,"Al día",IF(H8<=30,"1–30 días",IF(H8<=60,"31–60 días",IF(H8<=90,"61–90 días","Más de 90 días"))))) -> 31–60 días | J8: =IF(COUNTA(A8:E8)=0,"",IF(OR(A8="",COUNTIFS($A$8:$A$35,A8)<>1,COUNTIFS(Clientes!$A$8:$A$35,B8)<>1,NOT(ISNUMBER(C8)),NOT(ISNUMBER(D8)),D8<C8,NOT(ISNUMBER(E8)),E8<0,G8<0),"REVISAR documento","Correcto")) -> Correcto | K8: Confirmar recepción
A9: F-002 | B9: C-002 | C9: 46275 | D9: 46305 | E9: 500 | F9: =IF(A9="","",SUMIFS(Cobros!$D$8:$D$55,Cobros!$B$8:$B$55,A9,Cobros!$C$8:$C$55,"<="&Resumen!$B$5)) -> 0 | G9: =IF(A9="","",IF(C9>Resumen!$B$5,0,E9-F9)) -> 500 | H9: =IF(A9="","",IF(G9<=0,0,MAX(0,Resumen!$B$5-D9))) -> 0 | I9: =IF(A9="","",IF(H9=0,"Al día",IF(H9<=30,"1–30 días",IF(H9<=60,"31–60 días",IF(H9<=90,"61–90 días","Más de 90 días"))))) -> Al día | J9: =IF(COUNTA(A9:E9)=0,"",IF(OR(A9="",COUNTIFS($A$8:$A$35,A9)<>1,COUNTIFS(Clientes!$A$8:$A$35,B9)<>1,NOT(ISNUMBER(C9)),NOT(ISNUMBER(D9)),D9<C9,NOT(ISNUMBER(E9)),E9<0,G9<0),"REVISAR documento","Correcto")) -> Correcto
A10: F-003 | B10: C-001 | C10: 46174 | D10: 46193 | E10: 250 | F10: =IF(A10="","",SUMIFS(Cobros!$D$8:$D$55,Cobros!$B$8:$B$55,A10,Cobros!$C$8:$C$55,"<="&Resumen!$B$5)) -> 250 | G10: =IF(A10="","",IF(C10>Resumen!$B$5,0,E10-F10)) -> 0 | H10: =IF(A10="","",IF(G10<=0,0,MAX(0,Resumen!$B$5-D10))) -> 0 | I10: =IF(A10="","",IF(H10=0,"Al día",IF(H10<=30,"1–30 días",IF(H10<=60,"31–60 días",IF(H10<=90,"61–90 días","Más de 90 días"))))) -> Al día | J10: =IF(COUNTA(A10:E10)=0,"",IF(OR(A10="",COUNTIFS($A$8:$A$35,A10)<>1,COUNTIFS(Clientes!$A$8:$A$35,B10)<>1,NOT(ISNUMBER(C10)),NOT(ISNUMBER(D10)),D10<C10,NOT(ISNUMBER(E10)),E10<0,G10<0),"REVISAR documento","Correcto")) -> Correcto
F11: =IF(A11="","",SUMIFS(Cobros!$D$8:$D$55,Cobros!$B$8:$B$55,A11,Cobros!$C$8:$C$55,"<="&Resumen!$B$5)) | G11: =IF(A11="","",IF(C11>Resumen!$B$5,0,E11-F11)) | H11: =IF(A11="","",IF(G11<=0,0,MAX(0,Resumen!$B$5-D11))) | I11: =IF(A11="","",IF(H11=0,"Al día",IF(H11<=30,"1–30 días",IF(H11<=60,"31–60 días",IF(H11<=90,"61–90 días","Más de 90 días"))))) | J11: =IF(COUNTA(A11:E11)=0,"",IF(OR(A11="",COUNTIFS($A$8:$A$35,A11)<>1,COUNTIFS(Clientes!$A$8:$A$35,B11)<>1,NOT(ISNUMBER(C11)),NOT(ISNUMBER(D11)),D11<C11,NOT(ISNUMBER(E11)),E11<0,G11<0),"REVISAR documento","Correcto"))
F12: =IF(A12="","",SUMIFS(Cobros!$D$8:$D$55,Cobros!$B$8:$B$55,A12,Cobros!$C$8:$C$55,"<="&Resumen!$B$5)) | G12: =IF(A12="","",IF(C12>Resumen!$B$5,0,E12-F12)) | H12: =IF(A12="","",IF(G12<=0,0,MAX(0,Resumen!$B$5-D12))) | I12: =IF(A12="","",IF(H12=0,"Al día",IF(H12<=30,"1–30 días",IF(H12<=60,"31–60 días",IF(H12<=90,"61–90 días","Más de 90 días"))))) | J12: =IF(COUNTA(A12:E12)=0,"",IF(OR(A12="",COUNTIFS($A$8:$A$35,A12)<>1,COUNTIFS(Clientes!$A$8:$A$35,B12)<>1,NOT(ISNUMBER(C12)),NOT(ISNUMBER(D12)),D12<C12,NOT(ISNUMBER(E12)),E12<0,G12<0),"REVISAR documento","Correcto"))
F13: =IF(A13="","",SUMIFS(Cobros!$D$8:$D$55,Cobros!$B$8:$B$55,A13,Cobros!$C$8:$C$55,"<="&Resumen!$B$5)) | G13: =IF(A13="","",IF(C13>Resumen!$B$5,0,E13-F13)) | H13: =IF(A13="","",IF(G13<=0,0,MAX(0,Resumen!$B$5-D13))) | I13: =IF(A13="","",IF(H13=0,"Al día",IF(H13<=30,"1–30 días",IF(H13<=60,"31–60 días",IF(H13<=90,"61–90 días","Más de 90 días"))))) | J13: =IF(COUNTA(A13:E13)=0,"",IF(OR(A13="",COUNTIFS($A$8:$A$35,A13)<>1,COUNTIFS(Clientes!$A$8:$A$35,B13)<>1,NOT(ISNUMBER(C13)),NOT(ISNUMBER(D13)),D13<C13,NOT(ISNUMBER(E13)),E13<0,G13<0),"REVISAR documento","Correcto"))
F14: =IF(A14="","",SUMIFS(Cobros!$D$8:$D$55,Cobros!$B$8:$B$55,A14,Cobros!$C$8:$C$55,"<="&Resumen!$B$5)) | G14: =IF(A14="","",IF(C14>Resumen!$B$5,0,E14-F14)) | H14: =IF(A14="","",IF(G14<=0,0,MAX(0,Resumen!$B$5-D14))) | I14: =IF(A14="","",IF(H14=0,"Al día",IF(H14<=30,"1–30 días",IF(H14<=60,"31–60 días",IF(H14<=90,"61–90 días","Más de 90 días"))))) | J14: =IF(COUNTA(A14:E14)=0,"",IF(OR(A14="",COUNTIFS($A$8:$A$35,A14)<>1,COUNTIFS(Clientes!$A$8:$A$35,B14)<>1,NOT(ISNUMBER(C14)),NOT(ISNUMBER(D14)),D14<C14,NOT(ISNUMBER(E14)),E14<0,G14<0),"REVISAR documento","Correcto"))
F15: =IF(A15="","",SUMIFS(Cobros!$D$8:$D$55,Cobros!$B$8:$B$55,A15,Cobros!$C$8:$C$55,"<="&Resumen!$B$5)) | G15: =IF(A15="","",IF(C15>Resumen!$B$5,0,E15-F15)) | H15: =IF(A15="","",IF(G15<=0,0,MAX(0,Resumen!$B$5-D15))) | I15: =IF(A15="","",IF(H15=0,"Al día",IF(H15<=30,"1–30 días",IF(H15<=60,"31–60 días",IF(H15<=90,"61–90 días","Más de 90 días"))))) | J15: =IF(COUNTA(A15:E15)=0,"",IF(OR(A15="",COUNTIFS($A$8:$A$35,A15)<>1,COUNTIFS(Clientes!$A$8:$A$35,B15)<>1,NOT(ISNUMBER(C15)),NOT(ISNUMBER(D15)),D15<C15,NOT(ISNUMBER(E15)),E15<0,G15<0),"REVISAR documento","Correcto"))
F16: =IF(A16="","",SUMIFS(Cobros!$D$8:$D$55,Cobros!$B$8:$B$55,A16,Cobros!$C$8:$C$55,"<="&Resumen!$B$5)) | G16: =IF(A16="","",IF(C16>Resumen!$B$5,0,E16-F16)) | H16: =IF(A16="","",IF(G16<=0,0,MAX(0,Resumen!$B$5-D16))) | I16: =IF(A16="","",IF(H16=0,"Al día",IF(H16<=30,"1–30 días",IF(H16<=60,"31–60 días",IF(H16<=90,"61–90 días","Más de 90 días"))))) | J16: =IF(COUNTA(A16:E16)=0,"",IF(OR(A16="",COUNTIFS($A$8:$A$35,A16)<>1,COUNTIFS(Clientes!$A$8:$A$35,B16)<>1,NOT(ISNUMBER(C16)),NOT(ISNUMBER(D16)),D16<C16,NOT(ISNUMBER(E16)),E16<0,G16<0),"REVISAR documento","Correcto"))
F17: =IF(A17="","",SUMIFS(Cobros!$D$8:$D$55,Cobros!$B$8:$B$55,A17,Cobros!$C$8:$C$55,"<="&Resumen!$B$5)) | G17: =IF(A17="","",IF(C17>Resumen!$B$5,0,E17-F17)) | H17: =IF(A17="","",IF(G17<=0,0,MAX(0,Resumen!$B$5-D17))) | I17: =IF(A17="","",IF(H17=0,"Al día",IF(H17<=30,"1–30 días",IF(H17<=60,"31–60 días",IF(H17<=90,"61–90 días","Más de 90 días"))))) | J17: =IF(COUNTA(A17:E17)=0,"",IF(OR(A17="",COUNTIFS($A$8:$A$35,A17)<>1,COUNTIFS(Clientes!$A$8:$A$35,B17)<>1,NOT(ISNUMBER(C17)),NOT(ISNUMBER(D17)),D17<C17,NOT(ISNUMBER(E17)),E17<0,G17<0),"REVISAR documento","Correcto"))
F18: =IF(A18="","",SUMIFS(Cobros!$D$8:$D$55,Cobros!$B$8:$B$55,A18,Cobros!$C$8:$C$55,"<="&Resumen!$B$5)) | G18: =IF(A18="","",IF(C18>Resumen!$B$5,0,E18-F18)) | H18: =IF(A18="","",IF(G18<=0,0,MAX(0,Resumen!$B$5-D18))) | I18: =IF(A18="","",IF(H18=0,"Al día",IF(H18<=30,"1–30 días",IF(H18<=60,"31–60 días",IF(H18<=90,"61–90 días","Más de 90 días"))))) | J18: =IF(COUNTA(A18:E18)=0,"",IF(OR(A18="",COUNTIFS($A$8:$A$35,A18)<>1,COUNTIFS(Clientes!$A$8:$A$35,B18)<>1,NOT(ISNUMBER(C18)),NOT(ISNUMBER(D18)),D18<C18,NOT(ISNUMBER(E18)),E18<0,G18<0),"REVISAR documento","Correcto"))
F19: =IF(A19="","",SUMIFS(Cobros!$D$8:$D$55,Cobros!$B$8:$B$55,A19,Cobros!$C$8:$C$55,"<="&Resumen!$B$5)) | G19: =IF(A19="","",IF(C19>Resumen!$B$5,0,E19-F19)) | H19: =IF(A19="","",IF(G19<=0,0,MAX(0,Resumen!$B$5-D19))) | I19: =IF(A19="","",IF(H19=0,"Al día",IF(H19<=30,"1–30 días",IF(H19<=60,"31–60 días",IF(H19<=90,"61–90 días","Más de 90 días"))))) | J19: =IF(COUNTA(A19:E19)=0,"",IF(OR(A19="",COUNTIFS($A$8:$A$35,A19)<>1,COUNTIFS(Clientes!$A$8:$A$35,B19)<>1,NOT(ISNUMBER(C19)),NOT(ISNUMBER(D19)),D19<C19,NOT(ISNUMBER(E19)),E19<0,G19<0),"REVISAR documento","Correcto"))
F20: =IF(A20="","",SUMIFS(Cobros!$D$8:$D$55,Cobros!$B$8:$B$55,A20,Cobros!$C$8:$C$55,"<="&Resumen!$B$5)) | G20: =IF(A20="","",IF(C20>Resumen!$B$5,0,E20-F20)) | H20: =IF(A20="","",IF(G20<=0,0,MAX(0,Resumen!$B$5-D20))) | I20: =IF(A20="","",IF(H20=0,"Al día",IF(H20<=30,"1–30 días",IF(H20<=60,"31–60 días",IF(H20<=90,"61–90 días","Más de 90 días"))))) | J20: =IF(COUNTA(A20:E20)=0,"",IF(OR(A20="",COUNTIFS($A$8:$A$35,A20)<>1,COUNTIFS(Clientes!$A$8:$A$35,B20)<>1,NOT(ISNUMBER(C20)),NOT(ISNUMBER(D20)),D20<C20,NOT(ISNUMBER(E20)),E20<0,G20<0),"REVISAR documento","Correcto"))
F21: =IF(A21="","",SUMIFS(Cobros!$D$8:$D$55,Cobros!$B$8:$B$55,A21,Cobros!$C$8:$C$55,"<="&Resumen!$B$5)) | G21: =IF(A21="","",IF(C21>Resumen!$B$5,0,E21-F21)) | H21: =IF(A21="","",IF(G21<=0,0,MAX(0,Resumen!$B$5-D21))) | I21: =IF(A21="","",IF(H21=0,"Al día",IF(H21<=30,"1–30 días",IF(H21<=60,"31–60 días",IF(H21<=90,"61–90 días","Más de 90 días"))))) | J21: =IF(COUNTA(A21:E21)=0,"",IF(OR(A21="",COUNTIFS($A$8:$A$35,A21)<>1,COUNTIFS(Clientes!$A$8:$A$35,B21)<>1,NOT(ISNUMBER(C21)),NOT(ISNUMBER(D21)),D21<C21,NOT(ISNUMBER(E21)),E21<0,G21<0),"REVISAR documento","Correcto"))
F22: =IF(A22="","",SUMIFS(Cobros!$D$8:$D$55,Cobros!$B$8:$B$55,A22,Cobros!$C$8:$C$55,"<="&Resumen!$B$5)) | G22: =IF(A22="","",IF(C22>Resumen!$B$5,0,E22-F22)) | H22: =IF(A22="","",IF(G22<=0,0,MAX(0,Resumen!$B$5-D22))) | I22: =IF(A22="","",IF(H22=0,"Al día",IF(H22<=30,"1–30 días",IF(H22<=60,"31–60 días",IF(H22<=90,"61–90 días","Más de 90 días"))))) | J22: =IF(COUNTA(A22:E22)=0,"",IF(OR(A22="",COUNTIFS($A$8:$A$35,A22)<>1,COUNTIFS(Clientes!$A$8:$A$35,B22)<>1,NOT(ISNUMBER(C22)),NOT(ISNUMBER(D22)),D22<C22,NOT(ISNUMBER(E22)),E22<0,G22<0),"REVISAR documento","Correcto"))
... F35: =IF(A35="","",SUMIFS(Cobros!$D$8:$D$55,Cobros!$B$8:$B$55,A35,Cobros!$C$8:$C$55,"<="&Resumen!$B$5)) | G35: =IF(A35="","",IF(C35>Resumen!$B$5,0,E35-F35)) | H35: =IF(A35="","",IF(G35<=0,0,MAX(0,Resumen!$B$5-D35))) | I35: =IF(A35="","",IF(H35=0,"Al día",IF(H35<=30,"1–30 días",IF(H35<=60,"31–60 días",IF(H35<=90,"61–90 días","Más de 90 días"))))) | J35: =IF(COUNTA(A35:E35)=0,"",IF(OR(A35="",COUNTIFS($A$8:$A$35,A35)<>1,COUNTIFS(Clientes!$A$8:$A$35,B35)<>1,NOT(ISNUMBER(C35)),NOT(ISNUMBER(D35)),D35<C35,NOT(ISNUMBER(E35)),E35<0,G35<0),"REVISAR documento","Correcto"))

Sheet Cobros
A2: Abonos recibidos por documento
A7: ID abono | B7: ID documento | C7: Fecha abono | D7: Importe | E7: Referencia | F7: Revisión
A8: P-001 | B8: F-001 | C8: 46266 | D8: 400 | E8: Transferencia de ejemplo | F8: =IF(COUNTA(A8:E8)=0,"",IF(OR(A8="",COUNTIFS($A$8:$A$55,A8)<>1,COUNTIFS(Documentos!$A$8:$A$35,B8)<>1,NOT(ISNUMBER(C8)),NOT(ISNUMBER(D8)),D8<0),"REVISAR abono",IF(C8<SUMIFS(Documentos!$C$8:$C$35,Documentos!$A$8:$A$35,B8),"REVISAR fecha","Correcto"))) -> Correcto
A9: P-002 | B9: F-003 | C9: 46267 | D9: 250 | E9: Pago completo de ejemplo | F9: =IF(COUNTA(A9:E9)=0,"",IF(OR(A9="",COUNTIFS($A$8:$A$55,A9)<>1,COUNTIFS(Documentos!$A$8:$A$35,B9)<>1,NOT(ISNUMBER(C9)),NOT(ISNUMBER(D9)),D9<0),"REVISAR abono",IF(C9<SUMIFS(Documentos!$C$8:$C$35,Documentos!$A$8:$A$35,B9),"REVISAR fecha","Correcto"))) -> Correcto
A10: P-003 | B10: F-001 | C10: 46296 | D10: 100 | E10: Abono posterior al corte | F10: =IF(COUNTA(A10:E10)=0,"",IF(OR(A10="",COUNTIFS($A$8:$A$55,A10)<>1,COUNTIFS(Documentos!$A$8:$A$35,B10)<>1,NOT(ISNUMBER(C10)),NOT(ISNUMBER(D10)),D10<0),"REVISAR abono",IF(C10<SUMIFS(Documentos!$C$8:$C$35,Documentos!$A$8:$A$35,B10),"REVISAR fecha","Correcto"))) -> Correcto
F11: =IF(COUNTA(A11:E11)=0,"",IF(OR(A11="",COUNTIFS($A$8:$A$55,A11)<>1,COUNTIFS(Documentos!$A$8:$A$35,B11)<>1,NOT(ISNUMBER(C11)),NOT(ISNUMBER(D11)),D11<0),"REVISAR abono",IF(C11<SUMIFS(Documentos!$C$8:$C$35,Documentos!$A$8:$A$35,B11),"REVISAR fecha","Correcto")))
F12: =IF(COUNTA(A12:E12)=0,"",IF(OR(A12="",COUNTIFS($A$8:$A$55,A12)<>1,COUNTIFS(Documentos!$A$8:$A$35,B12)<>1,NOT(ISNUMBER(C12)),NOT(ISNUMBER(D12)),D12<0),"REVISAR abono",IF(C12<SUMIFS(Documentos!$C$8:$C$35,Documentos!$A$8:$A$35,B12),"REVISAR fecha","Correcto")))
F13: =IF(COUNTA(A13:E13)=0,"",IF(OR(A13="",COUNTIFS($A$8:$A$55,A13)<>1,COUNTIFS(Documentos!$A$8:$A$35,B13)<>1,NOT(ISNUMBER(C13)),NOT(ISNUMBER(D13)),D13<0),"REVISAR abono",IF(C13<SUMIFS(Documentos!$C$8:$C$35,Documentos!$A$8:$A$35,B13),"REVISAR fecha","Correcto")))
F14: =IF(COUNTA(A14:E14)=0,"",IF(OR(A14="",COUNTIFS($A$8:$A$55,A14)<>1,COUNTIFS(Documentos!$A$8:$A$35,B14)<>1,NOT(ISNUMBER(C14)),NOT(ISNUMBER(D14)),D14<0),"REVISAR abono",IF(C14<SUMIFS(Documentos!$C$8:$C$35,Documentos!$A$8:$A$35,B14),"REVISAR fecha","Correcto")))
F15: =IF(COUNTA(A15:E15)=0,"",IF(OR(A15="",COUNTIFS($A$8:$A$55,A15)<>1,COUNTIFS(Documentos!$A$8:$A$35,B15)<>1,NOT(ISNUMBER(C15)),NOT(ISNUMBER(D15)),D15<0),"REVISAR abono",IF(C15<SUMIFS(Documentos!$C$8:$C$35,Documentos!$A$8:$A$35,B15),"REVISAR fecha","Correcto")))
F16: =IF(COUNTA(A16:E16)=0,"",IF(OR(A16="",COUNTIFS($A$8:$A$55,A16)<>1,COUNTIFS(Documentos!$A$8:$A$35,B16)<>1,NOT(ISNUMBER(C16)),NOT(ISNUMBER(D16)),D16<0),"REVISAR abono",IF(C16<SUMIFS(Documentos!$C$8:$C$35,Documentos!$A$8:$A$35,B16),"REVISAR fecha","Correcto")))
F17: =IF(COUNTA(A17:E17)=0,"",IF(OR(A17="",COUNTIFS($A$8:$A$55,A17)<>1,COUNTIFS(Documentos!$A$8:$A$35,B17)<>1,NOT(ISNUMBER(C17)),NOT(ISNUMBER(D17)),D17<0),"REVISAR abono",IF(C17<SUMIFS(Documentos!$C$8:$C$35,Documentos!$A$8:$A$35,B17),"REVISAR fecha","Correcto")))
F18: =IF(COUNTA(A18:E18)=0,"",IF(OR(A18="",COUNTIFS($A$8:$A$55,A18)<>1,COUNTIFS(Documentos!$A$8:$A$35,B18)<>1,NOT(ISNUMBER(C18)),NOT(ISNUMBER(D18)),D18<0),"REVISAR abono",IF(C18<SUMIFS(Documentos!$C$8:$C$35,Documentos!$A$8:$A$35,B18),"REVISAR fecha","Correcto")))
F19: =IF(COUNTA(A19:E19)=0,"",IF(OR(A19="",COUNTIFS($A$8:$A$55,A19)<>1,COUNTIFS(Documentos!$A$8:$A$35,B19)<>1,NOT(ISNUMBER(C19)),NOT(ISNUMBER(D19)),D19<0),"REVISAR abono",IF(C19<SUMIFS(Documentos!$C$8:$C$35,Documentos!$A$8:$A$35,B19),"REVISAR fecha","Correcto")))
F20: =IF(COUNTA(A20:E20)=0,"",IF(OR(A20="",COUNTIFS($A$8:$A$55,A20)<>1,COUNTIFS(Documentos!$A$8:$A$35,B20)<>1,NOT(ISNUMBER(C20)),NOT(ISNUMBER(D20)),D20<0),"REVISAR abono",IF(C20<SUMIFS(Documentos!$C$8:$C$35,Documentos!$A$8:$A$35,B20),"REVISAR fecha","Correcto")))
F21: =IF(COUNTA(A21:E21)=0,"",IF(OR(A21="",COUNTIFS($A$8:$A$55,A21)<>1,COUNTIFS(Documentos!$A$8:$A$35,B21)<>1,NOT(ISNUMBER(C21)),NOT(ISNUMBER(D21)),D21<0),"REVISAR abono",IF(C21<SUMIFS(Documentos!$C$8:$C$35,Documentos!$A$8:$A$35,B21),"REVISAR fecha","Correcto")))
F22: =IF(COUNTA(A22:E22)=0,"",IF(OR(A22="",COUNTIFS($A$8:$A$55,A22)<>1,COUNTIFS(Documentos!$A$8:$A$35,B22)<>1,NOT(ISNUMBER(C22)),NOT(ISNUMBER(D22)),D22<0),"REVISAR abono",IF(C22<SUMIFS(Documentos!$C$8:$C$35,Documentos!$A$8:$A$35,B22),"REVISAR fecha","Correcto")))
... F55: =IF(COUNTA(A55:E55)=0,"",IF(OR(A55="",COUNTIFS($A$8:$A$55,A55)<>1,COUNTIFS(Documentos!$A$8:$A$35,B55)<>1,NOT(ISNUMBER(C55)),NOT(ISNUMBER(D55)),D55<0),"REVISAR abono",IF(C55<SUMIFS(Documentos!$C$8:$C$35,Documentos!$A$8:$A$35,B55),"REVISAR fecha","Correcto")))

Sheet Clientes
A2: Clientes y saldo pendiente
A7: ID cliente | B7: Nombre | C7: Saldo | D7: Revisión
A8: C-001 | B8: Cliente Ejemplo Norte | C8: =IF(A8="","",SUMIFS(Documentos!$G$8:$G$35,Documentos!$B$8:$B$35,A8)) -> 600 | D8: =IF(COUNTA(A8:B8)=0,"",IF(OR(A8="",B8="",COUNTIFS($A$8:$A$35,A8)<>1),"REVISAR cliente","Correcto")) -> Correcto
A9: C-002 | B9: Cliente Ejemplo Sur | C9: =IF(A9="","",SUMIFS(Documentos!$G$8:$G$35,Documentos!$B$8:$B$35,A9)) -> 500 | D9: =IF(COUNTA(A9:B9)=0,"",IF(OR(A9="",B9="",COUNTIFS($A$8:$A$35,A9)<>1),"REVISAR cliente","Correcto")) -> Correcto
C10: =IF(A10="","",SUMIFS(Documentos!$G$8:$G$35,Documentos!$B$8:$B$35,A10)) | D10: =IF(COUNTA(A10:B10)=0,"",IF(OR(A10="",B10="",COUNTIFS($A$8:$A$35,A10)<>1),"REVISAR cliente","Correcto"))
C11: =IF(A11="","",SUMIFS(Documentos!$G$8:$G$35,Documentos!$B$8:$B$35,A11)) | D11: =IF(COUNTA(A11:B11)=0,"",IF(OR(A11="",B11="",COUNTIFS($A$8:$A$35,A11)<>1),"REVISAR cliente","Correcto"))
C12: =IF(A12="","",SUMIFS(Documentos!$G$8:$G$35,Documentos!$B$8:$B$35,A12)) | D12: =IF(COUNTA(A12:B12)=0,"",IF(OR(A12="",B12="",COUNTIFS($A$8:$A$35,A12)<>1),"REVISAR cliente","Correcto"))
C13: =IF(A13="","",SUMIFS(Documentos!$G$8:$G$35,Documentos!$B$8:$B$35,A13)) | D13: =IF(COUNTA(A13:B13)=0,"",IF(OR(A13="",B13="",COUNTIFS($A$8:$A$35,A13)<>1),"REVISAR cliente","Correcto"))
C14: =IF(A14="","",SUMIFS(Documentos!$G$8:$G$35,Documentos!$B$8:$B$35,A14)) | D14: =IF(COUNTA(A14:B14)=0,"",IF(OR(A14="",B14="",COUNTIFS($A$8:$A$35,A14)<>1),"REVISAR cliente","Correcto"))
C15: =IF(A15="","",SUMIFS(Documentos!$G$8:$G$35,Documentos!$B$8:$B$35,A15)) | D15: =IF(COUNTA(A15:B15)=0,"",IF(OR(A15="",B15="",COUNTIFS($A$8:$A$35,A15)<>1),"REVISAR cliente","Correcto"))
C16: =IF(A16="","",SUMIFS(Documentos!$G$8:$G$35,Documentos!$B$8:$B$35,A16)) | D16: =IF(COUNTA(A16:B16)=0,"",IF(OR(A16="",B16="",COUNTIFS($A$8:$A$35,A16)<>1),"REVISAR cliente","Correcto"))
C17: =IF(A17="","",SUMIFS(Documentos!$G$8:$G$35,Documentos!$B$8:$B$35,A17)) | D17: =IF(COUNTA(A17:B17)=0,"",IF(OR(A17="",B17="",COUNTIFS($A$8:$A$35,A17)<>1),"REVISAR cliente","Correcto"))
C18: =IF(A18="","",SUMIFS(Documentos!$G$8:$G$35,Documentos!$B$8:$B$35,A18)) | D18: =IF(COUNTA(A18:B18)=0,"",IF(OR(A18="",B18="",COUNTIFS($A$8:$A$35,A18)<>1),"REVISAR cliente","Correcto"))
C19: =IF(A19="","",SUMIFS(Documentos!$G$8:$G$35,Documentos!$B$8:$B$35,A19)) | D19: =IF(COUNTA(A19:B19)=0,"",IF(OR(A19="",B19="",COUNTIFS($A$8:$A$35,A19)<>1),"REVISAR cliente","Correcto"))
C20: =IF(A20="","",SUMIFS(Documentos!$G$8:$G$35,Documentos!$B$8:$B$35,A20)) | D20: =IF(COUNTA(A20:B20)=0,"",IF(OR(A20="",B20="",COUNTIFS($A$8:$A$35,A20)<>1),"REVISAR cliente","Correcto"))
C21: =IF(A21="","",SUMIFS(Documentos!$G$8:$G$35,Documentos!$B$8:$B$35,A21)) | D21: =IF(COUNTA(A21:B21)=0,"",IF(OR(A21="",B21="",COUNTIFS($A$8:$A$35,A21)<>1),"REVISAR cliente","Correcto"))
... C35: =IF(A35="","",SUMIFS(Documentos!$G$8:$G$35,Documentos!$B$8:$B$35,A35)) | D35: =IF(COUNTA(A35:B35)=0,"",IF(OR(A35="",B35="",COUNTIFS($A$8:$A$35,A35)<>1),"REVISAR cliente","Correcto"))

Sheet Instrucciones
A2: Cómo utilizar este archivo
A5: 1 | B5: Añadir la próxima acción acordada a cada documento para revisar la cartera.
A6: 2 | B6: Datos ficticios originales. Sustituye o borra únicamente las entradas azules antes de trabajar.
A7: 3 | B7: Mantén una moneda por libro. UM es una etiqueta: no convierte importes. Cambia la fecha de corte en Resumen B5.
A8: 4 | B8: Registra clientes con ID único. Cada documento necesita su propio ID y el ID del cliente existente.
A9: 5 | B9: Cada pago tiene ID único y referencia al documento. Se permiten varios abonos parciales del mismo documento.
A10: 6 | B10: La cartera excluye documentos emitidos después del corte y abonos posteriores al corte.
A11: 7 | B11: Días vencidos = máximo entre cero y corte menos vencimiento, cuando queda saldo positivo.
A12: 8 | B12: Los tramos son 0, 1–30, 31–60, 61–90 y más de 90 días. Un saldo negativo requiere revisión.
A13: 9 | B13: Corrige todas las alertas antes de usar los totales: pueden existir registros omitidos, duplicados o inválidos.
A14: 10 | B14: Capacidad: 28 clientes y documentos, 48 abonos. Usa las filas azules reservadas; fuera de ellas amplía TODOS los rangos.
A15: 11 | B15: El campo final del documento sirve de referencia operativa; no altera el saldo.
A16: 12 | B16: No admite varias monedas, notas de crédito ni intereses automáticos. No es un sistema de emisión fiscal.
A17: 13 | B17: PDF: muestra del archivo. Tras editar, exporta tu propio PDF y revisa qué clientes contiene.
