Workbook

Sheet Sobres
A2: Dinero disponible por sobre
A4: Moneda | B4: EUR
A6: Ejemplo ficticio. Sustituye las entradas azules por tus datos.
A8: Disponible entre los sobres | B8: =SUM(F16:F27) -> 380 | D8: Saldo para continuar | E8: =B8 -> 380
A9: Gasto neto | B9: =SUMIFS(Movimientos!E8:E507,Movimientos!B8:B507,"Gasto",Movimientos!G8:G507,"Correcto")-SUMIFS(Movimientos!E8:E507,Movimientos!B8:B507,"Devolución",Movimientos!G8:G507,"Correcto") -> 50
A10: Filas que revisar | B10: =COUNTIFS(Movimientos!G8:G507,"REVISAR*") -> 0
A15: Clave estable | B15: Nombre visible | C15: Inicial | D15: Entradas | E15: Salidas | F15: Disponible
A16: Alimentación | B16: Alimentación | C16: 200 | D16: =SUMIFS(Movimientos!E8:E507,Movimientos!D8:D507,A16,Movimientos!G8:G507,"Correcto") -> 30 | E16: =SUMIFS(Movimientos!E8:E507,Movimientos!C8:C507,A16,Movimientos!G8:G507,"Correcto") -> 60 | F16: =SUM(C16:D16)-E16 -> 170
A17: Transporte | B17: Transporte | C17: 80 | D17: =SUMIFS(Movimientos!E8:E507,Movimientos!D8:D507,A17,Movimientos!G8:G507,"Correcto") -> 0 | E17: =SUMIFS(Movimientos!E8:E507,Movimientos!C8:C507,A17,Movimientos!G8:G507,"Correcto") -> 0 | F17: =SUM(C17:D17)-E17 -> 80
A18: Ocio | B18: Ocio | C18: 100 | D18: =SUMIFS(Movimientos!E8:E507,Movimientos!D8:D507,A18,Movimientos!G8:G507,"Correcto") -> 0 | E18: =SUMIFS(Movimientos!E8:E507,Movimientos!C8:C507,A18,Movimientos!G8:G507,"Correcto") -> 20 | F18: =SUM(C18:D18)-E18 -> 80
A19: Imprevistos | B19: Imprevistos | C19: 50 | D19: =SUMIFS(Movimientos!E8:E507,Movimientos!D8:D507,A19,Movimientos!G8:G507,"Correcto") -> 0 | E19: =SUMIFS(Movimientos!E8:E507,Movimientos!C8:C507,A19,Movimientos!G8:G507,"Correcto") -> 0 | F19: =SUM(C19:D19)-E19 -> 50
A20: Vivienda | B20: Vivienda | C20: 0 | D20: =SUMIFS(Movimientos!E8:E507,Movimientos!D8:D507,A20,Movimientos!G8:G507,"Correcto") -> 0 | E20: =SUMIFS(Movimientos!E8:E507,Movimientos!C8:C507,A20,Movimientos!G8:G507,"Correcto") -> 0 | F20: =SUM(C20:D20)-E20 -> 0
A21: Suministros | B21: Suministros | C21: 0 | D21: =SUMIFS(Movimientos!E8:E507,Movimientos!D8:D507,A21,Movimientos!G8:G507,"Correcto") -> 0 | E21: =SUMIFS(Movimientos!E8:E507,Movimientos!C8:C507,A21,Movimientos!G8:G507,"Correcto") -> 0 | F21: =SUM(C21:D21)-E21 -> 0
A22: Seguro anual | B22: Seguro anual | C22: 0 | D22: =SUMIFS(Movimientos!E8:E507,Movimientos!D8:D507,A22,Movimientos!G8:G507,"Correcto") -> 0 | E22: =SUMIFS(Movimientos!E8:E507,Movimientos!C8:C507,A22,Movimientos!G8:G507,"Correcto") -> 0 | F22: =SUM(C22:D22)-E22 -> 0
A23: Fondo de emergencia | B23: Fondo de emergencia | C23: 0 | D23: =SUMIFS(Movimientos!E8:E507,Movimientos!D8:D507,A23,Movimientos!G8:G507,"Correcto") -> 0 | E23: =SUMIFS(Movimientos!E8:E507,Movimientos!C8:C507,A23,Movimientos!G8:G507,"Correcto") -> 0 | F23: =SUM(C23:D23)-E23 -> 0
A24: Salud | B24: Salud | C24: 0 | D24: =SUMIFS(Movimientos!E8:E507,Movimientos!D8:D507,A24,Movimientos!G8:G507,"Correcto") -> 0 | E24: =SUMIFS(Movimientos!E8:E507,Movimientos!C8:C507,A24,Movimientos!G8:G507,"Correcto") -> 0 | F24: =SUM(C24:D24)-E24 -> 0
A25: Ropa | B25: Ropa | C25: 0 | D25: =SUMIFS(Movimientos!E8:E507,Movimientos!D8:D507,A25,Movimientos!G8:G507,"Correcto") -> 0 | E25: =SUMIFS(Movimientos!E8:E507,Movimientos!C8:C507,A25,Movimientos!G8:G507,"Correcto") -> 0 | F25: =SUM(C25:D25)-E25 -> 0
A26: Personal 1 | B26: Personal 1 | C26: 0 | D26: =SUMIFS(Movimientos!E8:E507,Movimientos!D8:D507,A26,Movimientos!G8:G507,"Correcto") -> 0 | E26: =SUMIFS(Movimientos!E8:E507,Movimientos!C8:C507,A26,Movimientos!G8:G507,"Correcto") -> 0 | F26: =SUM(C26:D26)-E26 -> 0
A27: Personal 2 | B27: Personal 2 | C27: 0 | D27: =SUMIFS(Movimientos!E8:E507,Movimientos!D8:D507,A27,Movimientos!G8:G507,"Correcto") -> 0 | E27: =SUMIFS(Movimientos!E8:E507,Movimientos!C8:C507,A27,Movimientos!G8:G507,"Correcto") -> 0 | F27: =SUM(C27:D27)-E27 -> 0

Sheet Movimientos
A2: Gastos y traspasos entre sobres
A5: 500 filas editables. Para imprimir los movimientos, usa la hoja Imprimir y su selector de página.
A7: Fecha | B7: Operación | C7: Sale de | D7: Entra en | E7: Importe | F7: Concepto | G7: Control | H7: Nombre de salida | I7: Nombre de entrada | J7: Última fila usada
A8: 46311 | B8: Gasto | C8: Alimentación | E8: 60 | F8: Compra | G8: =IF(COUNTA(A8:F8)=0,"",IF(OR(NOT(ISNUMBER(A8)),NOT(ISNUMBER(E8)),E8<0,F8="",AND(B8<>"Gasto",B8<>"Aporte",B8<>"Traspaso",B8<>"Devolución"),AND(OR(B8="Gasto",B8="Traspaso"),COUNTIFS(Sobres!A16:A27,C8)<>1),AND(OR(B8="Aporte",B8="Devolución",B8="Traspaso"),COUNTIFS(Sobres!A16:A27,D8)<>1),AND(OR(B8="Aporte",B8="Devolución"),C8<>""),AND(B8="Gasto",D8<>""),AND(B8="Traspaso",C8=D8)),"REVISAR datos","Correcto")) -> Correcto | H8: =IF(C8="","",IF(COUNTIFS(Sobres!A16:A27,C8)=1,INDEX(Sobres!B16:B27,MATCH(C8,Sobres!A16:A27,0)),"REVISAR clave")) -> Alimentación | I8: =IF(D8="","",IF(COUNTIFS(Sobres!A16:A27,D8)=1,INDEX(Sobres!B16:B27,MATCH(D8,Sobres!A16:A27,0)),"REVISAR clave")) | J8: =IF(COUNTA(A8:F8)>0,ROW(),0) -> 8
A9: 46312 | B9: Traspaso | C9: Ocio | D9: Alimentación | E9: 20 | F9: Ajuste acordado | G9: =IF(COUNTA(A9:F9)=0,"",IF(OR(NOT(ISNUMBER(A9)),NOT(ISNUMBER(E9)),E9<0,F9="",AND(B9<>"Gasto",B9<>"Aporte",B9<>"Traspaso",B9<>"Devolución"),AND(OR(B9="Gasto",B9="Traspaso"),COUNTIFS(Sobres!A16:A27,C9)<>1),AND(OR(B9="Aporte",B9="Devolución",B9="Traspaso"),COUNTIFS(Sobres!A16:A27,D9)<>1),AND(OR(B9="Aporte",B9="Devolución"),C9<>""),AND(B9="Gasto",D9<>""),AND(B9="Traspaso",C9=D9)),"REVISAR datos","Correcto")) -> Correcto | H9: =IF(C9="","",IF(COUNTIFS(Sobres!A16:A27,C9)=1,INDEX(Sobres!B16:B27,MATCH(C9,Sobres!A16:A27,0)),"REVISAR clave")) -> Ocio | I9: =IF(D9="","",IF(COUNTIFS(Sobres!A16:A27,D9)=1,INDEX(Sobres!B16:B27,MATCH(D9,Sobres!A16:A27,0)),"REVISAR clave")) -> Alimentación | J9: =IF(COUNTA(A9:F9)>0,ROW(),0) -> 9
A10: 46313 | B10: Devolución | D10: Alimentación | E10: 10 | F10: Devolución compra | G10: =IF(COUNTA(A10:F10)=0,"",IF(OR(NOT(ISNUMBER(A10)),NOT(ISNUMBER(E10)),E10<0,F10="",AND(B10<>"Gasto",B10<>"Aporte",B10<>"Traspaso",B10<>"Devolución"),AND(OR(B10="Gasto",B10="Traspaso"),COUNTIFS(Sobres!A16:A27,C10)<>1),AND(OR(B10="Aporte",B10="Devolución",B10="Traspaso"),COUNTIFS(Sobres!A16:A27,D10)<>1),AND(OR(B10="Aporte",B10="Devolución"),C10<>""),AND(B10="Gasto",D10<>""),AND(B10="Traspaso",C10=D10)),"REVISAR datos","Correcto")) -> Correcto | H10: =IF(C10="","",IF(COUNTIFS(Sobres!A16:A27,C10)=1,INDEX(Sobres!B16:B27,MATCH(C10,Sobres!A16:A27,0)),"REVISAR clave")) | I10: =IF(D10="","",IF(COUNTIFS(Sobres!A16:A27,D10)=1,INDEX(Sobres!B16:B27,MATCH(D10,Sobres!A16:A27,0)),"REVISAR clave")) -> Alimentación | J10: =IF(COUNTA(A10:F10)>0,ROW(),0) -> 10
G11: =IF(COUNTA(A11:F11)=0,"",IF(OR(NOT(ISNUMBER(A11)),NOT(ISNUMBER(E11)),E11<0,F11="",AND(B11<>"Gasto",B11<>"Aporte",B11<>"Traspaso",B11<>"Devolución"),AND(OR(B11="Gasto",B11="Traspaso"),COUNTIFS(Sobres!A16:A27,C11)<>1),AND(OR(B11="Aporte",B11="Devolución",B11="Traspaso"),COUNTIFS(Sobres!A16:A27,D11)<>1),AND(OR(B11="Aporte",B11="Devolución"),C11<>""),AND(B11="Gasto",D11<>""),AND(B11="Traspaso",C11=D11)),"REVISAR datos","Correcto")) | H11: =IF(C11="","",IF(COUNTIFS(Sobres!A16:A27,C11)=1,INDEX(Sobres!B16:B27,MATCH(C11,Sobres!A16:A27,0)),"REVISAR clave")) | I11: =IF(D11="","",IF(COUNTIFS(Sobres!A16:A27,D11)=1,INDEX(Sobres!B16:B27,MATCH(D11,Sobres!A16:A27,0)),"REVISAR clave")) | J11: =IF(COUNTA(A11:F11)>0,ROW(),0) -> 0
G12: =IF(COUNTA(A12:F12)=0,"",IF(OR(NOT(ISNUMBER(A12)),NOT(ISNUMBER(E12)),E12<0,F12="",AND(B12<>"Gasto",B12<>"Aporte",B12<>"Traspaso",B12<>"Devolución"),AND(OR(B12="Gasto",B12="Traspaso"),COUNTIFS(Sobres!A16:A27,C12)<>1),AND(OR(B12="Aporte",B12="Devolución",B12="Traspaso"),COUNTIFS(Sobres!A16:A27,D12)<>1),AND(OR(B12="Aporte",B12="Devolución"),C12<>""),AND(B12="Gasto",D12<>""),AND(B12="Traspaso",C12=D12)),"REVISAR datos","Correcto")) | H12: =IF(C12="","",IF(COUNTIFS(Sobres!A16:A27,C12)=1,INDEX(Sobres!B16:B27,MATCH(C12,Sobres!A16:A27,0)),"REVISAR clave")) | I12: =IF(D12="","",IF(COUNTIFS(Sobres!A16:A27,D12)=1,INDEX(Sobres!B16:B27,MATCH(D12,Sobres!A16:A27,0)),"REVISAR clave")) | J12: =IF(COUNTA(A12:F12)>0,ROW(),0) -> 0
G13: =IF(COUNTA(A13:F13)=0,"",IF(OR(NOT(ISNUMBER(A13)),NOT(ISNUMBER(E13)),E13<0,F13="",AND(B13<>"Gasto",B13<>"Aporte",B13<>"Traspaso",B13<>"Devolución"),AND(OR(B13="Gasto",B13="Traspaso"),COUNTIFS(Sobres!A16:A27,C13)<>1),AND(OR(B13="Aporte",B13="Devolución",B13="Traspaso"),COUNTIFS(Sobres!A16:A27,D13)<>1),AND(OR(B13="Aporte",B13="Devolución"),C13<>""),AND(B13="Gasto",D13<>""),AND(B13="Traspaso",C13=D13)),"REVISAR datos","Correcto")) | H13: =IF(C13="","",IF(COUNTIFS(Sobres!A16:A27,C13)=1,INDEX(Sobres!B16:B27,MATCH(C13,Sobres!A16:A27,0)),"REVISAR clave")) | I13: =IF(D13="","",IF(COUNTIFS(Sobres!A16:A27,D13)=1,INDEX(Sobres!B16:B27,MATCH(D13,Sobres!A16:A27,0)),"REVISAR clave")) | J13: =IF(COUNTA(A13:F13)>0,ROW(),0) -> 0
G14: =IF(COUNTA(A14:F14)=0,"",IF(OR(NOT(ISNUMBER(A14)),NOT(ISNUMBER(E14)),E14<0,F14="",AND(B14<>"Gasto",B14<>"Aporte",B14<>"Traspaso",B14<>"Devolución"),AND(OR(B14="Gasto",B14="Traspaso"),COUNTIFS(Sobres!A16:A27,C14)<>1),AND(OR(B14="Aporte",B14="Devolución",B14="Traspaso"),COUNTIFS(Sobres!A16:A27,D14)<>1),AND(OR(B14="Aporte",B14="Devolución"),C14<>""),AND(B14="Gasto",D14<>""),AND(B14="Traspaso",C14=D14)),"REVISAR datos","Correcto")) | H14: =IF(C14="","",IF(COUNTIFS(Sobres!A16:A27,C14)=1,INDEX(Sobres!B16:B27,MATCH(C14,Sobres!A16:A27,0)),"REVISAR clave")) | I14: =IF(D14="","",IF(COUNTIFS(Sobres!A16:A27,D14)=1,INDEX(Sobres!B16:B27,MATCH(D14,Sobres!A16:A27,0)),"REVISAR clave")) | J14: =IF(COUNTA(A14:F14)>0,ROW(),0) -> 0
G15: =IF(COUNTA(A15:F15)=0,"",IF(OR(NOT(ISNUMBER(A15)),NOT(ISNUMBER(E15)),E15<0,F15="",AND(B15<>"Gasto",B15<>"Aporte",B15<>"Traspaso",B15<>"Devolución"),AND(OR(B15="Gasto",B15="Traspaso"),COUNTIFS(Sobres!A16:A27,C15)<>1),AND(OR(B15="Aporte",B15="Devolución",B15="Traspaso"),COUNTIFS(Sobres!A16:A27,D15)<>1),AND(OR(B15="Aporte",B15="Devolución"),C15<>""),AND(B15="Gasto",D15<>""),AND(B15="Traspaso",C15=D15)),"REVISAR datos","Correcto")) | H15: =IF(C15="","",IF(COUNTIFS(Sobres!A16:A27,C15)=1,INDEX(Sobres!B16:B27,MATCH(C15,Sobres!A16:A27,0)),"REVISAR clave")) | I15: =IF(D15="","",IF(COUNTIFS(Sobres!A16:A27,D15)=1,INDEX(Sobres!B16:B27,MATCH(D15,Sobres!A16:A27,0)),"REVISAR clave")) | J15: =IF(COUNTA(A15:F15)>0,ROW(),0) -> 0
G16: =IF(COUNTA(A16:F16)=0,"",IF(OR(NOT(ISNUMBER(A16)),NOT(ISNUMBER(E16)),E16<0,F16="",AND(B16<>"Gasto",B16<>"Aporte",B16<>"Traspaso",B16<>"Devolución"),AND(OR(B16="Gasto",B16="Traspaso"),COUNTIFS(Sobres!A16:A27,C16)<>1),AND(OR(B16="Aporte",B16="Devolución",B16="Traspaso"),COUNTIFS(Sobres!A16:A27,D16)<>1),AND(OR(B16="Aporte",B16="Devolución"),C16<>""),AND(B16="Gasto",D16<>""),AND(B16="Traspaso",C16=D16)),"REVISAR datos","Correcto")) | H16: =IF(C16="","",IF(COUNTIFS(Sobres!A16:A27,C16)=1,INDEX(Sobres!B16:B27,MATCH(C16,Sobres!A16:A27,0)),"REVISAR clave")) | I16: =IF(D16="","",IF(COUNTIFS(Sobres!A16:A27,D16)=1,INDEX(Sobres!B16:B27,MATCH(D16,Sobres!A16:A27,0)),"REVISAR clave")) | J16: =IF(COUNTA(A16:F16)>0,ROW(),0) -> 0
G17: =IF(COUNTA(A17:F17)=0,"",IF(OR(NOT(ISNUMBER(A17)),NOT(ISNUMBER(E17)),E17<0,F17="",AND(B17<>"Gasto",B17<>"Aporte",B17<>"Traspaso",B17<>"Devolución"),AND(OR(B17="Gasto",B17="Traspaso"),COUNTIFS(Sobres!A16:A27,C17)<>1),AND(OR(B17="Aporte",B17="Devolución",B17="Traspaso"),COUNTIFS(Sobres!A16:A27,D17)<>1),AND(OR(B17="Aporte",B17="Devolución"),C17<>""),AND(B17="Gasto",D17<>""),AND(B17="Traspaso",C17=D17)),"REVISAR datos","Correcto")) | H17: =IF(C17="","",IF(COUNTIFS(Sobres!A16:A27,C17)=1,INDEX(Sobres!B16:B27,MATCH(C17,Sobres!A16:A27,0)),"REVISAR clave")) | I17: =IF(D17="","",IF(COUNTIFS(Sobres!A16:A27,D17)=1,INDEX(Sobres!B16:B27,MATCH(D17,Sobres!A16:A27,0)),"REVISAR clave")) | J17: =IF(COUNTA(A17:F17)>0,ROW(),0) -> 0
G18: =IF(COUNTA(A18:F18)=0,"",IF(OR(NOT(ISNUMBER(A18)),NOT(ISNUMBER(E18)),E18<0,F18="",AND(B18<>"Gasto",B18<>"Aporte",B18<>"Traspaso",B18<>"Devolución"),AND(OR(B18="Gasto",B18="Traspaso"),COUNTIFS(Sobres!A16:A27,C18)<>1),AND(OR(B18="Aporte",B18="Devolución",B18="Traspaso"),COUNTIFS(Sobres!A16:A27,D18)<>1),AND(OR(B18="Aporte",B18="Devolución"),C18<>""),AND(B18="Gasto",D18<>""),AND(B18="Traspaso",C18=D18)),"REVISAR datos","Correcto")) | H18: =IF(C18="","",IF(COUNTIFS(Sobres!A16:A27,C18)=1,INDEX(Sobres!B16:B27,MATCH(C18,Sobres!A16:A27,0)),"REVISAR clave")) | I18: =IF(D18="","",IF(COUNTIFS(Sobres!A16:A27,D18)=1,INDEX(Sobres!B16:B27,MATCH(D18,Sobres!A16:A27,0)),"REVISAR clave")) | J18: =IF(COUNTA(A18:F18)>0,ROW(),0) -> 0
G19: =IF(COUNTA(A19:F19)=0,"",IF(OR(NOT(ISNUMBER(A19)),NOT(ISNUMBER(E19)),E19<0,F19="",AND(B19<>"Gasto",B19<>"Aporte",B19<>"Traspaso",B19<>"Devolución"),AND(OR(B19="Gasto",B19="Traspaso"),COUNTIFS(Sobres!A16:A27,C19)<>1),AND(OR(B19="Aporte",B19="Devolución",B19="Traspaso"),COUNTIFS(Sobres!A16:A27,D19)<>1),AND(OR(B19="Aporte",B19="Devolución"),C19<>""),AND(B19="Gasto",D19<>""),AND(B19="Traspaso",C19=D19)),"REVISAR datos","Correcto")) | H19: =IF(C19="","",IF(COUNTIFS(Sobres!A16:A27,C19)=1,INDEX(Sobres!B16:B27,MATCH(C19,Sobres!A16:A27,0)),"REVISAR clave")) | I19: =IF(D19="","",IF(COUNTIFS(Sobres!A16:A27,D19)=1,INDEX(Sobres!B16:B27,MATCH(D19,Sobres!A16:A27,0)),"REVISAR clave")) | J19: =IF(COUNTA(A19:F19)>0,ROW(),0) -> 0
G20: =IF(COUNTA(A20:F20)=0,"",IF(OR(NOT(ISNUMBER(A20)),NOT(ISNUMBER(E20)),E20<0,F20="",AND(B20<>"Gasto",B20<>"Aporte",B20<>"Traspaso",B20<>"Devolución"),AND(OR(B20="Gasto",B20="Traspaso"),COUNTIFS(Sobres!A16:A27,C20)<>1),AND(OR(B20="Aporte",B20="Devolución",B20="Traspaso"),COUNTIFS(Sobres!A16:A27,D20)<>1),AND(OR(B20="Aporte",B20="Devolución"),C20<>""),AND(B20="Gasto",D20<>""),AND(B20="Traspaso",C20=D20)),"REVISAR datos","Correcto")) | H20: =IF(C20="","",IF(COUNTIFS(Sobres!A16:A27,C20)=1,INDEX(Sobres!B16:B27,MATCH(C20,Sobres!A16:A27,0)),"REVISAR clave")) | I20: =IF(D20="","",IF(COUNTIFS(Sobres!A16:A27,D20)=1,INDEX(Sobres!B16:B27,MATCH(D20,Sobres!A16:A27,0)),"REVISAR clave")) | J20: =IF(COUNTA(A20:F20)>0,ROW(),0) -> 0
G21: =IF(COUNTA(A21:F21)=0,"",IF(OR(NOT(ISNUMBER(A21)),NOT(ISNUMBER(E21)),E21<0,F21="",AND(B21<>"Gasto",B21<>"Aporte",B21<>"Traspaso",B21<>"Devolución"),AND(OR(B21="Gasto",B21="Traspaso"),COUNTIFS(Sobres!A16:A27,C21)<>1),AND(OR(B21="Aporte",B21="Devolución",B21="Traspaso"),COUNTIFS(Sobres!A16:A27,D21)<>1),AND(OR(B21="Aporte",B21="Devolución"),C21<>""),AND(B21="Gasto",D21<>""),AND(B21="Traspaso",C21=D21)),"REVISAR datos","Correcto")) | H21: =IF(C21="","",IF(COUNTIFS(Sobres!A16:A27,C21)=1,INDEX(Sobres!B16:B27,MATCH(C21,Sobres!A16:A27,0)),"REVISAR clave")) | I21: =IF(D21="","",IF(COUNTIFS(Sobres!A16:A27,D21)=1,INDEX(Sobres!B16:B27,MATCH(D21,Sobres!A16:A27,0)),"REVISAR clave")) | J21: =IF(COUNTA(A21:F21)>0,ROW(),0) -> 0
G22: =IF(COUNTA(A22:F22)=0,"",IF(OR(NOT(ISNUMBER(A22)),NOT(ISNUMBER(E22)),E22<0,F22="",AND(B22<>"Gasto",B22<>"Aporte",B22<>"Traspaso",B22<>"Devolución"),AND(OR(B22="Gasto",B22="Traspaso"),COUNTIFS(Sobres!A16:A27,C22)<>1),AND(OR(B22="Aporte",B22="Devolución",B22="Traspaso"),COUNTIFS(Sobres!A16:A27,D22)<>1),AND(OR(B22="Aporte",B22="Devolución"),C22<>""),AND(B22="Gasto",D22<>""),AND(B22="Traspaso",C22=D22)),"REVISAR datos","Correcto")) | H22: =IF(C22="","",IF(COUNTIFS(Sobres!A16:A27,C22)=1,INDEX(Sobres!B16:B27,MATCH(C22,Sobres!A16:A27,0)),"REVISAR clave")) | I22: =IF(D22="","",IF(COUNTIFS(Sobres!A16:A27,D22)=1,INDEX(Sobres!B16:B27,MATCH(D22,Sobres!A16:A27,0)),"REVISAR clave")) | J22: =IF(COUNTA(A22:F22)>0,ROW(),0) -> 0
G23: =IF(COUNTA(A23:F23)=0,"",IF(OR(NOT(ISNUMBER(A23)),NOT(ISNUMBER(E23)),E23<0,F23="",AND(B23<>"Gasto",B23<>"Aporte",B23<>"Traspaso",B23<>"Devolución"),AND(OR(B23="Gasto",B23="Traspaso"),COUNTIFS(Sobres!A16:A27,C23)<>1),AND(OR(B23="Aporte",B23="Devolución",B23="Traspaso"),COUNTIFS(Sobres!A16:A27,D23)<>1),AND(OR(B23="Aporte",B23="Devolución"),C23<>""),AND(B23="Gasto",D23<>""),AND(B23="Traspaso",C23=D23)),"REVISAR datos","Correcto")) | H23: =IF(C23="","",IF(COUNTIFS(Sobres!A16:A27,C23)=1,INDEX(Sobres!B16:B27,MATCH(C23,Sobres!A16:A27,0)),"REVISAR clave")) | I23: =IF(D23="","",IF(COUNTIFS(Sobres!A16:A27,D23)=1,INDEX(Sobres!B16:B27,MATCH(D23,Sobres!A16:A27,0)),"REVISAR clave")) | J23: =IF(COUNTA(A23:F23)>0,ROW(),0) -> 0
G24: =IF(COUNTA(A24:F24)=0,"",IF(OR(NOT(ISNUMBER(A24)),NOT(ISNUMBER(E24)),E24<0,F24="",AND(B24<>"Gasto",B24<>"Aporte",B24<>"Traspaso",B24<>"Devolución"),AND(OR(B24="Gasto",B24="Traspaso"),COUNTIFS(Sobres!A16:A27,C24)<>1),AND(OR(B24="Aporte",B24="Devolución",B24="Traspaso"),COUNTIFS(Sobres!A16:A27,D24)<>1),AND(OR(B24="Aporte",B24="Devolución"),C24<>""),AND(B24="Gasto",D24<>""),AND(B24="Traspaso",C24=D24)),"REVISAR datos","Correcto")) | H24: =IF(C24="","",IF(COUNTIFS(Sobres!A16:A27,C24)=1,INDEX(Sobres!B16:B27,MATCH(C24,Sobres!A16:A27,0)),"REVISAR clave")) | I24: =IF(D24="","",IF(COUNTIFS(Sobres!A16:A27,D24)=1,INDEX(Sobres!B16:B27,MATCH(D24,Sobres!A16:A27,0)),"REVISAR clave")) | J24: =IF(COUNTA(A24:F24)>0,ROW(),0) -> 0
G25: =IF(COUNTA(A25:F25)=0,"",IF(OR(NOT(ISNUMBER(A25)),NOT(ISNUMBER(E25)),E25<0,F25="",AND(B25<>"Gasto",B25<>"Aporte",B25<>"Traspaso",B25<>"Devolución"),AND(OR(B25="Gasto",B25="Traspaso"),COUNTIFS(Sobres!A16:A27,C25)<>1),AND(OR(B25="Aporte",B25="Devolución",B25="Traspaso"),COUNTIFS(Sobres!A16:A27,D25)<>1),AND(OR(B25="Aporte",B25="Devolución"),C25<>""),AND(B25="Gasto",D25<>""),AND(B25="Traspaso",C25=D25)),"REVISAR datos","Correcto")) | H25: =IF(C25="","",IF(COUNTIFS(Sobres!A16:A27,C25)=1,INDEX(Sobres!B16:B27,MATCH(C25,Sobres!A16:A27,0)),"REVISAR clave")) | I25: =IF(D25="","",IF(COUNTIFS(Sobres!A16:A27,D25)=1,INDEX(Sobres!B16:B27,MATCH(D25,Sobres!A16:A27,0)),"REVISAR clave")) | J25: =IF(COUNTA(A25:F25)>0,ROW(),0) -> 0
G26: =IF(COUNTA(A26:F26)=0,"",IF(OR(NOT(ISNUMBER(A26)),NOT(ISNUMBER(E26)),E26<0,F26="",AND(B26<>"Gasto",B26<>"Aporte",B26<>"Traspaso",B26<>"Devolución"),AND(OR(B26="Gasto",B26="Traspaso"),COUNTIFS(Sobres!A16:A27,C26)<>1),AND(OR(B26="Aporte",B26="Devolución",B26="Traspaso"),COUNTIFS(Sobres!A16:A27,D26)<>1),AND(OR(B26="Aporte",B26="Devolución"),C26<>""),AND(B26="Gasto",D26<>""),AND(B26="Traspaso",C26=D26)),"REVISAR datos","Correcto")) | H26: =IF(C26="","",IF(COUNTIFS(Sobres!A16:A27,C26)=1,INDEX(Sobres!B16:B27,MATCH(C26,Sobres!A16:A27,0)),"REVISAR clave")) | I26: =IF(D26="","",IF(COUNTIFS(Sobres!A16:A27,D26)=1,INDEX(Sobres!B16:B27,MATCH(D26,Sobres!A16:A27,0)),"REVISAR clave")) | J26: =IF(COUNTA(A26:F26)>0,ROW(),0) -> 0
G27: =IF(COUNTA(A27:F27)=0,"",IF(OR(NOT(ISNUMBER(A27)),NOT(ISNUMBER(E27)),E27<0,F27="",AND(B27<>"Gasto",B27<>"Aporte",B27<>"Traspaso",B27<>"Devolución"),AND(OR(B27="Gasto",B27="Traspaso"),COUNTIFS(Sobres!A16:A27,C27)<>1),AND(OR(B27="Aporte",B27="Devolución",B27="Traspaso"),COUNTIFS(Sobres!A16:A27,D27)<>1),AND(OR(B27="Aporte",B27="Devolución"),C27<>""),AND(B27="Gasto",D27<>""),AND(B27="Traspaso",C27=D27)),"REVISAR datos","Correcto")) | H27: =IF(C27="","",IF(COUNTIFS(Sobres!A16:A27,C27)=1,INDEX(Sobres!B16:B27,MATCH(C27,Sobres!A16:A27,0)),"REVISAR clave")) | I27: =IF(D27="","",IF(COUNTIFS(Sobres!A16:A27,D27)=1,INDEX(Sobres!B16:B27,MATCH(D27,Sobres!A16:A27,0)),"REVISAR clave")) | J27: =IF(COUNTA(A27:F27)>0,ROW(),0) -> 0
G28: =IF(COUNTA(A28:F28)=0,"",IF(OR(NOT(ISNUMBER(A28)),NOT(ISNUMBER(E28)),E28<0,F28="",AND(B28<>"Gasto",B28<>"Aporte",B28<>"Traspaso",B28<>"Devolución"),AND(OR(B28="Gasto",B28="Traspaso"),COUNTIFS(Sobres!A16:A27,C28)<>1),AND(OR(B28="Aporte",B28="Devolución",B28="Traspaso"),COUNTIFS(Sobres!A16:A27,D28)<>1),AND(OR(B28="Aporte",B28="Devolución"),C28<>""),AND(B28="Gasto",D28<>""),AND(B28="Traspaso",C28=D28)),"REVISAR datos","Correcto")) | H28: =IF(C28="","",IF(COUNTIFS(Sobres!A16:A27,C28)=1,INDEX(Sobres!B16:B27,MATCH(C28,Sobres!A16:A27,0)),"REVISAR clave")) | I28: =IF(D28="","",IF(COUNTIFS(Sobres!A16:A27,D28)=1,INDEX(Sobres!B16:B27,MATCH(D28,Sobres!A16:A27,0)),"REVISAR clave")) | J28: =IF(COUNTA(A28:F28)>0,ROW(),0) -> 0
G29: =IF(COUNTA(A29:F29)=0,"",IF(OR(NOT(ISNUMBER(A29)),NOT(ISNUMBER(E29)),E29<0,F29="",AND(B29<>"Gasto",B29<>"Aporte",B29<>"Traspaso",B29<>"Devolución"),AND(OR(B29="Gasto",B29="Traspaso"),COUNTIFS(Sobres!A16:A27,C29)<>1),AND(OR(B29="Aporte",B29="Devolución",B29="Traspaso"),COUNTIFS(Sobres!A16:A27,D29)<>1),AND(OR(B29="Aporte",B29="Devolución"),C29<>""),AND(B29="Gasto",D29<>""),AND(B29="Traspaso",C29=D29)),"REVISAR datos","Correcto")) | H29: =IF(C29="","",IF(COUNTIFS(Sobres!A16:A27,C29)=1,INDEX(Sobres!B16:B27,MATCH(C29,Sobres!A16:A27,0)),"REVISAR clave")) | I29: =IF(D29="","",IF(COUNTIFS(Sobres!A16:A27,D29)=1,INDEX(Sobres!B16:B27,MATCH(D29,Sobres!A16:A27,0)),"REVISAR clave")) | J29: =IF(COUNTA(A29:F29)>0,ROW(),0) -> 0
G30: =IF(COUNTA(A30:F30)=0,"",IF(OR(NOT(ISNUMBER(A30)),NOT(ISNUMBER(E30)),E30<0,F30="",AND(B30<>"Gasto",B30<>"Aporte",B30<>"Traspaso",B30<>"Devolución"),AND(OR(B30="Gasto",B30="Traspaso"),COUNTIFS(Sobres!A16:A27,C30)<>1),AND(OR(B30="Aporte",B30="Devolución",B30="Traspaso"),COUNTIFS(Sobres!A16:A27,D30)<>1),AND(OR(B30="Aporte",B30="Devolución"),C30<>""),AND(B30="Gasto",D30<>""),AND(B30="Traspaso",C30=D30)),"REVISAR datos","Correcto")) | H30: =IF(C30="","",IF(COUNTIFS(Sobres!A16:A27,C30)=1,INDEX(Sobres!B16:B27,MATCH(C30,Sobres!A16:A27,0)),"REVISAR clave")) | I30: =IF(D30="","",IF(COUNTIFS(Sobres!A16:A27,D30)=1,INDEX(Sobres!B16:B27,MATCH(D30,Sobres!A16:A27,0)),"REVISAR clave")) | J30: =IF(COUNTA(A30:F30)>0,ROW(),0) -> 0
G31: =IF(COUNTA(A31:F31)=0,"",IF(OR(NOT(ISNUMBER(A31)),NOT(ISNUMBER(E31)),E31<0,F31="",AND(B31<>"Gasto",B31<>"Aporte",B31<>"Traspaso",B31<>"Devolución"),AND(OR(B31="Gasto",B31="Traspaso"),COUNTIFS(Sobres!A16:A27,C31)<>1),AND(OR(B31="Aporte",B31="Devolución",B31="Traspaso"),COUNTIFS(Sobres!A16:A27,D31)<>1),AND(OR(B31="Aporte",B31="Devolución"),C31<>""),AND(B31="Gasto",D31<>""),AND(B31="Traspaso",C31=D31)),"REVISAR datos","Correcto")) | H31: =IF(C31="","",IF(COUNTIFS(Sobres!A16:A27,C31)=1,INDEX(Sobres!B16:B27,MATCH(C31,Sobres!A16:A27,0)),"REVISAR clave")) | I31: =IF(D31="","",IF(COUNTIFS(Sobres!A16:A27,D31)=1,INDEX(Sobres!B16:B27,MATCH(D31,Sobres!A16:A27,0)),"REVISAR clave")) | J31: =IF(COUNTA(A31:F31)>0,ROW(),0) -> 0
G32: =IF(COUNTA(A32:F32)=0,"",IF(OR(NOT(ISNUMBER(A32)),NOT(ISNUMBER(E32)),E32<0,F32="",AND(B32<>"Gasto",B32<>"Aporte",B32<>"Traspaso",B32<>"Devolución"),AND(OR(B32="Gasto",B32="Traspaso"),COUNTIFS(Sobres!A16:A27,C32)<>1),AND(OR(B32="Aporte",B32="Devolución",B32="Traspaso"),COUNTIFS(Sobres!A16:A27,D32)<>1),AND(OR(B32="Aporte",B32="Devolución"),C32<>""),AND(B32="Gasto",D32<>""),AND(B32="Traspaso",C32=D32)),"REVISAR datos","Correcto")) | H32: =IF(C32="","",IF(COUNTIFS(Sobres!A16:A27,C32)=1,INDEX(Sobres!B16:B27,MATCH(C32,Sobres!A16:A27,0)),"REVISAR clave")) | I32: =IF(D32="","",IF(COUNTIFS(Sobres!A16:A27,D32)=1,INDEX(Sobres!B16:B27,MATCH(D32,Sobres!A16:A27,0)),"REVISAR clave")) | J32: =IF(COUNTA(A32:F32)>0,ROW(),0) -> 0
G33: =IF(COUNTA(A33:F33)=0,"",IF(OR(NOT(ISNUMBER(A33)),NOT(ISNUMBER(E33)),E33<0,F33="",AND(B33<>"Gasto",B33<>"Aporte",B33<>"Traspaso",B33<>"Devolución"),AND(OR(B33="Gasto",B33="Traspaso"),COUNTIFS(Sobres!A16:A27,C33)<>1),AND(OR(B33="Aporte",B33="Devolución",B33="Traspaso"),COUNTIFS(Sobres!A16:A27,D33)<>1),AND(OR(B33="Aporte",B33="Devolución"),C33<>""),AND(B33="Gasto",D33<>""),AND(B33="Traspaso",C33=D33)),"REVISAR datos","Correcto")) | H33: =IF(C33="","",IF(COUNTIFS(Sobres!A16:A27,C33)=1,INDEX(Sobres!B16:B27,MATCH(C33,Sobres!A16:A27,0)),"REVISAR clave")) | I33: =IF(D33="","",IF(COUNTIFS(Sobres!A16:A27,D33)=1,INDEX(Sobres!B16:B27,MATCH(D33,Sobres!A16:A27,0)),"REVISAR clave")) | J33: =IF(COUNTA(A33:F33)>0,ROW(),0) -> 0
G34: =IF(COUNTA(A34:F34)=0,"",IF(OR(NOT(ISNUMBER(A34)),NOT(ISNUMBER(E34)),E34<0,F34="",AND(B34<>"Gasto",B34<>"Aporte",B34<>"Traspaso",B34<>"Devolución"),AND(OR(B34="Gasto",B34="Traspaso"),COUNTIFS(Sobres!A16:A27,C34)<>1),AND(OR(B34="Aporte",B34="Devolución",B34="Traspaso"),COUNTIFS(Sobres!A16:A27,D34)<>1),AND(OR(B34="Aporte",B34="Devolución"),C34<>""),AND(B34="Gasto",D34<>""),AND(B34="Traspaso",C34=D34)),"REVISAR datos","Correcto")) | H34: =IF(C34="","",IF(COUNTIFS(Sobres!A16:A27,C34)=1,INDEX(Sobres!B16:B27,MATCH(C34,Sobres!A16:A27,0)),"REVISAR clave")) | I34: =IF(D34="","",IF(COUNTIFS(Sobres!A16:A27,D34)=1,INDEX(Sobres!B16:B27,MATCH(D34,Sobres!A16:A27,0)),"REVISAR clave")) | J34: =IF(COUNTA(A34:F34)>0,ROW(),0) -> 0
G35: =IF(COUNTA(A35:F35)=0,"",IF(OR(NOT(ISNUMBER(A35)),NOT(ISNUMBER(E35)),E35<0,F35="",AND(B35<>"Gasto",B35<>"Aporte",B35<>"Traspaso",B35<>"Devolución"),AND(OR(B35="Gasto",B35="Traspaso"),COUNTIFS(Sobres!A16:A27,C35)<>1),AND(OR(B35="Aporte",B35="Devolución",B35="Traspaso"),COUNTIFS(Sobres!A16:A27,D35)<>1),AND(OR(B35="Aporte",B35="Devolución"),C35<>""),AND(B35="Gasto",D35<>""),AND(B35="Traspaso",C35=D35)),"REVISAR datos","Correcto")) | H35: =IF(C35="","",IF(COUNTIFS(Sobres!A16:A27,C35)=1,INDEX(Sobres!B16:B27,MATCH(C35,Sobres!A16:A27,0)),"REVISAR clave")) | I35: =IF(D35="","",IF(COUNTIFS(Sobres!A16:A27,D35)=1,INDEX(Sobres!B16:B27,MATCH(D35,Sobres!A16:A27,0)),"REVISAR clave")) | J35: =IF(COUNTA(A35:F35)>0,ROW(),0) -> 0
G36: =IF(COUNTA(A36:F36)=0,"",IF(OR(NOT(ISNUMBER(A36)),NOT(ISNUMBER(E36)),E36<0,F36="",AND(B36<>"Gasto",B36<>"Aporte",B36<>"Traspaso",B36<>"Devolución"),AND(OR(B36="Gasto",B36="Traspaso"),COUNTIFS(Sobres!A16:A27,C36)<>1),AND(OR(B36="Aporte",B36="Devolución",B36="Traspaso"),COUNTIFS(Sobres!A16:A27,D36)<>1),AND(OR(B36="Aporte",B36="Devolución"),C36<>""),AND(B36="Gasto",D36<>""),AND(B36="Traspaso",C36=D36)),"REVISAR datos","Correcto")) | H36: =IF(C36="","",IF(COUNTIFS(Sobres!A16:A27,C36)=1,INDEX(Sobres!B16:B27,MATCH(C36,Sobres!A16:A27,0)),"REVISAR clave")) | I36: =IF(D36="","",IF(COUNTIFS(Sobres!A16:A27,D36)=1,INDEX(Sobres!B16:B27,MATCH(D36,Sobres!A16:A27,0)),"REVISAR clave")) | J36: =IF(COUNTA(A36:F36)>0,ROW(),0) -> 0
G37: =IF(COUNTA(A37:F37)=0,"",IF(OR(NOT(ISNUMBER(A37)),NOT(ISNUMBER(E37)),E37<0,F37="",AND(B37<>"Gasto",B37<>"Aporte",B37<>"Traspaso",B37<>"Devolución"),AND(OR(B37="Gasto",B37="Traspaso"),COUNTIFS(Sobres!A16:A27,C37)<>1),AND(OR(B37="Aporte",B37="Devolución",B37="Traspaso"),COUNTIFS(Sobres!A16:A27,D37)<>1),AND(OR(B37="Aporte",B37="Devolución"),C37<>""),AND(B37="Gasto",D37<>""),AND(B37="Traspaso",C37=D37)),"REVISAR datos","Correcto")) | H37: =IF(C37="","",IF(COUNTIFS(Sobres!A16:A27,C37)=1,INDEX(Sobres!B16:B27,MATCH(C37,Sobres!A16:A27,0)),"REVISAR clave")) | I37: =IF(D37="","",IF(COUNTIFS(Sobres!A16:A27,D37)=1,INDEX(Sobres!B16:B27,MATCH(D37,Sobres!A16:A27,0)),"REVISAR clave")) | J37: =IF(COUNTA(A37:F37)>0,ROW(),0) -> 0
G38: =IF(COUNTA(A38:F38)=0,"",IF(OR(NOT(ISNUMBER(A38)),NOT(ISNUMBER(E38)),E38<0,F38="",AND(B38<>"Gasto",B38<>"Aporte",B38<>"Traspaso",B38<>"Devolución"),AND(OR(B38="Gasto",B38="Traspaso"),COUNTIFS(Sobres!A16:A27,C38)<>1),AND(OR(B38="Aporte",B38="Devolución",B38="Traspaso"),COUNTIFS(Sobres!A16:A27,D38)<>1),AND(OR(B38="Aporte",B38="Devolución"),C38<>""),AND(B38="Gasto",D38<>""),AND(B38="Traspaso",C38=D38)),"REVISAR datos","Correcto")) | H38: =IF(C38="","",IF(COUNTIFS(Sobres!A16:A27,C38)=1,INDEX(Sobres!B16:B27,MATCH(C38,Sobres!A16:A27,0)),"REVISAR clave")) | I38: =IF(D38="","",IF(COUNTIFS(Sobres!A16:A27,D38)=1,INDEX(Sobres!B16:B27,MATCH(D38,Sobres!A16:A27,0)),"REVISAR clave")) | J38: =IF(COUNTA(A38:F38)>0,ROW(),0) -> 0
G39: =IF(COUNTA(A39:F39)=0,"",IF(OR(NOT(ISNUMBER(A39)),NOT(ISNUMBER(E39)),E39<0,F39="",AND(B39<>"Gasto",B39<>"Aporte",B39<>"Traspaso",B39<>"Devolución"),AND(OR(B39="Gasto",B39="Traspaso"),COUNTIFS(Sobres!A16:A27,C39)<>1),AND(OR(B39="Aporte",B39="Devolución",B39="Traspaso"),COUNTIFS(Sobres!A16:A27,D39)<>1),AND(OR(B39="Aporte",B39="Devolución"),C39<>""),AND(B39="Gasto",D39<>""),AND(B39="Traspaso",C39=D39)),"REVISAR datos","Correcto")) | H39: =IF(C39="","",IF(COUNTIFS(Sobres!A16:A27,C39)=1,INDEX(Sobres!B16:B27,MATCH(C39,Sobres!A16:A27,0)),"REVISAR clave")) | I39: =IF(D39="","",IF(COUNTIFS(Sobres!A16:A27,D39)=1,INDEX(Sobres!B16:B27,MATCH(D39,Sobres!A16:A27,0)),"REVISAR clave")) | J39: =IF(COUNTA(A39:F39)>0,ROW(),0) -> 0
G40: =IF(COUNTA(A40:F40)=0,"",IF(OR(NOT(ISNUMBER(A40)),NOT(ISNUMBER(E40)),E40<0,F40="",AND(B40<>"Gasto",B40<>"Aporte",B40<>"Traspaso",B40<>"Devolución"),AND(OR(B40="Gasto",B40="Traspaso"),COUNTIFS(Sobres!A16:A27,C40)<>1),AND(OR(B40="Aporte",B40="Devolución",B40="Traspaso"),COUNTIFS(Sobres!A16:A27,D40)<>1),AND(OR(B40="Aporte",B40="Devolución"),C40<>""),AND(B40="Gasto",D40<>""),AND(B40="Traspaso",C40=D40)),"REVISAR datos","Correcto")) | H40: =IF(C40="","",IF(COUNTIFS(Sobres!A16:A27,C40)=1,INDEX(Sobres!B16:B27,MATCH(C40,Sobres!A16:A27,0)),"REVISAR clave")) | I40: =IF(D40="","",IF(COUNTIFS(Sobres!A16:A27,D40)=1,INDEX(Sobres!B16:B27,MATCH(D40,Sobres!A16:A27,0)),"REVISAR clave")) | J40: =IF(COUNTA(A40:F40)>0,ROW(),0) -> 0
G41: =IF(COUNTA(A41:F41)=0,"",IF(OR(NOT(ISNUMBER(A41)),NOT(ISNUMBER(E41)),E41<0,F41="",AND(B41<>"Gasto",B41<>"Aporte",B41<>"Traspaso",B41<>"Devolución"),AND(OR(B41="Gasto",B41="Traspaso"),COUNTIFS(Sobres!A16:A27,C41)<>1),AND(OR(B41="Aporte",B41="Devolución",B41="Traspaso"),COUNTIFS(Sobres!A16:A27,D41)<>1),AND(OR(B41="Aporte",B41="Devolución"),C41<>""),AND(B41="Gasto",D41<>""),AND(B41="Traspaso",C41=D41)),"REVISAR datos","Correcto")) | H41: =IF(C41="","",IF(COUNTIFS(Sobres!A16:A27,C41)=1,INDEX(Sobres!B16:B27,MATCH(C41,Sobres!A16:A27,0)),"REVISAR clave")) | I41: =IF(D41="","",IF(COUNTIFS(Sobres!A16:A27,D41)=1,INDEX(Sobres!B16:B27,MATCH(D41,Sobres!A16:A27,0)),"REVISAR clave")) | J41: =IF(COUNTA(A41:F41)>0,ROW(),0) -> 0
G42: =IF(COUNTA(A42:F42)=0,"",IF(OR(NOT(ISNUMBER(A42)),NOT(ISNUMBER(E42)),E42<0,F42="",AND(B42<>"Gasto",B42<>"Aporte",B42<>"Traspaso",B42<>"Devolución"),AND(OR(B42="Gasto",B42="Traspaso"),COUNTIFS(Sobres!A16:A27,C42)<>1),AND(OR(B42="Aporte",B42="Devolución",B42="Traspaso"),COUNTIFS(Sobres!A16:A27,D42)<>1),AND(OR(B42="Aporte",B42="Devolución"),C42<>""),AND(B42="Gasto",D42<>""),AND(B42="Traspaso",C42=D42)),"REVISAR datos","Correcto")) | H42: =IF(C42="","",IF(COUNTIFS(Sobres!A16:A27,C42)=1,INDEX(Sobres!B16:B27,MATCH(C42,Sobres!A16:A27,0)),"REVISAR clave")) | I42: =IF(D42="","",IF(COUNTIFS(Sobres!A16:A27,D42)=1,INDEX(Sobres!B16:B27,MATCH(D42,Sobres!A16:A27,0)),"REVISAR clave")) | J42: =IF(COUNTA(A42:F42)>0,ROW(),0) -> 0
G43: =IF(COUNTA(A43:F43)=0,"",IF(OR(NOT(ISNUMBER(A43)),NOT(ISNUMBER(E43)),E43<0,F43="",AND(B43<>"Gasto",B43<>"Aporte",B43<>"Traspaso",B43<>"Devolución"),AND(OR(B43="Gasto",B43="Traspaso"),COUNTIFS(Sobres!A16:A27,C43)<>1),AND(OR(B43="Aporte",B43="Devolución",B43="Traspaso"),COUNTIFS(Sobres!A16:A27,D43)<>1),AND(OR(B43="Aporte",B43="Devolución"),C43<>""),AND(B43="Gasto",D43<>""),AND(B43="Traspaso",C43=D43)),"REVISAR datos","Correcto")) | H43: =IF(C43="","",IF(COUNTIFS(Sobres!A16:A27,C43)=1,INDEX(Sobres!B16:B27,MATCH(C43,Sobres!A16:A27,0)),"REVISAR clave")) | I43: =IF(D43="","",IF(COUNTIFS(Sobres!A16:A27,D43)=1,INDEX(Sobres!B16:B27,MATCH(D43,Sobres!A16:A27,0)),"REVISAR clave")) | J43: =IF(COUNTA(A43:F43)>0,ROW(),0) -> 0
G44: =IF(COUNTA(A44:F44)=0,"",IF(OR(NOT(ISNUMBER(A44)),NOT(ISNUMBER(E44)),E44<0,F44="",AND(B44<>"Gasto",B44<>"Aporte",B44<>"Traspaso",B44<>"Devolución"),AND(OR(B44="Gasto",B44="Traspaso"),COUNTIFS(Sobres!A16:A27,C44)<>1),AND(OR(B44="Aporte",B44="Devolución",B44="Traspaso"),COUNTIFS(Sobres!A16:A27,D44)<>1),AND(OR(B44="Aporte",B44="Devolución"),C44<>""),AND(B44="Gasto",D44<>""),AND(B44="Traspaso",C44=D44)),"REVISAR datos","Correcto")) | H44: =IF(C44="","",IF(COUNTIFS(Sobres!A16:A27,C44)=1,INDEX(Sobres!B16:B27,MATCH(C44,Sobres!A16:A27,0)),"REVISAR clave")) | I44: =IF(D44="","",IF(COUNTIFS(Sobres!A16:A27,D44)=1,INDEX(Sobres!B16:B27,MATCH(D44,Sobres!A16:A27,0)),"REVISAR clave")) | J44: =IF(COUNTA(A44:F44)>0,ROW(),0) -> 0
...

Sheet Ayuda
B2: Cómo usar esta herramienta
B5: Hay doce sobres. Elige su clave estable en los movimientos; al lado aparece el nombre visible que puedes personalizar.
B6: Cambiar Nombre visible no cambia la clave y conserva todos los movimientos y saldos anteriores.
B7: Gasto usa Sale de. Aporte y Devolución usan Entra en. Traspaso usa ambos; introduce importes positivos.
B8: Los doce saldos permiten ejecutar las siete partidas del ejemplo de base cero. Introduce los importes de tu propio plan como iniciales.
B9: Puedes continuar en el mismo libro: conserva el registro y añade nuevas aportaciones. No vuelvas a sumar el saldo anterior como aporte.
B10: Al archivar por capacidad, los valores de Disponible son los iniciales del nuevo archivo vacío; no copies también los movimientos antiguos.
B11: Las celdas con fondo azul son editables. Fórmulas protegidas sin contraseña.
B12: Importes de ejemplo ficticios. Cada archivo vacío conserva solo ajustes y fórmulas.
B13: Pruebas de cálculo en LibreOffice. Excel 365, móvil y Google Sheets pendientes.
B14: PlantillasyPortadas · https://plantillasyportadas.com/ · 16/10/2026
A15: Impresión: en Imprimir elige página 1–25 e imprime la hoja activa. El registro original solo ofrece una vista parcial.

Sheet Imprimir
A2: Registro: página de movimientos
A4: Página (1 a 25) | B4: 1 | D4: Páginas con datos | E4: =MAX(1,ROUNDUP((MAX(14,MAX(Movimientos!$J$8:$J$507))-7)/20,0)) -> 1
A5: Imprime esta hoja. Cambia Página para recorrer el registro: veinte filas por página.
A7: =Movimientos!A7 -> Fecha | B7: =Movimientos!B7 -> Operación | C7: =Movimientos!C7 -> Sale de | D7: =Movimientos!D7 -> Entra en | E7: =Movimientos!E7 -> Importe | F7: =Movimientos!F7 -> Concepto | G7: =Movimientos!G7 -> Control | H7: =Movimientos!H7 -> Nombre de salida | I7: =Movimientos!I7 -> Nombre de entrada
A8: =IF(AND(ISNUMBER($B$4),$B$4>=1,$B$4<=25,MOD($B$4,1)=0),IF(INDEX(Movimientos!J8:J507,($B$4-1)*20+1)=0,"",IF(INDEX(Movimientos!A8:A507,($B$4-1)*20+1)="","",INDEX(Movimientos!A8:A507,($B$4-1)*20+1))),"Revisa página") -> 46311 | B8: =IF(AND(ISNUMBER($B$4),$B$4>=1,$B$4<=25,MOD($B$4,1)=0),IF(INDEX(Movimientos!J8:J507,($B$4-1)*20+1)=0,"",IF(INDEX(Movimientos!B8:B507,($B$4-1)*20+1)="","",INDEX(Movimientos!B8:B507,($B$4-1)*20+1))),"Revisa página") -> Gasto | C8: =IF(AND(ISNUMBER($B$4),$B$4>=1,$B$4<=25,MOD($B$4,1)=0),IF(INDEX(Movimientos!J8:J507,($B$4-1)*20+1)=0,"",IF(INDEX(Movimientos!C8:C507,($B$4-1)*20+1)="","",INDEX(Movimientos!C8:C507,($B$4-1)*20+1))),"Revisa página") -> Alimentación | D8: =IF(AND(ISNUMBER($B$4),$B$4>=1,$B$4<=25,MOD($B$4,1)=0),IF(INDEX(Movimientos!J8:J507,($B$4-1)*20+1)=0,"",IF(INDEX(Movimientos!D8:D507,($B$4-1)*20+1)="","",INDEX(Movimientos!D8:D507,($B$4-1)*20+1))),"Revisa página") | E8: =IF(AND(ISNUMBER($B$4),$B$4>=1,$B$4<=25,MOD($B$4,1)=0),IF(INDEX(Movimientos!J8:J507,($B$4-1)*20+1)=0,"",IF(INDEX(Movimientos!E8:E507,($B$4-1)*20+1)="","",INDEX(Movimientos!E8:E507,($B$4-1)*20+1))),"Revisa página") -> 60 | F8: =IF(AND(ISNUMBER($B$4),$B$4>=1,$B$4<=25,MOD($B$4,1)=0),IF(INDEX(Movimientos!J8:J507,($B$4-1)*20+1)=0,"",IF(INDEX(Movimientos!F8:F507,($B$4-1)*20+1)="","",INDEX(Movimientos!F8:F507,($B$4-1)*20+1))),"Revisa página") -> Compra | G8: =IF(AND(ISNUMBER($B$4),$B$4>=1,$B$4<=25,MOD($B$4,1)=0),IF(INDEX(Movimientos!J8:J507,($B$4-1)*20+1)=0,"",IF(INDEX(Movimientos!G8:G507,($B$4-1)*20+1)="","",INDEX(Movimientos!G8:G507,($B$4-1)*20+1))),"Revisa página") -> Correcto | H8: =IF(AND(ISNUMBER($B$4),$B$4>=1,$B$4<=25,MOD($B$4,1)=0),IF(INDEX(Movimientos!J8:J507,($B$4-1)*20+1)=0,"",IF(INDEX(Movimientos!H8:H507,($B$4-1)*20+1)="","",INDEX(Movimientos!H8:H507,($B$4-1)*20+1))),"Revisa página") -> Alimentación | I8: =IF(AND(ISNUMBER($B$4),$B$4>=1,$B$4<=25,MOD($B$4,1)=0),IF(INDEX(Movimientos!J8:J507,($B$4-1)*20+1)=0,"",IF(INDEX(Movimientos!I8:I507,($B$4-1)*20+1)="","",INDEX(Movimientos!I8:I507,($B$4-1)*20+1))),"Revisa página")
A9: =IF(AND(ISNUMBER($B$4),$B$4>=1,$B$4<=25,MOD($B$4,1)=0),IF(INDEX(Movimientos!J8:J507,($B$4-1)*20+2)=0,"",IF(INDEX(Movimientos!A8:A507,($B$4-1)*20+2)="","",INDEX(Movimientos!A8:A507,($B$4-1)*20+2))),"Revisa página") -> 46312 | B9: =IF(AND(ISNUMBER($B$4),$B$4>=1,$B$4<=25,MOD($B$4,1)=0),IF(INDEX(Movimientos!J8:J507,($B$4-1)*20+2)=0,"",IF(INDEX(Movimientos!B8:B507,($B$4-1)*20+2)="","",INDEX(Movimientos!B8:B507,($B$4-1)*20+2))),"Revisa página") -> Traspaso | C9: =IF(AND(ISNUMBER($B$4),$B$4>=1,$B$4<=25,MOD($B$4,1)=0),IF(INDEX(Movimientos!J8:J507,($B$4-1)*20+2)=0,"",IF(INDEX(Movimientos!C8:C507,($B$4-1)*20+2)="","",INDEX(Movimientos!C8:C507,($B$4-1)*20+2))),"Revisa página") -> Ocio | D9: =IF(AND(ISNUMBER($B$4),$B$4>=1,$B$4<=25,MOD($B$4,1)=0),IF(INDEX(Movimientos!J8:J507,($B$4-1)*20+2)=0,"",IF(INDEX(Movimientos!D8:D507,($B$4-1)*20+2)="","",INDEX(Movimientos!D8:D507,($B$4-1)*20+2))),"Revisa página") -> Alimentación | E9: =IF(AND(ISNUMBER($B$4),$B$4>=1,$B$4<=25,MOD($B$4,1)=0),IF(INDEX(Movimientos!J8:J507,($B$4-1)*20+2)=0,"",IF(INDEX(Movimientos!E8:E507,($B$4-1)*20+2)="","",INDEX(Movimientos!E8:E507,($B$4-1)*20+2))),"Revisa página") -> 20 | F9: =IF(AND(ISNUMBER($B$4),$B$4>=1,$B$4<=25,MOD($B$4,1)=0),IF(INDEX(Movimientos!J8:J507,($B$4-1)*20+2)=0,"",IF(INDEX(Movimientos!F8:F507,($B$4-1)*20+2)="","",INDEX(Movimientos!F8:F507,($B$4-1)*20+2))),"Revisa página") -> Ajuste acordado | G9: =IF(AND(ISNUMBER($B$4),$B$4>=1,$B$4<=25,MOD($B$4,1)=0),IF(INDEX(Movimientos!J8:J507,($B$4-1)*20+2)=0,"",IF(INDEX(Movimientos!G8:G507,($B$4-1)*20+2)="","",INDEX(Movimientos!G8:G507,($B$4-1)*20+2))),"Revisa página") -> Correcto | H9: =IF(AND(ISNUMBER($B$4),$B$4>=1,$B$4<=25,MOD($B$4,1)=0),IF(INDEX(Movimientos!J8:J507,($B$4-1)*20+2)=0,"",IF(INDEX(Movimientos!H8:H507,($B$4-1)*20+2)="","",INDEX(Movimientos!H8:H507,($B$4-1)*20+2))),"Revisa página") -> Ocio | I9: =IF(AND(ISNUMBER($B$4),$B$4>=1,$B$4<=25,MOD($B$4,1)=0),IF(INDEX(Movimientos!J8:J507,($B$4-1)*20+2)=0,"",IF(INDEX(Movimientos!I8:I507,($B$4-1)*20+2)="","",INDEX(Movimientos!I8:I507,($B$4-1)*20+2))),"Revisa página") -> Alimentación
A10: =IF(AND(ISNUMBER($B$4),$B$4>=1,$B$4<=25,MOD($B$4,1)=0),IF(INDEX(Movimientos!J8:J507,($B$4-1)*20+3)=0,"",IF(INDEX(Movimientos!A8:A507,($B$4-1)*20+3)="","",INDEX(Movimientos!A8:A507,($B$4-1)*20+3))),"Revisa página") -> 46313 | B10: =IF(AND(ISNUMBER($B$4),$B$4>=1,$B$4<=25,MOD($B$4,1)=0),IF(INDEX(Movimientos!J8:J507,($B$4-1)*20+3)=0,"",IF(INDEX(Movimientos!B8:B507,($B$4-1)*20+3)="","",INDEX(Movimientos!B8:B507,($B$4-1)*20+3))),"Revisa página") -> Devolución | C10: =IF(AND(ISNUMBER($B$4),$B$4>=1,$B$4<=25,MOD($B$4,1)=0),IF(INDEX(Movimientos!J8:J507,($B$4-1)*20+3)=0,"",IF(INDEX(Movimientos!C8:C507,($B$4-1)*20+3)="","",INDEX(Movimientos!C8:C507,($B$4-1)*20+3))),"Revisa página") | D10: =IF(AND(ISNUMBER($B$4),$B$4>=1,$B$4<=25,MOD($B$4,1)=0),IF(INDEX(Movimientos!J8:J507,($B$4-1)*20+3)=0,"",IF(INDEX(Movimientos!D8:D507,($B$4-1)*20+3)="","",INDEX(Movimientos!D8:D507,($B$4-1)*20+3))),"Revisa página") -> Alimentación | E10: =IF(AND(ISNUMBER($B$4),$B$4>=1,$B$4<=25,MOD($B$4,1)=0),IF(INDEX(Movimientos!J8:J507,($B$4-1)*20+3)=0,"",IF(INDEX(Movimientos!E8:E507,($B$4-1)*20+3)="","",INDEX(Movimientos!E8:E507,($B$4-1)*20+3))),"Revisa página") -> 10 | F10: =IF(AND(ISNUMBER($B$4),$B$4>=1,$B$4<=25,MOD($B$4,1)=0),IF(INDEX(Movimientos!J8:J507,($B$4-1)*20+3)=0,"",IF(INDEX(Movimientos!F8:F507,($B$4-1)*20+3)="","",INDEX(Movimientos!F8:F507,($B$4-1)*20+3))),"Revisa página") -> Devolución compra | G10: =IF(AND(ISNUMBER($B$4),$B$4>=1,$B$4<=25,MOD($B$4,1)=0),IF(INDEX(Movimientos!J8:J507,($B$4-1)*20+3)=0,"",IF(INDEX(Movimientos!G8:G507,($B$4-1)*20+3)="","",INDEX(Movimientos!G8:G507,($B$4-1)*20+3))),"Revisa página") -> Correcto | H10: =IF(AND(ISNUMBER($B$4),$B$4>=1,$B$4<=25,MOD($B$4,1)=0),IF(INDEX(Movimientos!J8:J507,($B$4-1)*20+3)=0,"",IF(INDEX(Movimientos!H8:H507,($B$4-1)*20+3)="","",INDEX(Movimientos!H8:H507,($B$4-1)*20+3))),"Revisa página") | I10: =IF(AND(ISNUMBER($B$4),$B$4>=1,$B$4<=25,MOD($B$4,1)=0),IF(INDEX(Movimientos!J8:J507,($B$4-1)*20+3)=0,"",IF(INDEX(Movimientos!I8:I507,($B$4-1)*20+3)="","",INDEX(Movimientos!I8:I507,($B$4-1)*20+3))),"Revisa página") -> Alimentación
A11: =IF(AND(ISNUMBER($B$4),$B$4>=1,$B$4<=25,MOD($B$4,1)=0),IF(INDEX(Movimientos!J8:J507,($B$4-1)*20+4)=0,"",IF(INDEX(Movimientos!A8:A507,($B$4-1)*20+4)="","",INDEX(Movimientos!A8:A507,($B$4-1)*20+4))),"Revisa página") | B11: =IF(AND(ISNUMBER($B$4),$B$4>=1,$B$4<=25,MOD($B$4,1)=0),IF(INDEX(Movimientos!J8:J507,($B$4-1)*20+4)=0,"",IF(INDEX(Movimientos!B8:B507,($B$4-1)*20+4)="","",INDEX(Movimientos!B8:B507,($B$4-1)*20+4))),"Revisa página") | C11: =IF(AND(ISNUMBER($B$4),$B$4>=1,$B$4<=25,MOD($B$4,1)=0),IF(INDEX(Movimientos!J8:J507,($B$4-1)*20+4)=0,"",IF(INDEX(Movimientos!C8:C507,($B$4-1)*20+4)="","",INDEX(Movimientos!C8:C507,($B$4-1)*20+4))),"Revisa página") | D11: =IF(AND(ISNUMBER($B$4),$B$4>=1,$B$4<=25,MOD($B$4,1)=0),IF(INDEX(Movimientos!J8:J507,($B$4-1)*20+4)=0,"",IF(INDEX(Movimientos!D8:D507,($B$4-1)*20+4)="","",INDEX(Movimientos!D8:D507,($B$4-1)*20+4))),"Revisa página") | E11: =IF(AND(ISNUMBER($B$4),$B$4>=1,$B$4<=25,MOD($B$4,1)=0),IF(INDEX(Movimientos!J8:J507,($B$4-1)*20+4)=0,"",IF(INDEX(Movimientos!E8:E507,($B$4-1)*20+4)="","",INDEX(Movimientos!E8:E507,($B$4-1)*20+4))),"Revisa página") | F11: =IF(AND(ISNUMBER($B$4),$B$4>=1,$B$4<=25,MOD($B$4,1)=0),IF(INDEX(Movimientos!J8:J507,($B$4-1)*20+4)=0,"",IF(INDEX(Movimientos!F8:F507,($B$4-1)*20+4)="","",INDEX(Movimientos!F8:F507,($B$4-1)*20+4))),"Revisa página") | G11: =IF(AND(ISNUMBER($B$4),$B$4>=1,$B$4<=25,MOD($B$4,1)=0),IF(INDEX(Movimientos!J8:J507,($B$4-1)*20+4)=0,"",IF(INDEX(Movimientos!G8:G507,($B$4-1)*20+4)="","",INDEX(Movimientos!G8:G507,($B$4-1)*20+4))),"Revisa página") | H11: =IF(AND(ISNUMBER($B$4),$B$4>=1,$B$4<=25,MOD($B$4,1)=0),IF(INDEX(Movimientos!J8:J507,($B$4-1)*20+4)=0,"",IF(INDEX(Movimientos!H8:H507,($B$4-1)*20+4)="","",INDEX(Movimientos!H8:H507,($B$4-1)*20+4))),"Revisa página") | I11: =IF(AND(ISNUMBER($B$4),$B$4>=1,$B$4<=25,MOD($B$4,1)=0),IF(INDEX(Movimientos!J8:J507,($B$4-1)*20+4)=0,"",IF(INDEX(Movimientos!I8:I507,($B$4-1)*20+4)="","",INDEX(Movimientos!I8:I507,($B$4-1)*20+4))),"Revisa página")
A12: =IF(AND(ISNUMBER($B$4),$B$4>=1,$B$4<=25,MOD($B$4,1)=0),IF(INDEX(Movimientos!J8:J507,($B$4-1)*20+5)=0,"",IF(INDEX(Movimientos!A8:A507,($B$4-1)*20+5)="","",INDEX(Movimientos!A8:A507,($B$4-1)*20+5))),"Revisa página") | B12: =IF(AND(ISNUMBER($B$4),$B$4>=1,$B$4<=25,MOD($B$4,1)=0),IF(INDEX(Movimientos!J8:J507,($B$4-1)*20+5)=0,"",IF(INDEX(Movimientos!B8:B507,($B$4-1)*20+5)="","",INDEX(Movimientos!B8:B507,($B$4-1)*20+5))),"Revisa página") | C12: =IF(AND(ISNUMBER($B$4),$B$4>=1,$B$4<=25,MOD($B$4,1)=0),IF(INDEX(Movimientos!J8:J507,($B$4-1)*20+5)=0,"",IF(INDEX(Movimientos!C8:C507,($B$4-1)*20+5)="","",INDEX(Movimientos!C8:C507,($B$4-1)*20+5))),"Revisa página") | D12: =IF(AND(ISNUMBER($B$4),$B$4>=1,$B$4<=25,MOD($B$4,1)=0),IF(INDEX(Movimientos!J8:J507,($B$4-1)*20+5)=0,"",IF(INDEX(Movimientos!D8:D507,($B$4-1)*20+5)="","",INDEX(Movimientos!D8:D507,($B$4-1)*20+5))),"Revisa página") | E12: =IF(AND(ISNUMBER($B$4),$B$4>=1,$B$4<=25,MOD($B$4,1)=0),IF(INDEX(Movimientos!J8:J507,($B$4-1)*20+5)=0,"",IF(INDEX(Movimientos!E8:E507,($B$4-1)*20+5)="","",INDEX(Movimientos!E8:E507,($B$4-1)*20+5))),"Revisa página") | F12: =IF(AND(ISNUMBER($B$4),$B$4>=1,$B$4<=25,MOD($B$4,1)=0),IF(INDEX(Movimientos!J8:J507,($B$4-1)*20+5)=0,"",IF(INDEX(Movimientos!F8:F507,($B$4-1)*20+5)="","",INDEX(Movimientos!F8:F507,($B$4-1)*20+5))),"Revisa página") | G12: =IF(AND(ISNUMBER($B$4),$B$4>=1,$B$4<=25,MOD($B$4,1)=0),IF(INDEX(Movimientos!J8:J507,($B$4-1)*20+5)=0,"",IF(INDEX(Movimientos!G8:G507,($B$4-1)*20+5)="","",INDEX(Movimientos!G8:G507,($B$4-1)*20+5))),"Revisa página") | H12: =IF(AND(ISNUMBER($B$4),$B$4>=1,$B$4<=25,MOD($B$4,1)=0),IF(INDEX(Movimientos!J8:J507,($B$4-1)*20+5)=0,"",IF(INDEX(Movimientos!H8:H507,($B$4-1)*20+5)="","",INDEX(Movimientos!H8:H507,($B$4-1)*20+5))),"Revisa página") | I12: =IF(AND(ISNUMBER($B$4),$B$4>=1,$B$4<=25,MOD($B$4,1)=0),IF(INDEX(Movimientos!J8:J507,($B$4-1)*20+5)=0,"",IF(INDEX(Movimientos!I8:I507,($B$4-1)*20+5)="","",INDEX(Movimientos!I8:I507,($B$4-1)*20+5))),"Revisa página")
A13: =IF(AND(ISNUMBER($B$4),$B$4>=1,$B$4<=25,MOD($B$4,1)=0),IF(INDEX(Movimientos!J8:J507,($B$4-1)*20+6)=0,"",IF(INDEX(Movimientos!A8:A507,($B$4-1)*20+6)="","",INDEX(Movimientos!A8:A507,($B$4-1)*20+6))),"Revisa página") | B13: =IF(AND(ISNUMBER($B$4),$B$4>=1,$B$4<=25,MOD($B$4,1)=0),IF(INDEX(Movimientos!J8:J507,($B$4-1)*20+6)=0,"",IF(INDEX(Movimientos!B8:B507,($B$4-1)*20+6)="","",INDEX(Movimientos!B8:B507,($B$4-1)*20+6))),"Revisa página") | C13: =IF(AND(ISNUMBER($B$4),$B$4>=1,$B$4<=25,MOD($B$4,1)=0),IF(INDEX(Movimientos!J8:J507,($B$4-1)*20+6)=0,"",IF(INDEX(Movimientos!C8:C507,($B$4-1)*20+6)="","",INDEX(Movimientos!C8:C507,($B$4-1)*20+6))),"Revisa página") | D13: =IF(AND(ISNUMBER($B$4),$B$4>=1,$B$4<=25,MOD($B$4,1)=0),IF(INDEX(Movimientos!J8:J507,($B$4-1)*20+6)=0,"",IF(INDEX(Movimientos!D8:D507,($B$4-1)*20+6)="","",INDEX(Movimientos!D8:D507,($B$4-1)*20+6))),"Revisa página") | E13: =IF(AND(ISNUMBER($B$4),$B$4>=1,$B$4<=25,MOD($B$4,1)=0),IF(INDEX(Movimientos!J8:J507,($B$4-1)*20+6)=0,"",IF(INDEX(Movimientos!E8:E507,($B$4-1)*20+6)="","",INDEX(Movimientos!E8:E507,($B$4-1)*20+6))),"Revisa página") | F13: =IF(AND(ISNUMBER($B$4),$B$4>=1,$B$4<=25,MOD($B$4,1)=0),IF(INDEX(Movimientos!J8:J507,($B$4-1)*20+6)=0,"",IF(INDEX(Movimientos!F8:F507,($B$4-1)*20+6)="","",INDEX(Movimientos!F8:F507,($B$4-1)*20+6))),"Revisa página") | G13: =IF(AND(ISNUMBER($B$4),$B$4>=1,$B$4<=25,MOD($B$4,1)=0),IF(INDEX(Movimientos!J8:J507,($B$4-1)*20+6)=0,"",IF(INDEX(Movimientos!G8:G507,($B$4-1)*20+6)="","",INDEX(Movimientos!G8:G507,($B$4-1)*20+6))),"Revisa página") | H13: =IF(AND(ISNUMBER($B$4),$B$4>=1,$B$4<=25,MOD($B$4,1)=0),IF(INDEX(Movimientos!J8:J507,($B$4-1)*20+6)=0,"",IF(INDEX(Movimientos!H8:H507,($B$4-1)*20+6)="","",INDEX(Movimientos!H8:H507,($B$4-1)*20+6))),"Revisa página") | I13: =IF(AND(ISNUMBER($B$4),$B$4>=1,$B$4<=25,MOD($B$4,1)=0),IF(INDEX(Movimientos!J8:J507,($B$4-1)*20+6)=0,"",IF(INDEX(Movimientos!I8:I507,($B$4-1)*20+6)="","",INDEX(Movimientos!I8:I507,($B$4-1)*20+6))),"Revisa página")
A14: =IF(AND(ISNUMBER($B$4),$B$4>=1,$B$4<=25,MOD($B$4,1)=0),IF(INDEX(Movimientos!J8:J507,($B$4-1)*20+7)=0,"",IF(INDEX(Movimientos!A8:A507,($B$4-1)*20+7)="","",INDEX(Movimientos!A8:A507,($B$4-1)*20+7))),"Revisa página") | B14: =IF(AND(ISNUMBER($B$4),$B$4>=1,$B$4<=25,MOD($B$4,1)=0),IF(INDEX(Movimientos!J8:J507,($B$4-1)*20+7)=0,"",IF(INDEX(Movimientos!B8:B507,($B$4-1)*20+7)="","",INDEX(Movimientos!B8:B507,($B$4-1)*20+7))),"Revisa página") | C14: =IF(AND(ISNUMBER($B$4),$B$4>=1,$B$4<=25,MOD($B$4,1)=0),IF(INDEX(Movimientos!J8:J507,($B$4-1)*20+7)=0,"",IF(INDEX(Movimientos!C8:C507,($B$4-1)*20+7)="","",INDEX(Movimientos!C8:C507,($B$4-1)*20+7))),"Revisa página") | D14: =IF(AND(ISNUMBER($B$4),$B$4>=1,$B$4<=25,MOD($B$4,1)=0),IF(INDEX(Movimientos!J8:J507,($B$4-1)*20+7)=0,"",IF(INDEX(Movimientos!D8:D507,($B$4-1)*20+7)="","",INDEX(Movimientos!D8:D507,($B$4-1)*20+7))),"Revisa página") | E14: =IF(AND(ISNUMBER($B$4),$B$4>=1,$B$4<=25,MOD($B$4,1)=0),IF(INDEX(Movimientos!J8:J507,($B$4-1)*20+7)=0,"",IF(INDEX(Movimientos!E8:E507,($B$4-1)*20+7)="","",INDEX(Movimientos!E8:E507,($B$4-1)*20+7))),"Revisa página") | F14: =IF(AND(ISNUMBER($B$4),$B$4>=1,$B$4<=25,MOD($B$4,1)=0),IF(INDEX(Movimientos!J8:J507,($B$4-1)*20+7)=0,"",IF(INDEX(Movimientos!F8:F507,($B$4-1)*20+7)="","",INDEX(Movimientos!F8:F507,($B$4-1)*20+7))),"Revisa página") | G14: =IF(AND(ISNUMBER($B$4),$B$4>=1,$B$4<=25,MOD($B$4,1)=0),IF(INDEX(Movimientos!J8:J507,($B$4-1)*20+7)=0,"",IF(INDEX(Movimientos!G8:G507,($B$4-1)*20+7)="","",INDEX(Movimientos!G8:G507,($B$4-1)*20+7))),"Revisa página") | H14: =IF(AND(ISNUMBER($B$4),$B$4>=1,$B$4<=25,MOD($B$4,1)=0),IF(INDEX(Movimientos!J8:J507,($B$4-1)*20+7)=0,"",IF(INDEX(Movimientos!H8:H507,($B$4-1)*20+7)="","",INDEX(Movimientos!H8:H507,($B$4-1)*20+7))),"Revisa página") | I14: =IF(AND(ISNUMBER($B$4),$B$4>=1,$B$4<=25,MOD($B$4,1)=0),IF(INDEX(Movimientos!J8:J507,($B$4-1)*20+7)=0,"",IF(INDEX(Movimientos!I8:I507,($B$4-1)*20+7)="","",INDEX(Movimientos!I8:I507,($B$4-1)*20+7))),"Revisa página")
A15: =IF(AND(ISNUMBER($B$4),$B$4>=1,$B$4<=25,MOD($B$4,1)=0),IF(INDEX(Movimientos!J8:J507,($B$4-1)*20+8)=0,"",IF(INDEX(Movimientos!A8:A507,($B$4-1)*20+8)="","",INDEX(Movimientos!A8:A507,($B$4-1)*20+8))),"Revisa página") | B15: =IF(AND(ISNUMBER($B$4),$B$4>=1,$B$4<=25,MOD($B$4,1)=0),IF(INDEX(Movimientos!J8:J507,($B$4-1)*20+8)=0,"",IF(INDEX(Movimientos!B8:B507,($B$4-1)*20+8)="","",INDEX(Movimientos!B8:B507,($B$4-1)*20+8))),"Revisa página") | C15: =IF(AND(ISNUMBER($B$4),$B$4>=1,$B$4<=25,MOD($B$4,1)=0),IF(INDEX(Movimientos!J8:J507,($B$4-1)*20+8)=0,"",IF(INDEX(Movimientos!C8:C507,($B$4-1)*20+8)="","",INDEX(Movimientos!C8:C507,($B$4-1)*20+8))),"Revisa página") | D15: =IF(AND(ISNUMBER($B$4),$B$4>=1,$B$4<=25,MOD($B$4,1)=0),IF(INDEX(Movimientos!J8:J507,($B$4-1)*20+8)=0,"",IF(INDEX(Movimientos!D8:D507,($B$4-1)*20+8)="","",INDEX(Movimientos!D8:D507,($B$4-1)*20+8))),"Revisa página") | E15: =IF(AND(ISNUMBER($B$4),$B$4>=1,$B$4<=25,MOD($B$4,1)=0),IF(INDEX(Movimientos!J8:J507,($B$4-1)*20+8)=0,"",IF(INDEX(Movimientos!E8:E507,($B$4-1)*20+8)="","",INDEX(Movimientos!E8:E507,($B$4-1)*20+8))),"Revisa página") | F15: =IF(AND(ISNUMBER($B$4),$B$4>=1,$B$4<=25,MOD($B$4,1)=0),IF(INDEX(Movimientos!J8:J507,($B$4-1)*20+8)=0,"",IF(INDEX(Movimientos!F8:F507,($B$4-1)*20+8)="","",INDEX(Movimientos!F8:F507,($B$4-1)*20+8))),"Revisa página") | G15: =IF(AND(ISNUMBER($B$4),$B$4>=1,$B$4<=25,MOD($B$4,1)=0),IF(INDEX(Movimientos!J8:J507,($B$4-1)*20+8)=0,"",IF(INDEX(Movimientos!G8:G507,($B$4-1)*20+8)="","",INDEX(Movimientos!G8:G507,($B$4-1)*20+8))),"Revisa página") | H15: =IF(AND(ISNUMBER($B$4),$B$4>=1,$B$4<=25,MOD($B$4,1)=0),IF(INDEX(Movimientos!J8:J507,($B$4-1)*20+8)=0,"",IF(INDEX(Movimientos!H8:H507,($B$4-1)*20+8)="","",INDEX(Movimientos!H8:H507,($B$4-1)*20+8))),"Revisa página") | I15: =IF(AND(ISNUMBER($B$4),$B$4>=1,$B$4<=25,MOD($B$4,1)=0),IF(INDEX(Movimientos!J8:J507,($B$4-1)*20+8)=0,"",IF(INDEX(Movimientos!I8:I507,($B$4-1)*20+8)="","",INDEX(Movimientos!I8:I507,($B$4-1)*20+8))),"Revisa página")
A16: =IF(AND(ISNUMBER($B$4),$B$4>=1,$B$4<=25,MOD($B$4,1)=0),IF(INDEX(Movimientos!J8:J507,($B$4-1)*20+9)=0,"",IF(INDEX(Movimientos!A8:A507,($B$4-1)*20+9)="","",INDEX(Movimientos!A8:A507,($B$4-1)*20+9))),"Revisa página") | B16: =IF(AND(ISNUMBER($B$4),$B$4>=1,$B$4<=25,MOD($B$4,1)=0),IF(INDEX(Movimientos!J8:J507,($B$4-1)*20+9)=0,"",IF(INDEX(Movimientos!B8:B507,($B$4-1)*20+9)="","",INDEX(Movimientos!B8:B507,($B$4-1)*20+9))),"Revisa página") | C16: =IF(AND(ISNUMBER($B$4),$B$4>=1,$B$4<=25,MOD($B$4,1)=0),IF(INDEX(Movimientos!J8:J507,($B$4-1)*20+9)=0,"",IF(INDEX(Movimientos!C8:C507,($B$4-1)*20+9)="","",INDEX(Movimientos!C8:C507,($B$4-1)*20+9))),"Revisa página") | D16: =IF(AND(ISNUMBER($B$4),$B$4>=1,$B$4<=25,MOD($B$4,1)=0),IF(INDEX(Movimientos!J8:J507,($B$4-1)*20+9)=0,"",IF(INDEX(Movimientos!D8:D507,($B$4-1)*20+9)="","",INDEX(Movimientos!D8:D507,($B$4-1)*20+9))),"Revisa página") | E16: =IF(AND(ISNUMBER($B$4),$B$4>=1,$B$4<=25,MOD($B$4,1)=0),IF(INDEX(Movimientos!J8:J507,($B$4-1)*20+9)=0,"",IF(INDEX(Movimientos!E8:E507,($B$4-1)*20+9)="","",INDEX(Movimientos!E8:E507,($B$4-1)*20+9))),"Revisa página") | F16: =IF(AND(ISNUMBER($B$4),$B$4>=1,$B$4<=25,MOD($B$4,1)=0),IF(INDEX(Movimientos!J8:J507,($B$4-1)*20+9)=0,"",IF(INDEX(Movimientos!F8:F507,($B$4-1)*20+9)="","",INDEX(Movimientos!F8:F507,($B$4-1)*20+9))),"Revisa página") | G16: =IF(AND(ISNUMBER($B$4),$B$4>=1,$B$4<=25,MOD($B$4,1)=0),IF(INDEX(Movimientos!J8:J507,($B$4-1)*20+9)=0,"",IF(INDEX(Movimientos!G8:G507,($B$4-1)*20+9)="","",INDEX(Movimientos!G8:G507,($B$4-1)*20+9))),"Revisa página") | H16: =IF(AND(ISNUMBER($B$4),$B$4>=1,$B$4<=25,MOD($B$4,1)=0),IF(INDEX(Movimientos!J8:J507,($B$4-1)*20+9)=0,"",IF(INDEX(Movimientos!H8:H507,($B$4-1)*20+9)="","",INDEX(Movimientos!H8:H507,($B$4-1)*20+9))),"Revisa página") | I16: =IF(AND(ISNUMBER($B$4),$B$4>=1,$B$4<=25,MOD($B$4,1)=0),IF(INDEX(Movimientos!J8:J507,($B$4-1)*20+9)=0,"",IF(INDEX(Movimientos!I8:I507,($B$4-1)*20+9)="","",INDEX(Movimientos!I8:I507,($B$4-1)*20+9))),"Revisa página")
A17: =IF(AND(ISNUMBER($B$4),$B$4>=1,$B$4<=25,MOD($B$4,1)=0),IF(INDEX(Movimientos!J8:J507,($B$4-1)*20+10)=0,"",IF(INDEX(Movimientos!A8:A507,($B$4-1)*20+10)="","",INDEX(Movimientos!A8:A507,($B$4-1)*20+10))),"Revisa página") | B17: =IF(AND(ISNUMBER($B$4),$B$4>=1,$B$4<=25,MOD($B$4,1)=0),IF(INDEX(Movimientos!J8:J507,($B$4-1)*20+10)=0,"",IF(INDEX(Movimientos!B8:B507,($B$4-1)*20+10)="","",INDEX(Movimientos!B8:B507,($B$4-1)*20+10))),"Revisa página") | C17: =IF(AND(ISNUMBER($B$4),$B$4>=1,$B$4<=25,MOD($B$4,1)=0),IF(INDEX(Movimientos!J8:J507,($B$4-1)*20+10)=0,"",IF(INDEX(Movimientos!C8:C507,($B$4-1)*20+10)="","",INDEX(Movimientos!C8:C507,($B$4-1)*20+10))),"Revisa página") | D17: =IF(AND(ISNUMBER($B$4),$B$4>=1,$B$4<=25,MOD($B$4,1)=0),IF(INDEX(Movimientos!J8:J507,($B$4-1)*20+10)=0,"",IF(INDEX(Movimientos!D8:D507,($B$4-1)*20+10)="","",INDEX(Movimientos!D8:D507,($B$4-1)*20+10))),"Revisa página") | E17: =IF(AND(ISNUMBER($B$4),$B$4>=1,$B$4<=25,MOD($B$4,1)=0),IF(INDEX(Movimientos!J8:J507,($B$4-1)*20+10)=0,"",IF(INDEX(Movimientos!E8:E507,($B$4-1)*20+10)="","",INDEX(Movimientos!E8:E507,($B$4-1)*20+10))),"Revisa página") | F17: =IF(AND(ISNUMBER($B$4),$B$4>=1,$B$4<=25,MOD($B$4,1)=0),IF(INDEX(Movimientos!J8:J507,($B$4-1)*20+10)=0,"",IF(INDEX(Movimientos!F8:F507,($B$4-1)*20+10)="","",INDEX(Movimientos!F8:F507,($B$4-1)*20+10))),"Revisa página") | G17: =IF(AND(ISNUMBER($B$4),$B$4>=1,$B$4<=25,MOD($B$4,1)=0),IF(INDEX(Movimientos!J8:J507,($B$4-1)*20+10)=0,"",IF(INDEX(Movimientos!G8:G507,($B$4-1)*20+10)="","",INDEX(Movimientos!G8:G507,($B$4-1)*20+10))),"Revisa página") | H17: =IF(AND(ISNUMBER($B$4),$B$4>=1,$B$4<=25,MOD($B$4,1)=0),IF(INDEX(Movimientos!J8:J507,($B$4-1)*20+10)=0,"",IF(INDEX(Movimientos!H8:H507,($B$4-1)*20+10)="","",INDEX(Movimientos!H8:H507,($B$4-1)*20+10))),"Revisa página") | I17: =IF(AND(ISNUMBER($B$4),$B$4>=1,$B$4<=25,MOD($B$4,1)=0),IF(INDEX(Movimientos!J8:J507,($B$4-1)*20+10)=0,"",IF(INDEX(Movimientos!I8:I507,($B$4-1)*20+10)="","",INDEX(Movimientos!I8:I507,($B$4-1)*20+10))),"Revisa página")
A18: =IF(AND(ISNUMBER($B$4),$B$4>=1,$B$4<=25,MOD($B$4,1)=0),IF(INDEX(Movimientos!J8:J507,($B$4-1)*20+11)=0,"",IF(INDEX(Movimientos!A8:A507,($B$4-1)*20+11)="","",INDEX(Movimientos!A8:A507,($B$4-1)*20+11))),"Revisa página") | B18: =IF(AND(ISNUMBER($B$4),$B$4>=1,$B$4<=25,MOD($B$4,1)=0),IF(INDEX(Movimientos!J8:J507,($B$4-1)*20+11)=0,"",IF(INDEX(Movimientos!B8:B507,($B$4-1)*20+11)="","",INDEX(Movimientos!B8:B507,($B$4-1)*20+11))),"Revisa página") | C18: =IF(AND(ISNUMBER($B$4),$B$4>=1,$B$4<=25,MOD($B$4,1)=0),IF(INDEX(Movimientos!J8:J507,($B$4-1)*20+11)=0,"",IF(INDEX(Movimientos!C8:C507,($B$4-1)*20+11)="","",INDEX(Movimientos!C8:C507,($B$4-1)*20+11))),"Revisa página") | D18: =IF(AND(ISNUMBER($B$4),$B$4>=1,$B$4<=25,MOD($B$4,1)=0),IF(INDEX(Movimientos!J8:J507,($B$4-1)*20+11)=0,"",IF(INDEX(Movimientos!D8:D507,($B$4-1)*20+11)="","",INDEX(Movimientos!D8:D507,($B$4-1)*20+11))),"Revisa página") | E18: =IF(AND(ISNUMBER($B$4),$B$4>=1,$B$4<=25,MOD($B$4,1)=0),IF(INDEX(Movimientos!J8:J507,($B$4-1)*20+11)=0,"",IF(INDEX(Movimientos!E8:E507,($B$4-1)*20+11)="","",INDEX(Movimientos!E8:E507,($B$4-1)*20+11))),"Revisa página") | F18: =IF(AND(ISNUMBER($B$4),$B$4>=1,$B$4<=25,MOD($B$4,1)=0),IF(INDEX(Movimientos!J8:J507,($B$4-1)*20+11)=0,"",IF(INDEX(Movimientos!F8:F507,($B$4-1)*20+11)="","",INDEX(Movimientos!F8:F507,($B$4-1)*20+11))),"Revisa página") | G18: =IF(AND(ISNUMBER($B$4),$B$4>=1,$B$4<=25,MOD($B$4,1)=0),IF(INDEX(Movimientos!J8:J507,($B$4-1)*20+11)=0,"",IF(INDEX(Movimientos!G8:G507,($B$4-1)*20+11)="","",INDEX(Movimientos!G8:G507,($B$4-1)*20+11))),"Revisa página") | H18: =IF(AND(ISNUMBER($B$4),$B$4>=1,$B$4<=25,MOD($B$4,1)=0),IF(INDEX(Movimientos!J8:J507,($B$4-1)*20+11)=0,"",IF(INDEX(Movimientos!H8:H507,($B$4-1)*20+11)="","",INDEX(Movimientos!H8:H507,($B$4-1)*20+11))),"Revisa página") | I18: =IF(AND(ISNUMBER($B$4),$B$4>=1,$B$4<=25,MOD($B$4,1)=0),IF(INDEX(Movimientos!J8:J507,($B$4-1)*20+11)=0,"",IF(INDEX(Movimientos!I8:I507,($B$4-1)*20+11)="","",INDEX(Movimientos!I8:I507,($B$4-1)*20+11))),"Revisa página")
A19: =IF(AND(ISNUMBER($B$4),$B$4>=1,$B$4<=25,MOD($B$4,1)=0),IF(INDEX(Movimientos!J8:J507,($B$4-1)*20+12)=0,"",IF(INDEX(Movimientos!A8:A507,($B$4-1)*20+12)="","",INDEX(Movimientos!A8:A507,($B$4-1)*20+12))),"Revisa página") | B19: =IF(AND(ISNUMBER($B$4),$B$4>=1,$B$4<=25,MOD($B$4,1)=0),IF(INDEX(Movimientos!J8:J507,($B$4-1)*20+12)=0,"",IF(INDEX(Movimientos!B8:B507,($B$4-1)*20+12)="","",INDEX(Movimientos!B8:B507,($B$4-1)*20+12))),"Revisa página") | C19: =IF(AND(ISNUMBER($B$4),$B$4>=1,$B$4<=25,MOD($B$4,1)=0),IF(INDEX(Movimientos!J8:J507,($B$4-1)*20+12)=0,"",IF(INDEX(Movimientos!C8:C507,($B$4-1)*20+12)="","",INDEX(Movimientos!C8:C507,($B$4-1)*20+12))),"Revisa página") | D19: =IF(AND(ISNUMBER($B$4),$B$4>=1,$B$4<=25,MOD($B$4,1)=0),IF(INDEX(Movimientos!J8:J507,($B$4-1)*20+12)=0,"",IF(INDEX(Movimientos!D8:D507,($B$4-1)*20+12)="","",INDEX(Movimientos!D8:D507,($B$4-1)*20+12))),"Revisa página") | E19: =IF(AND(ISNUMBER($B$4),$B$4>=1,$B$4<=25,MOD($B$4,1)=0),IF(INDEX(Movimientos!J8:J507,($B$4-1)*20+12)=0,"",IF(INDEX(Movimientos!E8:E507,($B$4-1)*20+12)="","",INDEX(Movimientos!E8:E507,($B$4-1)*20+12))),"Revisa página") | F19: =IF(AND(ISNUMBER($B$4),$B$4>=1,$B$4<=25,MOD($B$4,1)=0),IF(INDEX(Movimientos!J8:J507,($B$4-1)*20+12)=0,"",IF(INDEX(Movimientos!F8:F507,($B$4-1)*20+12)="","",INDEX(Movimientos!F8:F507,($B$4-1)*20+12))),"Revisa página") | G19: =IF(AND(ISNUMBER($B$4),$B$4>=1,$B$4<=25,MOD($B$4,1)=0),IF(INDEX(Movimientos!J8:J507,($B$4-1)*20+12)=0,"",IF(INDEX(Movimientos!G8:G507,($B$4-1)*20+12)="","",INDEX(Movimientos!G8:G507,($B$4-1)*20+12))),"Revisa página") | H19: =IF(AND(ISNUMBER($B$4),$B$4>=1,$B$4<=25,MOD($B$4,1)=0),IF(INDEX(Movimientos!J8:J507,($B$4-1)*20+12)=0,"",IF(INDEX(Movimientos!H8:H507,($B$4-1)*20+12)="","",INDEX(Movimientos!H8:H507,($B$4-1)*20+12))),"Revisa página") | I19: =IF(AND(ISNUMBER($B$4),$B$4>=1,$B$4<=25,MOD($B$4,1)=0),IF(INDEX(Movimientos!J8:J507,($B$4-1)*20+12)=0,"",IF(INDEX(Movimientos!I8:I507,($B$4-1)*20+12)="","",INDEX(Movimientos!I8:I507,($B$4-1)*20+12))),"Revisa página")
A20: =IF(AND(ISNUMBER($B$4),$B$4>=1,$B$4<=25,MOD($B$4,1)=0),IF(INDEX(Movimientos!J8:J507,($B$4-1)*20+13)=0,"",IF(INDEX(Movimientos!A8:A507,($B$4-1)*20+13)="","",INDEX(Movimientos!A8:A507,($B$4-1)*20+13))),"Revisa página") | B20: =IF(AND(ISNUMBER($B$4),$B$4>=1,$B$4<=25,MOD($B$4,1)=0),IF(INDEX(Movimientos!J8:J507,($B$4-1)*20+13)=0,"",IF(INDEX(Movimientos!B8:B507,($B$4-1)*20+13)="","",INDEX(Movimientos!B8:B507,($B$4-1)*20+13))),"Revisa página") | C20: =IF(AND(ISNUMBER($B$4),$B$4>=1,$B$4<=25,MOD($B$4,1)=0),IF(INDEX(Movimientos!J8:J507,($B$4-1)*20+13)=0,"",IF(INDEX(Movimientos!C8:C507,($B$4-1)*20+13)="","",INDEX(Movimientos!C8:C507,($B$4-1)*20+13))),"Revisa página") | D20: =IF(AND(ISNUMBER($B$4),$B$4>=1,$B$4<=25,MOD($B$4,1)=0),IF(INDEX(Movimientos!J8:J507,($B$4-1)*20+13)=0,"",IF(INDEX(Movimientos!D8:D507,($B$4-1)*20+13)="","",INDEX(Movimientos!D8:D507,($B$4-1)*20+13))),"Revisa página") | E20: =IF(AND(ISNUMBER($B$4),$B$4>=1,$B$4<=25,MOD($B$4,1)=0),IF(INDEX(Movimientos!J8:J507,($B$4-1)*20+13)=0,"",IF(INDEX(Movimientos!E8:E507,($B$4-1)*20+13)="","",INDEX(Movimientos!E8:E507,($B$4-1)*20+13))),"Revisa página") | F20: =IF(AND(ISNUMBER($B$4),$B$4>=1,$B$4<=25,MOD($B$4,1)=0),IF(INDEX(Movimientos!J8:J507,($B$4-1)*20+13)=0,"",IF(INDEX(Movimientos!F8:F507,($B$4-1)*20+13)="","",INDEX(Movimientos!F8:F507,($B$4-1)*20+13))),"Revisa página") | G20: =IF(AND(ISNUMBER($B$4),$B$4>=1,$B$4<=25,MOD($B$4,1)=0),IF(INDEX(Movimientos!J8:J507,($B$4-1)*20+13)=0,"",IF(INDEX(Movimientos!G8:G507,($B$4-1)*20+13)="","",INDEX(Movimientos!G8:G507,($B$4-1)*20+13))),"Revisa página") | H20: =IF(AND(ISNUMBER($B$4),$B$4>=1,$B$4<=25,MOD($B$4,1)=0),IF(INDEX(Movimientos!J8:J507,($B$4-1)*20+13)=0,"",IF(INDEX(Movimientos!H8:H507,($B$4-1)*20+13)="","",INDEX(Movimientos!H8:H507,($B$4-1)*20+13))),"Revisa página") | I20: =IF(AND(ISNUMBER($B$4),$B$4>=1,$B$4<=25,MOD($B$4,1)=0),IF(INDEX(Movimientos!J8:J507,($B$4-1)*20+13)=0,"",IF(INDEX(Movimientos!I8:I507,($B$4-1)*20+13)="","",INDEX(Movimientos!I8:I507,($B$4-1)*20+13))),"Revisa página")
