Workbook

Sheet Sobres
A2: Dinero disponible por sobre
A4: Moneda | B4: EUR
A6: Ejemplo ficticio. Sustituye las entradas azules por tus datos.
A8: Disponible entre los sobres | B8: =SUM(F16:F27) -> 380 | D8: Saldo para continuar | E8: =B8 -> 380
A9: Gasto neto | B9: =SUMIFS(Movimientos!E8:E507,Movimientos!B8:B507,"Gasto",Movimientos!G8:G507,"Correcto")-SUMIFS(Movimientos!E8:E507,Movimientos!B8:B507,"Devolución",Movimientos!G8:G507,"Correcto") -> 50
A10: Filas que revisar | B10: =COUNTIFS(Movimientos!G8:G507,"REVISAR*") -> 0
A15: Clave estable | B15: Nombre visible | C15: Inicial | D15: Entradas | E15: Salidas | F15: Disponible
A16: Alimentación | B16: Alimentación | C16: 200 | D16: =SUMIFS(Movimientos!E8:E507,Movimientos!D8:D507,A16,Movimientos!G8:G507,"Correcto") -> 30 | E16: =SUMIFS(Movimientos!E8:E507,Movimientos!C8:C507,A16,Movimientos!G8:G507,"Correcto") -> 60 | F16: =SUM(C16:D16)-E16 -> 170
A17: Transporte | B17: Transporte | C17: 80 | D17: =SUMIFS(Movimientos!E8:E507,Movimientos!D8:D507,A17,Movimientos!G8:G507,"Correcto") -> 0 | E17: =SUMIFS(Movimientos!E8:E507,Movimientos!C8:C507,A17,Movimientos!G8:G507,"Correcto") -> 0 | F17: =SUM(C17:D17)-E17 -> 80
A18: Ocio | B18: Ocio | C18: 100 | D18: =SUMIFS(Movimientos!E8:E507,Movimientos!D8:D507,A18,Movimientos!G8:G507,"Correcto") -> 0 | E18: =SUMIFS(Movimientos!E8:E507,Movimientos!C8:C507,A18,Movimientos!G8:G507,"Correcto") -> 20 | F18: =SUM(C18:D18)-E18 -> 80
A19: Imprevistos | B19: Imprevistos | C19: 50 | D19: =SUMIFS(Movimientos!E8:E507,Movimientos!D8:D507,A19,Movimientos!G8:G507,"Correcto") -> 0 | E19: =SUMIFS(Movimientos!E8:E507,Movimientos!C8:C507,A19,Movimientos!G8:G507,"Correcto") -> 0 | F19: =SUM(C19:D19)-E19 -> 50
A20: Vivienda | B20: Vivienda | C20: 0 | D20: =SUMIFS(Movimientos!E8:E507,Movimientos!D8:D507,A20,Movimientos!G8:G507,"Correcto") -> 0 | E20: =SUMIFS(Movimientos!E8:E507,Movimientos!C8:C507,A20,Movimientos!G8:G507,"Correcto") -> 0 | F20: =SUM(C20:D20)-E20 -> 0
A21: Suministros | B21: Suministros | C21: 0 | D21: =SUMIFS(Movimientos!E8:E507,Movimientos!D8:D507,A21,Movimientos!G8:G507,"Correcto") -> 0 | E21: =SUMIFS(Movimientos!E8:E507,Movimientos!C8:C507,A21,Movimientos!G8:G507,"Correcto") -> 0 | F21: =SUM(C21:D21)-E21 -> 0
A22: Seguro anual | B22: Seguro anual | C22: 0 | D22: =SUMIFS(Movimientos!E8:E507,Movimientos!D8:D507,A22,Movimientos!G8:G507,"Correcto") -> 0 | E22: =SUMIFS(Movimientos!E8:E507,Movimientos!C8:C507,A22,Movimientos!G8:G507,"Correcto") -> 0 | F22: =SUM(C22:D22)-E22 -> 0
A23: Fondo de emergencia | B23: Fondo de emergencia | C23: 0 | D23: =SUMIFS(Movimientos!E8:E507,Movimientos!D8:D507,A23,Movimientos!G8:G507,"Correcto") -> 0 | E23: =SUMIFS(Movimientos!E8:E507,Movimientos!C8:C507,A23,Movimientos!G8:G507,"Correcto") -> 0 | F23: =SUM(C23:D23)-E23 -> 0
A24: Salud | B24: Salud | C24: 0 | D24: =SUMIFS(Movimientos!E8:E507,Movimientos!D8:D507,A24,Movimientos!G8:G507,"Correcto") -> 0 | E24: =SUMIFS(Movimientos!E8:E507,Movimientos!C8:C507,A24,Movimientos!G8:G507,"Correcto") -> 0 | F24: =SUM(C24:D24)-E24 -> 0
A25: Ropa | B25: Ropa | C25: 0 | D25: =SUMIFS(Movimientos!E8:E507,Movimientos!D8:D507,A25,Movimientos!G8:G507,"Correcto") -> 0 | E25: =SUMIFS(Movimientos!E8:E507,Movimientos!C8:C507,A25,Movimientos!G8:G507,"Correcto") -> 0 | F25: =SUM(C25:D25)-E25 -> 0
A26: Personal 1 | B26: Personal 1 | C26: 0 | D26: =SUMIFS(Movimientos!E8:E507,Movimientos!D8:D507,A26,Movimientos!G8:G507,"Correcto") -> 0 | E26: =SUMIFS(Movimientos!E8:E507,Movimientos!C8:C507,A26,Movimientos!G8:G507,"Correcto") -> 0 | F26: =SUM(C26:D26)-E26 -> 0
A27: Personal 2 | B27: Personal 2 | C27: 0 | D27: =SUMIFS(Movimientos!E8:E507,Movimientos!D8:D507,A27,Movimientos!G8:G507,"Correcto") -> 0 | E27: =SUMIFS(Movimientos!E8:E507,Movimientos!C8:C507,A27,Movimientos!G8:G507,"Correcto") -> 0 | F27: =SUM(C27:D27)-E27 -> 0

Sheet Movimientos
A2: Gastos y traspasos entre sobres
A5: 500 filas editables. Para imprimir los movimientos, usa la hoja Imprimir y su selector de página.
A7: Fecha | B7: Operación | C7: Sale de | D7: Entra en | E7: Importe | F7: Concepto | G7: Control | H7: Nombre de salida | I7: Nombre de entrada | J7: Última fila usada
A8: 46311 | B8: Gasto | C8: Alimentación | E8: 60 | F8: Compra | G8: =IF(COUNTA(A8:F8)=0,"",IF(OR(NOT(ISNUMBER(A8)),NOT(ISNUMBER(E8)),E8<0,F8="",AND(B8<>"Gasto",B8<>"Aporte",B8<>"Traspaso",B8<>"Devolución"),AND(OR(B8="Gasto",B8="Traspaso"),COUNTIFS(Sobres!A16:A27,C8)<>1),AND(OR(B8="Aporte",B8="Devolución",B8="Traspaso"),COUNTIFS(Sobres!A16:A27,D8)<>1),AND(OR(B8="Aporte",B8="Devolución"),C8<>""),AND(B8="Gasto",D8<>""),AND(B8="Traspaso",C8=D8)),"REVISAR datos","Correcto")) -> Correcto | H8: =IF(C8="","",IF(COUNTIFS(Sobres!A16:A27,C8)=1,INDEX(Sobres!B16:B27,MATCH(C8,Sobres!A16:A27,0)),"REVISAR clave")) -> Alimentación | I8: =IF(D8="","",IF(COUNTIFS(Sobres!A16:A27,D8)=1,INDEX(Sobres!B16:B27,MATCH(D8,Sobres!A16:A27,0)),"REVISAR clave")) | J8: =IF(COUNTA(A8:F8)>0,ROW(),0) -> 8
A9: 46312 | B9: Traspaso | C9: Ocio | D9: Alimentación | E9: 20 | F9: Ajuste acordado | G9: =IF(COUNTA(A9:F9)=0,"",IF(OR(NOT(ISNUMBER(A9)),NOT(ISNUMBER(E9)),E9<0,F9="",AND(B9<>"Gasto",B9<>"Aporte",B9<>"Traspaso",B9<>"Devolución"),AND(OR(B9="Gasto",B9="Traspaso"),COUNTIFS(Sobres!A16:A27,C9)<>1),AND(OR(B9="Aporte",B9="Devolución",B9="Traspaso"),COUNTIFS(Sobres!A16:A27,D9)<>1),AND(OR(B9="Aporte",B9="Devolución"),C9<>""),AND(B9="Gasto",D9<>""),AND(B9="Traspaso",C9=D9)),"REVISAR datos","Correcto")) -> Correcto | H9: =IF(C9="","",IF(COUNTIFS(Sobres!A16:A27,C9)=1,INDEX(Sobres!B16:B27,MATCH(C9,Sobres!A16:A27,0)),"REVISAR clave")) -> Ocio | I9: =IF(D9="","",IF(COUNTIFS(Sobres!A16:A27,D9)=1,INDEX(Sobres!B16:B27,MATCH(D9,Sobres!A16:A27,0)),"REVISAR clave")) -> Alimentación | J9: =IF(COUNTA(A9:F9)>0,ROW(),0) -> 9
A10: 46313 | B10: Devolución | D10: Alimentación | E10: 10 | F10: Devolución compra | G10: =IF(COUNTA(A10:F10)=0,"",IF(OR(NOT(ISNUMBER(A10)),NOT(ISNUMBER(E10)),E10<0,F10="",AND(B10<>"Gasto",B10<>"Aporte",B10<>"Traspaso",B10<>"Devolución"),AND(OR(B10="Gasto",B10="Traspaso"),COUNTIFS(Sobres!A16:A27,C10)<>1),AND(OR(B10="Aporte",B10="Devolución",B10="Traspaso"),COUNTIFS(Sobres!A16:A27,D10)<>1),AND(OR(B10="Aporte",B10="Devolución"),C10<>""),AND(B10="Gasto",D10<>""),AND(B10="Traspaso",C10=D10)),"REVISAR datos","Correcto")) -> Correcto | H10: =IF(C10="","",IF(COUNTIFS(Sobres!A16:A27,C10)=1,INDEX(Sobres!B16:B27,MATCH(C10,Sobres!A16:A27,0)),"REVISAR clave")) | I10: =IF(D10="","",IF(COUNTIFS(Sobres!A16:A27,D10)=1,INDEX(Sobres!B16:B27,MATCH(D10,Sobres!A16:A27,0)),"REVISAR clave")) -> Alimentación | J10: =IF(COUNTA(A10:F10)>0,ROW(),0) -> 10
G11: =IF(COUNTA(A11:F11)=0,"",IF(OR(NOT(ISNUMBER(A11)),NOT(ISNUMBER(E11)),E11<0,F11="",AND(B11<>"Gasto",B11<>"Aporte",B11<>"Traspaso",B11<>"Devolución"),AND(OR(B11="Gasto",B11="Traspaso"),COUNTIFS(Sobres!A16:A27,C11)<>1),AND(OR(B11="Aporte",B11="Devolución",B11="Traspaso"),COUNTIFS(Sobres!A16:A27,D11)<>1),AND(OR(B11="Aporte",B11="Devolución"),C11<>""),AND(B11="Gasto",D11<>""),AND(B11="Traspaso",C11=D11)),"REVISAR datos","Correcto")) | H11: =IF(C11="","",IF(COUNTIFS(Sobres!A16:A27,C11)=1,INDEX(Sobres!B16:B27,MATCH(C11,Sobres!A16:A27,0)),"REVISAR clave")) | I11: =IF(D11="","",IF(COUNTIFS(Sobres!A16:A27,D11)=1,INDEX(Sobres!B16:B27,MATCH(D11,Sobres!A16:A27,0)),"REVISAR clave")) | J11: =IF(COUNTA(A11:F11)>0,ROW(),0) -> 0
G12: =IF(COUNTA(A12:F12)=0,"",IF(OR(NOT(ISNUMBER(A12)),NOT(ISNUMBER(E12)),E12<0,F12="",AND(B12<>"Gasto",B12<>"Aporte",B12<>"Traspaso",B12<>"Devolución"),AND(OR(B12="Gasto",B12="Traspaso"),COUNTIFS(Sobres!A16:A27,C12)<>1),AND(OR(B12="Aporte",B12="Devolución",B12="Traspaso"),COUNTIFS(Sobres!A16:A27,D12)<>1),AND(OR(B12="Aporte",B12="Devolución"),C12<>""),AND(B12="Gasto",D12<>""),AND(B12="Traspaso",C12=D12)),"REVISAR datos","Correcto")) | H12: =IF(C12="","",IF(COUNTIFS(Sobres!A16:A27,C12)=1,INDEX(Sobres!B16:B27,MATCH(C12,Sobres!A16:A27,0)),"REVISAR clave")) | I12: =IF(D12="","",IF(COUNTIFS(Sobres!A16:A27,D12)=1,INDEX(Sobres!B16:B27,MATCH(D12,Sobres!A16:A27,0)),"REVISAR clave")) | J12: =IF(COUNTA(A12:F12)>0,ROW(),0) -> 0
G13: =IF(COUNTA(A13:F13)=0,"",IF(OR(NOT(ISNUMBER(A13)),NOT(ISNUMBER(E13)),E13<0,F13="",AND(B13<>"Gasto",B13<>"Aporte",B13<>"Traspaso",B13<>"Devolución"),AND(OR(B13="Gasto",B13="Traspaso"),COUNTIFS(Sobres!A16:A27,C13)<>1),AND(OR(B13="Aporte",B13="Devolución",B13="Traspaso"),COUNTIFS(Sobres!A16:A27,D13)<>1),AND(OR(B13="Aporte",B13="Devolución"),C13<>""),AND(B13="Gasto",D13<>""),AND(B13="Traspaso",C13=D13)),"REVISAR datos","Correcto")) | H13: =IF(C13="","",IF(COUNTIFS(Sobres!A16:A27,C13)=1,INDEX(Sobres!B16:B27,MATCH(C13,Sobres!A16:A27,0)),"REVISAR clave")) | I13: =IF(D13="","",IF(COUNTIFS(Sobres!A16:A27,D13)=1,INDEX(Sobres!B16:B27,MATCH(D13,Sobres!A16:A27,0)),"REVISAR clave")) | J13: =IF(COUNTA(A13:F13)>0,ROW(),0) -> 0
G14: =IF(COUNTA(A14:F14)=0,"",IF(OR(NOT(ISNUMBER(A14)),NOT(ISNUMBER(E14)),E14<0,F14="",AND(B14<>"Gasto",B14<>"Aporte",B14<>"Traspaso",B14<>"Devolución"),AND(OR(B14="Gasto",B14="Traspaso"),COUNTIFS(Sobres!A16:A27,C14)<>1),AND(OR(B14="Aporte",B14="Devolución",B14="Traspaso"),COUNTIFS(Sobres!A16:A27,D14)<>1),AND(OR(B14="Aporte",B14="Devolución"),C14<>""),AND(B14="Gasto",D14<>""),AND(B14="Traspaso",C14=D14)),"REVISAR datos","Correcto")) | H14: =IF(C14="","",IF(COUNTIFS(Sobres!A16:A27,C14)=1,INDEX(Sobres!B16:B27,MATCH(C14,Sobres!A16:A27,0)),"REVISAR clave")) | I14: =IF(D14="","",IF(COUNTIFS(Sobres!A16:A27,D14)=1,INDEX(Sobres!B16:B27,MATCH(D14,Sobres!A16:A27,0)),"REVISAR clave")) | J14: =IF(COUNTA(A14:F14)>0,ROW(),0) -> 0
G15: =IF(COUNTA(A15:F15)=0,"",IF(OR(NOT(ISNUMBER(A15)),NOT(ISNUMBER(E15)),E15<0,F15="",AND(B15<>"Gasto",B15<>"Aporte",B15<>"Traspaso",B15<>"Devolución"),AND(OR(B15="Gasto",B15="Traspaso"),COUNTIFS(Sobres!A16:A27,C15)<>1),AND(OR(B15="Aporte",B15="Devolución",B15="Traspaso"),COUNTIFS(Sobres!A16:A27,D15)<>1),AND(OR(B15="Aporte",B15="Devolución"),C15<>""),AND(B15="Gasto",D15<>""),AND(B15="Traspaso",C15=D15)),"REVISAR datos","Correcto")) | H15: =IF(C15="","",IF(COUNTIFS(Sobres!A16:A27,C15)=1,INDEX(Sobres!B16:B27,MATCH(C15,Sobres!A16:A27,0)),"REVISAR clave")) | I15: =IF(D15="","",IF(COUNTIFS(Sobres!A16:A27,D15)=1,INDEX(Sobres!B16:B27,MATCH(D15,Sobres!A16:A27,0)),"REVISAR clave")) | J15: =IF(COUNTA(A15:F15)>0,ROW(),0) -> 0
G16: =IF(COUNTA(A16:F16)=0,"",IF(OR(NOT(ISNUMBER(A16)),NOT(ISNUMBER(E16)),E16<0,F16="",AND(B16<>"Gasto",B16<>"Aporte",B16<>"Traspaso",B16<>"Devolución"),AND(OR(B16="Gasto",B16="Traspaso"),COUNTIFS(Sobres!A16:A27,C16)<>1),AND(OR(B16="Aporte",B16="Devolución",B16="Traspaso"),COUNTIFS(Sobres!A16:A27,D16)<>1),AND(OR(B16="Aporte",B16="Devolución"),C16<>""),AND(B16="Gasto",D16<>""),AND(B16="Traspaso",C16=D16)),"REVISAR datos","Correcto")) | H16: =IF(C16="","",IF(COUNTIFS(Sobres!A16:A27,C16)=1,INDEX(Sobres!B16:B27,MATCH(C16,Sobres!A16:A27,0)),"REVISAR clave")) | I16: =IF(D16="","",IF(COUNTIFS(Sobres!A16:A27,D16)=1,INDEX(Sobres!B16:B27,MATCH(D16,Sobres!A16:A27,0)),"REVISAR clave")) | J16: =IF(COUNTA(A16:F16)>0,ROW(),0) -> 0
G17: =IF(COUNTA(A17:F17)=0,"",IF(OR(NOT(ISNUMBER(A17)),NOT(ISNUMBER(E17)),E17<0,F17="",AND(B17<>"Gasto",B17<>"Aporte",B17<>"Traspaso",B17<>"Devolución"),AND(OR(B17="Gasto",B17="Traspaso"),COUNTIFS(Sobres!A16:A27,C17)<>1),AND(OR(B17="Aporte",B17="Devolución",B17="Traspaso"),COUNTIFS(Sobres!A16:A27,D17)<>1),AND(OR(B17="Aporte",B17="Devolución"),C17<>""),AND(B17="Gasto",D17<>""),AND(B17="Traspaso",C17=D17)),"REVISAR datos","Correcto")) | H17: =IF(C17="","",IF(COUNTIFS(Sobres!A16:A27,C17)=1,INDEX(Sobres!B16:B27,MATCH(C17,Sobres!A16:A27,0)),"REVISAR clave")) | I17: =IF(D17="","",IF(COUNTIFS(Sobres!A16:A27,D17)=1,INDEX(Sobres!B16:B27,MATCH(D17,Sobres!A16:A27,0)),"REVISAR clave")) | J17: =IF(COUNTA(A17:F17)>0,ROW(),0) -> 0
G18: =IF(COUNTA(A18:F18)=0,"",IF(OR(NOT(ISNUMBER(A18)),NOT(ISNUMBER(E18)),E18<0,F18="",AND(B18<>"Gasto",B18<>"Aporte",B18<>"Traspaso",B18<>"Devolución"),AND(OR(B18="Gasto",B18="Traspaso"),COUNTIFS(Sobres!A16:A27,C18)<>1),AND(OR(B18="Aporte",B18="Devolución",B18="Traspaso"),COUNTIFS(Sobres!A16:A27,D18)<>1),AND(OR(B18="Aporte",B18="Devolución"),C18<>""),AND(B18="Gasto",D18<>""),AND(B18="Traspaso",C18=D18)),"REVISAR datos","Correcto")) | H18: =IF(C18="","",IF(COUNTIFS(Sobres!A16:A27,C18)=1,INDEX(Sobres!B16:B27,MATCH(C18,Sobres!A16:A27,0)),"REVISAR clave")) | I18: =IF(D18="","",IF(COUNTIFS(Sobres!A16:A27,D18)=1,INDEX(Sobres!B16:B27,MATCH(D18,Sobres!A16:A27,0)),"REVISAR clave")) | J18: =IF(COUNTA(A18:F18)>0,ROW(),0) -> 0
G19: =IF(COUNTA(A19:F19)=0,"",IF(OR(NOT(ISNUMBER(A19)),NOT(ISNUMBER(E19)),E19<0,F19="",AND(B19<>"Gasto",B19<>"Aporte",B19<>"Traspaso",B19<>"Devolución"),AND(OR(B19="Gasto",B19="Traspaso"),COUNTIFS(Sobres!A16:A27,C19)<>1),AND(OR(B19="Aporte",B19="Devolución",B19="Traspaso"),COUNTIFS(Sobres!A16:A27,D19)<>1),AND(OR(B19="Aporte",B19="Devolución"),C19<>""),AND(B19="Gasto",D19<>""),AND(B19="Traspaso",C19=D19)),"REVISAR datos","Correcto")) | H19: =IF(C19="","",IF(COUNTIFS(Sobres!A16:A27,C19)=1,INDEX(Sobres!B16:B27,MATCH(C19,Sobres!A16:A27,0)),"REVISAR clave")) | I19: =IF(D19="","",IF(COUNTIFS(Sobres!A16:A27,D19)=1,INDEX(Sobres!B16:B27,MATCH(D19,Sobres!A16:A27,0)),"REVISAR clave")) | J19: =IF(COUNTA(A19:F19)>0,ROW(),0) -> 0
G20: =IF(COUNTA(A20:F20)=0,"",IF(OR(NOT(ISNUMBER(A20)),NOT(ISNUMBER(E20)),E20<0,F20="",AND(B20<>"Gasto",B20<>"Aporte",B20<>"Traspaso",B20<>"Devolución"),AND(OR(B20="Gasto",B20="Traspaso"),COUNTIFS(Sobres!A16:A27,C20)<>1),AND(OR(B20="Aporte",B20="Devolución",B20="Traspaso"),COUNTIFS(Sobres!A16:A27,D20)<>1),AND(OR(B20="Aporte",B20="Devolución"),C20<>""),AND(B20="Gasto",D20<>""),AND(B20="Traspaso",C20=D20)),"REVISAR datos","Correcto")) | H20: =IF(C20="","",IF(COUNTIFS(Sobres!A16:A27,C20)=1,INDEX(Sobres!B16:B27,MATCH(C20,Sobres!A16:A27,0)),"REVISAR clave")) | I20: =IF(D20="","",IF(COUNTIFS(Sobres!A16:A27,D20)=1,INDEX(Sobres!B16:B27,MATCH(D20,Sobres!A16:A27,0)),"REVISAR clave")) | J20: =IF(COUNTA(A20:F20)>0,ROW(),0) -> 0
G21: =IF(COUNTA(A21:F21)=0,"",IF(OR(NOT(ISNUMBER(A21)),NOT(ISNUMBER(E21)),E21<0,F21="",AND(B21<>"Gasto",B21<>"Aporte",B21<>"Traspaso",B21<>"Devolución"),AND(OR(B21="Gasto",B21="Traspaso"),COUNTIFS(Sobres!A16:A27,C21)<>1),AND(OR(B21="Aporte",B21="Devolución",B21="Traspaso"),COUNTIFS(Sobres!A16:A27,D21)<>1),AND(OR(B21="Aporte",B21="Devolución"),C21<>""),AND(B21="Gasto",D21<>""),AND(B21="Traspaso",C21=D21)),"REVISAR datos","Correcto")) | H21: =IF(C21="","",IF(COUNTIFS(Sobres!A16:A27,C21)=1,INDEX(Sobres!B16:B27,MATCH(C21,Sobres!A16:A27,0)),"REVISAR clave")) | I21: =IF(D21="","",IF(COUNTIFS(Sobres!A16:A27,D21)=1,INDEX(Sobres!B16:B27,MATCH(D21,Sobres!A16:A27,0)),"REVISAR clave")) | J21: =IF(COUNTA(A21:F21)>0,ROW(),0) -> 0
G22: =IF(COUNTA(A22:F22)=0,"",IF(OR(NOT(ISNUMBER(A22)),NOT(ISNUMBER(E22)),E22<0,F22="",AND(B22<>"Gasto",B22<>"Aporte",B22<>"Traspaso",B22<>"Devolución"),AND(OR(B22="Gasto",B22="Traspaso"),COUNTIFS(Sobres!A16:A27,C22)<>1),AND(OR(B22="Aporte",B22="Devolución",B22="Traspaso"),COUNTIFS(Sobres!A16:A27,D22)<>1),AND(OR(B22="Aporte",B22="Devolución"),C22<>""),AND(B22="Gasto",D22<>""),AND(B22="Traspaso",C22=D22)),"REVISAR datos","Correcto")) | H22: =IF(C22="","",IF(COUNTIFS(Sobres!A16:A27,C22)=1,INDEX(Sobres!B16:B27,MATCH(C22,Sobres!A16:A27,0)),"REVISAR clave")) | I22: =IF(D22="","",IF(COUNTIFS(Sobres!A16:A27,D22)=1,INDEX(Sobres!B16:B27,MATCH(D22,Sobres!A16:A27,0)),"REVISAR clave")) | J22: =IF(COUNTA(A22:F22)>0,ROW(),0) -> 0
G23: =IF(COUNTA(A23:F23)=0,"",IF(OR(NOT(ISNUMBER(A23)),NOT(ISNUMBER(E23)),E23<0,F23="",AND(B23<>"Gasto",B23<>"Aporte",B23<>"Traspaso",B23<>"Devolución"),AND(OR(B23="Gasto",B23="Traspaso"),COUNTIFS(Sobres!A16:A27,C23)<>1),AND(OR(B23="Aporte",B23="Devolución",B23="Traspaso"),COUNTIFS(Sobres!A16:A27,D23)<>1),AND(OR(B23="Aporte",B23="Devolución"),C23<>""),AND(B23="Gasto",D23<>""),AND(B23="Traspaso",C23=D23)),"REVISAR datos","Correcto")) | H23: =IF(C23="","",IF(COUNTIFS(Sobres!A16:A27,C23)=1,INDEX(Sobres!B16:B27,MATCH(C23,Sobres!A16:A27,0)),"REVISAR clave")) | I23: =IF(D23="","",IF(COUNTIFS(Sobres!A16:A27,D23)=1,INDEX(Sobres!B16:B27,MATCH(D23,Sobres!A16:A27,0)),"REVISAR clave")) | J23: =IF(COUNTA(A23:F23)>0,ROW(),0) -> 0
G24: =IF(COUNTA(A24:F24)=0,"",IF(OR(NOT(ISNUMBER(A24)),NOT(ISNUMBER(E24)),E24<0,F24="",AND(B24<>"Gasto",B24<>"Aporte",B24<>"Traspaso",B24<>"Devolución"),AND(OR(B24="Gasto",B24="Traspaso"),COUNTIFS(Sobres!A16:A27,C24)<>1),AND(OR(B24="Aporte",B24="Devolución",B24="Traspaso"),COUNTIFS(Sobres!A16:A27,D24)<>1),AND(OR(B24="Aporte",B24="Devolución"),C24<>""),AND(B24="Gasto",D24<>""),AND(B24="Traspaso",C24=D24)),"REVISAR datos","Correcto")) | H24: =IF(C24="","",IF(COUNTIFS(Sobres!A16:A27,C24)=1,INDEX(Sobres!B16:B27,MATCH(C24,Sobres!A16:A27,0)),"REVISAR clave")) | I24: =IF(D24="","",IF(COUNTIFS(Sobres!A16:A27,D24)=1,INDEX(Sobres!B16:B27,MATCH(D24,Sobres!A16:A27,0)),"REVISAR clave")) | J24: =IF(COUNTA(A24:F24)>0,ROW(),0) -> 0
G25: =IF(COUNTA(A25:F25)=0,"",IF(OR(NOT(ISNUMBER(A25)),NOT(ISNUMBER(E25)),E25<0,F25="",AND(B25<>"Gasto",B25<>"Aporte",B25<>"Traspaso",B25<>"Devolución"),AND(OR(B25="Gasto",B25="Traspaso"),COUNTIFS(Sobres!A16:A27,C25)<>1),AND(OR(B25="Aporte",B25="Devolución",B25="Traspaso"),COUNTIFS(Sobres!A16:A27,D25)<>1),AND(OR(B25="Aporte",B25="Devolución"),C25<>""),AND(B25="Gasto",D25<>""),AND(B25="Traspaso",C25=D25)),"REVISAR datos","Correcto")) | H25: =IF(C25="","",IF(COUNTIFS(Sobres!A16:A27,C25)=1,INDEX(Sobres!B16:B27,MATCH(C25,Sobres!A16:A27,0)),"REVISAR clave")) | I25: =IF(D25="","",IF(COUNTIFS(Sobres!A16:A27,D25)=1,INDEX(Sobres!B16:B27,MATCH(D25,Sobres!A16:A27,0)),"REVISAR clave")) | J25: =IF(COUNTA(A25:F25)>0,ROW(),0) -> 0
G26: =IF(COUNTA(A26:F26)=0,"",IF(OR(NOT(ISNUMBER(A26)),NOT(ISNUMBER(E26)),E26<0,F26="",AND(B26<>"Gasto",B26<>"Aporte",B26<>"Traspaso",B26<>"Devolución"),AND(OR(B26="Gasto",B26="Traspaso"),COUNTIFS(Sobres!A16:A27,C26)<>1),AND(OR(B26="Aporte",B26="Devolución",B26="Traspaso"),COUNTIFS(Sobres!A16:A27,D26)<>1),AND(OR(B26="Aporte",B26="Devolución"),C26<>""),AND(B26="Gasto",D26<>""),AND(B26="Traspaso",C26=D26)),"REVISAR datos","Correcto")) | H26: =IF(C26="","",IF(COUNTIFS(Sobres!A16:A27,C26)=1,INDEX(Sobres!B16:B27,MATCH(C26,Sobres!A16:A27,0)),"REVISAR clave")) | I26: =IF(D26="","",IF(COUNTIFS(Sobres!A16:A27,D26)=1,INDEX(Sobres!B16:B27,MATCH(D26,Sobres!A16:A27,0)),"REVISAR clave")) | J26: =IF(COUNTA(A26:F26)>0,ROW(),0) -> 0
G27: =IF(COUNTA(A27:F27)=0,"",IF(OR(NOT(ISNUMBER(A27)),NOT(ISNUMBER(E27)),E27<0,F27="",AND(B27<>"Gasto",B27<>"Aporte",B27<>"Traspaso",B27<>"Devolución"),AND(OR(B27="Gasto",B27="Traspaso"),COUNTIFS(Sobres!A16:A27,C27)<>1),AND(OR(B27="Aporte",B27="Devolución",B27="Traspaso"),COUNTIFS(Sobres!A16:A27,D27)<>1),AND(OR(B27="Aporte",B27="Devolución"),C27<>""),AND(B27="Gasto",D27<>""),AND(B27="Traspaso",C27=D27)),"REVISAR datos","Correcto")) | H27: =IF(C27="","",IF(COUNTIFS(Sobres!A16:A27,C27)=1,INDEX(Sobres!B16:B27,MATCH(C27,Sobres!A16:A27,0)),"REVISAR clave")) | I27: =IF(D27="","",IF(COUNTIFS(Sobres!A16:A27,D27)=1,INDEX(Sobres!B16:B27,MATCH(D27,Sobres!A16:A27,0)),"REVISAR clave")) | J27: =IF(COUNTA(A27:F27)>0,ROW(),0) -> 0
G28: =IF(COUNTA(A28:F28)=0,"",IF(OR(NOT(ISNUMBER(A28)),NOT(ISNUMBER(E28)),E28<0,F28="",AND(B28<>"Gasto",B28<>"Aporte",B28<>"Traspaso",B28<>"Devolución"),AND(OR(B28="Gasto",B28="Traspaso"),COUNTIFS(Sobres!A16:A27,C28)<>1),AND(OR(B28="Aporte",B28="Devolución",B28="Traspaso"),COUNTIFS(Sobres!A16:A27,D28)<>1),AND(OR(B28="Aporte",B28="Devolución"),C28<>""),AND(B28="Gasto",D28<>""),AND(B28="Traspaso",C28=D28)),"REVISAR datos","Correcto")) | H28: =IF(C28="","",IF(COUNTIFS(Sobres!A16:A27,C28)=1,INDEX(Sobres!B16:B27,MATCH(C28,Sobres!A16:A27,0)),"REVISAR clave")) | I28: =IF(D28="","",IF(COUNTIFS(Sobres!A16:A27,D28)=1,INDEX(Sobres!B16:B27,MATCH(D28,Sobres!A16:A27,0)),"REVISAR clave")) | J28: =IF(COUNTA(A28:F28)>0,ROW(),0) -> 0
G29: =IF(COUNTA(A29:F29)=0,"",IF(OR(NOT(ISNUMBER(A29)),NOT(ISNUMBER(E29)),E29<0,F29="",AND(B29<>"Gasto",B29<>"Aporte",B29<>"Traspaso",B29<>"Devolución"),AND(OR(B29="Gasto",B29="Traspaso"),COUNTIFS(Sobres!A16:A27,C29)<>1),AND(OR(B29="Aporte",B29="Devolución",B29="Traspaso"),COUNTIFS(Sobres!A16:A27,D29)<>1),AND(OR(B29="Aporte",B29="Devolución"),C29<>""),AND(B29="Gasto",D29<>""),AND(B29="Traspaso",C29=D29)),"REVISAR datos","Correcto")) | H29: =IF(C29="","",IF(COUNTIFS(Sobres!A16:A27,C29)=1,INDEX(Sobres!B16:B27,MATCH(C29,Sobres!A16:A27,0)),"REVISAR clave")) | I29: =IF(D29="","",IF(COUNTIFS(Sobres!A16:A27,D29)=1,INDEX(Sobres!B16:B27,MATCH(D29,Sobres!A16:A27,0)),"REVISAR clave")) | J29: =IF(COUNTA(A29:F29)>0,ROW(),0) -> 0
G30: =IF(COUNTA(A30:F30)=0,"",IF(OR(NOT(ISNUMBER(A30)),NOT(ISNUMBER(E30)),E30<0,F30="",AND(B30<>"Gasto",B30<>"Aporte",B30<>"Traspaso",B30<>"Devolución"),AND(OR(B30="Gasto",B30="Traspaso"),COUNTIFS(Sobres!A16:A27,C30)<>1),AND(OR(B30="Aporte",B30="Devolución",B30="Traspaso"),COUNTIFS(Sobres!A16:A27,D30)<>1),AND(OR(B30="Aporte",B30="Devolución"),C30<>""),AND(B30="Gasto",D30<>""),AND(B30="Traspaso",C30=D30)),"REVISAR datos","Correcto")) | H30: =IF(C30="","",IF(COUNTIFS(Sobres!A16:A27,C30)=1,INDEX(Sobres!B16:B27,MATCH(C30,Sobres!A16:A27,0)),"REVISAR clave")) | I30: =IF(D30="","",IF(COUNTIFS(Sobres!A16:A27,D30)=1,INDEX(Sobres!B16:B27,MATCH(D30,Sobres!A16:A27,0)),"REVISAR clave")) | J30: =IF(COUNTA(A30:F30)>0,ROW(),0) -> 0
G31: =IF(COUNTA(A31:F31)=0,"",IF(OR(NOT(ISNUMBER(A31)),NOT(ISNUMBER(E31)),E31<0,F31="",AND(B31<>"Gasto",B31<>"Aporte",B31<>"Traspaso",B31<>"Devolución"),AND(OR(B31="Gasto",B31="Traspaso"),COUNTIFS(Sobres!A16:A27,C31)<>1),AND(OR(B31="Aporte",B31="Devolución",B31="Traspaso"),COUNTIFS(Sobres!A16:A27,D31)<>1),AND(OR(B31="Aporte",B31="Devolución"),C31<>""),AND(B31="Gasto",D31<>""),AND(B31="Traspaso",C31=D31)),"REVISAR datos","Correcto")) | H31: =IF(C31="","",IF(COUNTIFS(Sobres!A16:A27,C31)=1,INDEX(Sobres!B16:B27,MATCH(C31,Sobres!A16:A27,0)),"REVISAR clave")) | I31: =IF(D31="","",IF(COUNTIFS(Sobres!A16:A27,D31)=1,INDEX(Sobres!B16:B27,MATCH(D31,Sobres!A16:A27,0)),"REVISAR clave")) | J31: =IF(COUNTA(A31:F31)>0,ROW(),0) -> 0
G32: =IF(COUNTA(A32:F32)=0,"",IF(OR(NOT(ISNUMBER(A32)),NOT(ISNUMBER(E32)),E32<0,F32="",AND(B32<>"Gasto",B32<>"Aporte",B32<>"Traspaso",B32<>"Devolución"),AND(OR(B32="Gasto",B32="Traspaso"),COUNTIFS(Sobres!A16:A27,C32)<>1),AND(OR(B32="Aporte",B32="Devolución",B32="Traspaso"),COUNTIFS(Sobres!A16:A27,D32)<>1),AND(OR(B32="Aporte",B32="Devolución"),C32<>""),AND(B32="Gasto",D32<>""),AND(B32="Traspaso",C32=D32)),"REVISAR datos","Correcto")) | H32: =IF(C32="","",IF(COUNTIFS(Sobres!A16:A27,C32)=1,INDEX(Sobres!B16:B27,MATCH(C32,Sobres!A16:A27,0)),"REVISAR clave")) | I32: =IF(D32="","",IF(COUNTIFS(Sobres!A16:A27,D32)=1,INDEX(Sobres!B16:B27,MATCH(D32,Sobres!A16:A27,0)),"REVISAR clave")) | J32: =IF(COUNTA(A32:F32)>0,ROW(),0) -> 0
G33: =IF(COUNTA(A33:F33)=0,"",IF(OR(NOT(ISNUMBER(A33)),NOT(ISNUMBER(E33)),E33<0,F33="",AND(B33<>"Gasto",B33<>"Aporte",B33<>"Traspaso",B33<>"Devolución"),AND(OR(B33="Gasto",B33="Traspaso"),COUNTIFS(Sobres!A16:A27,C33)<>1),AND(OR(B33="Aporte",B33="Devolución",B33="Traspaso"),COUNTIFS(Sobres!A16:A27,D33)<>1),AND(OR(B33="Aporte",B33="Devolución"),C33<>""),AND(B33="Gasto",D33<>""),AND(B33="Traspaso",C33=D33)),"REVISAR datos","Correcto")) | H33: =IF(C33="","",IF(COUNTIFS(Sobres!A16:A27,C33)=1,INDEX(Sobres!B16:B27,MATCH(C33,Sobres!A16:A27,0)),"REVISAR clave")) | I33: =IF(D33="","",IF(COUNTIFS(Sobres!A16:A27,D33)=1,INDEX(Sobres!B16:B27,MATCH(D33,Sobres!A16:A27,0)),"REVISAR clave")) | J33: =IF(COUNTA(A33:F33)>0,ROW(),0) -> 0
G34: =IF(COUNTA(A34:F34)=0,"",IF(OR(NOT(ISNUMBER(A34)),NOT(ISNUMBER(E34)),E34<0,F34="",AND(B34<>"Gasto",B34<>"Aporte",B34<>"Traspaso",B34<>"Devolución"),AND(OR(B34="Gasto",B34="Traspaso"),COUNTIFS(Sobres!A16:A27,C34)<>1),AND(OR(B34="Aporte",B34="Devolución",B34="Traspaso"),COUNTIFS(Sobres!A16:A27,D34)<>1),AND(OR(B34="Aporte",B34="Devolución"),C34<>""),AND(B34="Gasto",D34<>""),AND(B34="Traspaso",C34=D34)),"REVISAR datos","Correcto")) | H34: =IF(C34="","",IF(COUNTIFS(Sobres!A16:A27,C34)=1,INDEX(Sobres!B16:B27,MATCH(C34,Sobres!A16:A27,0)),"REVISAR clave")) | I34: =IF(D34="","",IF(COUNTIFS(Sobres!A16:A27,D34)=1,INDEX(Sobres!B16:B27,MATCH(D34,Sobres!A16:A27,0)),"REVISAR clave")) | J34: =IF(COUNTA(A34:F34)>0,ROW(),0) -> 0
G35: =IF(COUNTA(A35:F35)=0,"",IF(OR(NOT(ISNUMBER(A35)),NOT(ISNUMBER(E35)),E35<0,F35="",AND(B35<>"Gasto",B35<>"Aporte",B35<>"Traspaso",B35<>"Devolución"),AND(OR(B35="Gasto",B35="Traspaso"),COUNTIFS(Sobres!A16:A27,C35)<>1),AND(OR(B35="Aporte",B35="Devolución",B35="Traspaso"),COUNTIFS(Sobres!A16:A27,D35)<>1),AND(OR(B35="Aporte",B35="Devolución"),C35<>""),AND(B35="Gasto",D35<>""),AND(B35="Traspaso",C35=D35)),"REVISAR datos","Correcto")) | H35: =IF(C35="","",IF(COUNTIFS(Sobres!A16:A27,C35)=1,INDEX(Sobres!B16:B27,MATCH(C35,Sobres!A16:A27,0)),"REVISAR clave")) | I35: =IF(D35="","",IF(COUNTIFS(Sobres!A16:A27,D35)=1,INDEX(Sobres!B16:B27,MATCH(D35,Sobres!A16:A27,0)),"REVISAR clave")) | J35: =IF(COUNTA(A35:F35)>0,ROW(),0) -> 0
G36: =IF(COUNTA(A36:F36)=0,"",IF(OR(NOT(ISNUMBER(A36)),NOT(ISNUMBER(E36)),E36<0,F36="",AND(B36<>"Gasto",B36<>"Aporte",B36<>"Traspaso",B36<>"Devolución"),AND(OR(B36="Gasto",B36="Traspaso"),COUNTIFS(Sobres!A16:A27,C36)<>1),AND(OR(B36="Aporte",B36="Devolución",B36="Traspaso"),COUNTIFS(Sobres!A16:A27,D36)<>1),AND(OR(B36="Aporte",B36="Devolución"),C36<>""),AND(B36="Gasto",D36<>""),AND(B36="Traspaso",C36=D36)),"REVISAR datos","Correcto")) | H36: =IF(C36="","",IF(COUNTIFS(Sobres!A16:A27,C36)=1,INDEX(Sobres!B16:B27,MATCH(C36,Sobres!A16:A27,0)),"REVISAR clave")) | I36: =IF(D36="","",IF(COUNTIFS(Sobres!A16:A27,D36)=1,INDEX(Sobres!B16:B27,MATCH(D36,Sobres!A16:A27,0)),"REVISAR clave")) | J36: =IF(COUNTA(A36:F36)>0,ROW(),0) -> 0
G37: =IF(COUNTA(A37:F37)=0,"",IF(OR(NOT(ISNUMBER(A37)),NOT(ISNUMBER(E37)),E37<0,F37="",AND(B37<>"Gasto",B37<>"Aporte",B37<>"Traspaso",B37<>"Devolución"),AND(OR(B37="Gasto",B37="Traspaso"),COUNTIFS(Sobres!A16:A27,C37)<>1),AND(OR(B37="Aporte",B37="Devolución",B37="Traspaso"),COUNTIFS(Sobres!A16:A27,D37)<>1),AND(OR(B37="Aporte",B37="Devolución"),C37<>""),AND(B37="Gasto",D37<>""),AND(B37="Traspaso",C37=D37)),"REVISAR datos","Correcto")) | H37: =IF(C37="","",IF(COUNTIFS(Sobres!A16:A27,C37)=1,INDEX(Sobres!B16:B27,MATCH(C37,Sobres!A16:A27,0)),"REVISAR clave")) | I37: =IF(D37="","",IF(COUNTIFS(Sobres!A16:A27,D37)=1,INDEX(Sobres!B16:B27,MATCH(D37,Sobres!A16:A27,0)),"REVISAR clave")) | J37: =IF(COUNTA(A37:F37)>0,ROW(),0) -> 0
G38: =IF(COUNTA(A38:F38)=0,"",IF(OR(NOT(ISNUMBER(A38)),NOT(ISNUMBER(E38)),E38<0,F38="",AND(B38<>"Gasto",B38<>"Aporte",B38<>"Traspaso",B38<>"Devolución"),AND(OR(B38="Gasto",B38="Traspaso"),COUNTIFS(Sobres!A16:A27,C38)<>1),AND(OR(B38="Aporte",B38="Devolución",B38="Traspaso"),COUNTIFS(Sobres!A16:A27,D38)<>1),AND(OR(B38="Aporte",B38="Devolución"),C38<>""),AND(B38="Gasto",D38<>""),AND(B38="Traspaso",C38=D38)),"REVISAR datos","Correcto")) | H38: =IF(C38="","",IF(COUNTIFS(Sobres!A16:A27,C38)=1,INDEX(Sobres!B16:B27,MATCH(C38,Sobres!A16:A27,0)),"REVISAR clave")) | I38: =IF(D38="","",IF(COUNTIFS(Sobres!A16:A27,D38)=1,INDEX(Sobres!B16:B27,MATCH(D38,Sobres!A16:A27,0)),"REVISAR clave")) | J38: =IF(COUNTA(A38:F38)>0,ROW(),0) -> 0
G39: =IF(COUNTA(A39:F39)=0,"",IF(OR(NOT(ISNUMBER(A39)),NOT(ISNUMBER(E39)),E39<0,F39="",AND(B39<>"Gasto",B39<>"Aporte",B39<>"Traspaso",B39<>"Devolución"),AND(OR(B39="Gasto",B39="Traspaso"),COUNTIFS(Sobres!A16:A27,C39)<>1),AND(OR(B39="Aporte",B39="Devolución",B39="Traspaso"),COUNTIFS(Sobres!A16:A27,D39)<>1),AND(OR(B39="Aporte",B39="Devolución"),C39<>""),AND(B39="Gasto",D39<>""),AND(B39="Traspaso",C39=D39)),"REVISAR datos","Correcto")) | H39: =IF(C39="","",IF(COUNTIFS(Sobres!A16:A27,C39)=1,INDEX(Sobres!B16:B27,MATCH(C39,Sobres!A16:A27,0)),"REVISAR clave")) | I39: =IF(D39="","",IF(COUNTIFS(Sobres!A16:A27,D39)=1,INDEX(Sobres!B16:B27,MATCH(D39,Sobres!A16:A27,0)),"REVISAR clave")) | J39: =IF(COUNTA(A39:F39)>0,ROW(),0) -> 0
G40: =IF(COUNTA(A40:F40)=0,"",IF(OR(NOT(ISNUMBER(A40)),NOT(ISNUMBER(E40)),E40<0,F40="",AND(B40<>"Gasto",B40<>"Aporte",B40<>"Traspaso",B40<>"Devolución"),AND(OR(B40="Gasto",B40="Traspaso"),COUNTIFS(Sobres!A16:A27,C40)<>1),AND(OR(B40="Aporte",B40="Devolución",B40="Traspaso"),COUNTIFS(Sobres!A16:A27,D40)<>1),AND(OR(B40="Aporte",B40="Devolución"),C40<>""),AND(B40="Gasto",D40<>""),AND(B40="Traspaso",C40=D40)),"REVISAR datos","Correcto")) | H40: =IF(C40="","",IF(COUNTIFS(Sobres!A16:A27,C40)=1,INDEX(Sobres!B16:B27,MATCH(C40,Sobres!A16:A27,0)),"REVISAR clave")) | I40: =IF(D40="","",IF(COUNTIFS(Sobres!A16:A27,D40)=1,INDEX(Sobres!B16:B27,MATCH(D40,Sobres!A16:A27,0)),"REVISAR clave")) | J40: =IF(COUNTA(A40:F40)>0,ROW(),0) -> 0
G41: =IF(COUNTA(A41:F41)=0,"",IF(OR(NOT(ISNUMBER(A41)),NOT(ISNUMBER(E41)),E41<0,F41="",AND(B41<>"Gasto",B41<>"Aporte",B41<>"Traspaso",B41<>"Devolución"),AND(OR(B41="Gasto",B41="Traspaso"),COUNTIFS(Sobres!A16:A27,C41)<>1),AND(OR(B41="Aporte",B41="Devolución",B41="Traspaso"),COUNTIFS(Sobres!A16:A27,D41)<>1),AND(OR(B41="Aporte",B41="Devolución"),C41<>""),AND(B41="Gasto",D41<>""),AND(B41="Traspaso",C41=D41)),"REVISAR datos","Correcto")) | H41: =IF(C41="","",IF(COUNTIFS(Sobres!A16:A27,C41)=1,INDEX(Sobres!B16:B27,MATCH(C41,Sobres!A16:A27,0)),"REVISAR clave")) | I41: =IF(D41="","",IF(COUNTIFS(Sobres!A16:A27,D41)=1,INDEX(Sobres!B16:B27,MATCH(D41,Sobres!A16:A27,0)),"REVISAR clave")) | J41: =IF(COUNTA(A41:F41)>0,ROW(),0) -> 0
G42: =IF(COUNTA(A42:F42)=0,"",IF(OR(NOT(ISNUMBER(A42)),NOT(ISNUMBER(E42)),E42<0,F42="",AND(B42<>"Gasto",B42<>"Aporte",B42<>"Traspaso",B42<>"Devolución"),AND(OR(B42="Gasto",B42="Traspaso"),COUNTIFS(Sobres!A16:A27,C42)<>1),AND(OR(B42="Aporte",B42="Devolución",B42="Traspaso"),COUNTIFS(Sobres!A16:A27,D42)<>1),AND(OR(B42="Aporte",B42="Devolución"),C42<>""),AND(B42="Gasto",D42<>""),AND(B42="Traspaso",C42=D42)),"REVISAR datos","Correcto")) | H42: =IF(C42="","",IF(COUNTIFS(Sobres!A16:A27,C42)=1,INDEX(Sobres!B16:B27,MATCH(C42,Sobres!A16:A27,0)),"REVISAR clave")) | I42: =IF(D42="","",IF(COUNTIFS(Sobres!A16:A27,D42)=1,INDEX(Sobres!B16:B27,MATCH(D42,Sobres!A16:A27,0)),"REVISAR clave")) | J42: =IF(COUNTA(A42:F42)>0,ROW(),0) -> 0
G43: =IF(COUNTA(A43:F43)=0,"",IF(OR(NOT(ISNUMBER(A43)),NOT(ISNUMBER(E43)),E43<0,F43="",AND(B43<>"Gasto",B43<>"Aporte",B43<>"Traspaso",B43<>"Devolución"),AND(OR(B43="Gasto",B43="Traspaso"),COUNTIFS(Sobres!A16:A27,C43)<>1),AND(OR(B43="Aporte",B43="Devolución",B43="Traspaso"),COUNTIFS(Sobres!A16:A27,D43)<>1),AND(OR(B43="Aporte",B43="Devolución"),C43<>""),AND(B43="Gasto",D43<>""),AND(B43="Traspaso",C43=D43)),"REVISAR datos","Correcto")) | H43: =IF(C43="","",IF(COUNTIFS(Sobres!A16:A27,C43)=1,INDEX(Sobres!B16:B27,MATCH(C43,Sobres!A16:A27,0)),"REVISAR clave")) | I43: =IF(D43="","",IF(COUNTIFS(Sobres!A16:A27,D43)=1,INDEX(Sobres!B16:B27,MATCH(D43,Sobres!A16:A27,0)),"REVISAR clave")) | J43: =IF(COUNTA(A43:F43)>0,ROW(),0) -> 0
G44: =IF(COUNTA(A44:F44)=0,"",IF(OR(NOT(ISNUMBER(A44)),NOT(ISNUMBER(E44)),E44<0,F44="",AND(B44<>"Gasto",B44<>"Aporte",B44<>"Traspaso",B44<>"Devolución"),AND(OR(B44="Gasto",B44="Traspaso"),COUNTIFS(Sobres!A16:A27,C44)<>1),AND(OR(B44="Aporte",B44="Devolución",B44="Traspaso"),COUNTIFS(Sobres!A16:A27,D44)<>1),AND(OR(B44="Aporte",B44="Devolución"),C44<>""),AND(B44="Gasto",D44<>""),AND(B44="Traspaso",C44=D44)),"REVISAR datos","Correcto")) | H44: =IF(C44="","",IF(COUNTIFS(Sobres!A16:A27,C44)=1,INDEX(Sobres!B16:B27,MATCH(C44,Sobres!A16:A27,0)),"REVISAR clave")) | I44: =IF(D44="","",IF(COUNTIFS(Sobres!A16:A27,D44)=1,INDEX(Sobres!B16:B27,MATCH(D44,Sobres!A16:A27,0)),"REVISAR clave")) | J44: =IF(COUNTA(A44:F44)>0,ROW(),0) -> 0
G45: =IF(COUNTA(A45:F45)=0,"",IF(OR(NOT(ISNUMBER(A45)),NOT(ISNUMBER(E45)),E45<0,F45="",AND(B45<>"Gasto",B45<>"Aporte",B45<>"Traspaso",B45<>"Devolución"),AND(OR(B45="Gasto",B45="Traspaso"),COUNTIFS(Sobres!A16:A27,C45)<>1),AND(OR(B45="Aporte",B45="Devolución",B45="Traspaso"),COUNTIFS(Sobres!A16:A27,D45)<>1),AND(OR(B45="Aporte",B45="Devolución"),C45<>""),AND(B45="Gasto",D45<>""),AND(B45="Traspaso",C45=D45)),"REVISAR datos","Correcto")) | H45: =IF(C45="","",IF(COUNTIFS(Sobres!A16:A27,C45)=1,INDEX(Sobres!B16:B27,MATCH(C45,Sobres!A16:A27,0)),"REVISAR clave")) | I45: =IF(D45="","",IF(COUNTIFS(Sobres!A16:A27,D45)=1,INDEX(Sobres!B16:B27,MATCH(D45,Sobres!A16:A27,0)),"REVISAR clave")) | J45: =IF(COUNTA(A45:F45)>0,ROW(),0) -> 0
G46: =IF(COUNTA(A46:F46)=0,"",IF(OR(NOT(ISNUMBER(A46)),NOT(ISNUMBER(E46)),E46<0,F46="",AND(B46<>"Gasto",B46<>"Aporte",B46<>"Traspaso",B46<>"Devolución"),AND(OR(B46="Gasto",B46="Traspaso"),COUNTIFS(Sobres!A16:A27,C46)<>1),AND(OR(B46="Aporte",B46="Devolución",B46="Traspaso"),COUNTIFS(Sobres!A16:A27,D46)<>1),AND(OR(B46="Aporte",B46="Devolución"),C46<>""),AND(B46="Gasto",D46<>""),AND(B46="Traspaso",C46=D46)),"REVISAR datos","Correcto")) | H46: =IF(C46="","",IF(COUNTIFS(Sobres!A16:A27,C46)=1,INDEX(Sobres!B16:B27,MATCH(C46,Sobres!A16:A27,0)),"REVISAR clave")) | I46: =IF(D46="","",IF(COUNTIFS(Sobres!A16:A27,D46)=1,INDEX(Sobres!B16:B27,MATCH(D46,Sobres!A16:A27,0)),"REVISAR clave")) | J46: =IF(COUNTA(A46:F46)>0,ROW(),0) -> 0
G47: =IF(COUNTA(A47:F47)=0,"",IF(OR(NOT(ISNUMBER(A47)),NOT(ISNUMBER(E47)),E47<0,F47="",AND(B47<>"Gasto",B47<>"Aporte",B47<>"Traspaso",B47<>"Devolución"),AND(OR(B47="Gasto",B47="Traspaso"),COUNTIFS(Sobres!A16:A27,C47)<>1),AND(OR(B47="Aporte",B47="Devolución",B47="Traspaso"),COUNTIFS(Sobres!A16:A27,D47)<>1),AND(OR(B47="Aporte",B47="Devolución"),C47<>""),AND(B47="Gasto",D47<>""),AND(B47="Traspaso",C47=D47)),"REVISAR datos","Correcto")) | H47: =IF(C47="","",IF(COUNTIFS(Sobres!A16:A27,C47)=1,INDEX(Sobres!B16:B27,MATCH(C47,Sobres!A16:A27,0)),"REVISAR clave")) | I47: =IF(D47="","",IF(COUNTIFS(Sobres!A16:A27,D47)=1,INDEX(Sobres!B16:B27,MATCH(D47,Sobres!A16:A27,0)),"REVISAR clave")) | J47: =IF(COUNTA(A47:F47)>0,ROW(),0) -> 0
G48: =IF(COUNTA(A48:F48)=0,"",IF(OR(NOT(ISNUMBER(A48)),NOT(ISNUMBER(E48)),E48<0,F48="",AND(B48<>"Gasto",B48<>"Aporte",B48<>"Traspaso",B48<>"Devolución"),AND(OR(B48="Gasto",B48="Traspaso"),COUNTIFS(Sobres!A16:A27,C48)<>1),AND(OR(B48="Aporte",B48="Devolución",B48="Traspaso"),COUNTIFS(Sobres!A16:A27,D48)<>1),AND(OR(B48="Aporte",B48="Devolución"),C48<>""),AND(B48="Gasto",D48<>""),AND(B48="Traspaso",C48=D48)),"REVISAR datos","Correcto")) | H48: =IF(C48="","",IF(COUNTIFS(Sobres!A16:A27,C48)=1,INDEX(Sobres!B16:B27,MATCH(C48,Sobres!A16:A27,0)),"REVISAR clave")) | I48: =IF(D48="","",IF(COUNTIFS(Sobres!A16:A27,D48)=1,INDEX(Sobres!B16:B27,MATCH(D48,Sobres!A16:A27,0)),"REVISAR clave")) | J48: =IF(COUNTA(A48:F48)>0,ROW(),0) -> 0
G49: =IF(COUNTA(A49:F49)=0,"",IF(OR(NOT(ISNUMBER(A49)),NOT(ISNUMBER(E49)),E49<0,F49="",AND(B49<>"Gasto",B49<>"Aporte",B49<>"Traspaso",B49<>"Devolución"),AND(OR(B49="Gasto",B49="Traspaso"),COUNTIFS(Sobres!A16:A27,C49)<>1),AND(OR(B49="Aporte",B49="Devolución",B49="Traspaso"),COUNTIFS(Sobres!A16:A27,D49)<>1),AND(OR(B49="Aporte",B49="Devolución"),C49<>""),AND(B49="Gasto",D49<>""),AND(B49="Traspaso",C49=D49)),"REVISAR datos","Correcto")) | H49: =IF(C49="","",IF(COUNTIFS(Sobres!A16:A27,C49)=1,INDEX(Sobres!B16:B27,MATCH(C49,Sobres!A16:A27,0)),"REVISAR clave")) | I49: =IF(D49="","",IF(COUNTIFS(Sobres!A16:A27,D49)=1,INDEX(Sobres!B16:B27,MATCH(D49,Sobres!A16:A27,0)),"REVISAR clave")) | J49: =IF(COUNTA(A49:F49)>0,ROW(),0) -> 0
G50: =IF(COUNTA(A50:F50)=0,"",IF(OR(NOT(ISNUMBER(A50)),NOT(ISNUMBER(E50)),E50<0,F50="",AND(B50<>"Gasto",B50<>"Aporte",B50<>"Traspaso",B50<>"Devolución"),AND(OR(B50="Gasto",B50="Traspaso"),COUNTIFS(Sobres!A16:A27,C50)<>1),AND(OR(B50="Aporte",B50="Devolución",B50="Traspaso"),COUNTIFS(Sobres!A16:A27,D50)<>1),AND(OR(B50="Aporte",B50="Devolución"),C50<>""),AND(B50="Gasto",D50<>""),AND(B50="Traspaso",C50=D50)),"REVISAR datos","Correcto")) | H50: =IF(C50="","",IF(COUNTIFS(Sobres!A16:A27,C50)=1,INDEX(Sobres!B16:B27,MATCH(C50,Sobres!A16:A27,0)),"REVISAR clave")) | I50: =IF(D50="","",IF(COUNTIFS(Sobres!A16:A27,D50)=1,INDEX(Sobres!B16:B27,MATCH(D50,Sobres!A16:A27,0)),"REVISAR clave")) | J50: =IF(COUNTA(A50:F50)>0,ROW(),0) -> 0
G51: =IF(COUNTA(A51:F51)=0,"",IF(OR(NOT(ISNUMBER(A51)),NOT(ISNUMBER(E51)),E51<0,F51="",AND(B51<>"Gasto",B51<>"Aporte",B51<>"Traspaso",B51<>"Devolución"),AND(OR(B51="Gasto",B51="Traspaso"),COUNTIFS(Sobres!A16:A27,C51)<>1),AND(OR(B51="Aporte",B51="Devolución",B51="Traspaso"),COUNTIFS(Sobres!A16:A27,D51)<>1),AND(OR(B51="Aporte",B51="Devolución"),C51<>""),AND(B51="Gasto",D51<>""),AND(B51="Traspaso",C51=D51)),"REVISAR datos","Correcto")) | H51: =IF(C51="","",IF(COUNTIFS(Sobres!A16:A27,C51)=1,INDEX(Sobres!B16:B27,MATCH(C51,Sobres!A16:A27,0)),"REVISAR clave")) | I51: =IF(D51="","",IF(COUNTIFS(Sobres!A16:A27,D51)=1,INDEX(Sobres!B16:B27,MATCH(D51,Sobres!A16:A27,0)),"REVISAR clave")) | J51: =IF(COUNTA(A51:F51)>0,ROW(),0) -> 0
G52: =IF(COUNTA(A52:F52)=0,"",IF(OR(NOT(ISNUMBER(A52)),NOT(ISNUMBER(E52)),E52<0,F52="",AND(B52<>"Gasto",B52<>"Aporte",B52<>"Traspaso",B52<>"Devolución"),AND(OR(B52="Gasto",B52="Traspaso"),COUNTIFS(Sobres!A16:A27,C52)<>1),AND(OR(B52="Aporte",B52="Devolución",B52="Traspaso"),COUNTIFS(Sobres!A16:A27,D52)<>1),AND(OR(B52="Aporte",B52="Devolución"),C52<>""),AND(B52="Gasto",D52<>""),AND(B52="Traspaso",C52=D52)),"REVISAR datos","Correcto")) | H52: =IF(C52="","",IF(COUNTIFS(Sobres!A16:A27,C52)=1,INDEX(Sobres!B16:B27,MATCH(C52,Sobres!A16:A27,0)),"REVISAR clave")) | I52: =IF(D52="","",IF(COUNTIFS(Sobres!A16:A27,D52)=1,INDEX(Sobres!B16:B27,MATCH(D52,Sobres!A16:A27,0)),"REVISAR clave")) | J52: =IF(COUNTA(A52:F52)>0,ROW(),0) -> 0
G53: =IF(COUNTA(A53:F53)=0,"",IF(OR(NOT(ISNUMBER(A53)),NOT(ISNUMBER(E53)),E53<0,F53="",AND(B53<>"Gasto",B53<>"Aporte",B53<>"Traspaso",B53<>"Devolución"),AND(OR(B53="Gasto",B53="Traspaso"),COUNTIFS(Sobres!A16:A27,C53)<>1),AND(OR(B53="Aporte",B53="Devolución",B53="Traspaso"),COUNTIFS(Sobres!A16:A27,D53)<>1),AND(OR(B53="Aporte",B53="Devolución"),C53<>""),AND(B53="Gasto",D53<>""),AND(B53="Traspaso",C53=D53)),"REVISAR datos","Correcto")) | H53: =IF(C53="","",IF(COUNTIFS(Sobres!A16:A27,C53)=1,INDEX(Sobres!B16:B27,MATCH(C53,Sobres!A16:A27,0)),"REVISAR clave")) | I53: =IF(D53="","",IF(COUNTIFS(Sobres!A16:A27,D53)=1,INDEX(Sobres!B16:B27,MATCH(D53,Sobres!A16:A27,0)),"REVISAR clave")) | J53: =IF(COUNTA(A53:F53)>0,ROW(),0) -> 0
G54: =IF(COUNTA(A54:F54)=0,"",IF(OR(NOT(ISNUMBER(A54)),NOT(ISNUMBER(E54)),E54<0,F54="",AND(B54<>"Gasto",B54<>"Aporte",B54<>"Traspaso",B54<>"Devolución"),AND(OR(B54="Gasto",B54="Traspaso"),COUNTIFS(Sobres!A16:A27,C54)<>1),AND(OR(B54="Aporte",B54="Devolución",B54="Traspaso"),COUNTIFS(Sobres!A16:A27,D54)<>1),AND(OR(B54="Aporte",B54="Devolución"),C54<>""),AND(B54="Gasto",D54<>""),AND(B54="Traspaso",C54=D54)),"REVISAR datos","Correcto")) | H54: =IF(C54="","",IF(COUNTIFS(Sobres!A16:A27,C54)=1,INDEX(Sobres!B16:B27,MATCH(C54,Sobres!A16:A27,0)),"REVISAR clave")) | I54: =IF(D54="","",IF(COUNTIFS(Sobres!A16:A27,D54)=1,INDEX(Sobres!B16:B27,MATCH(D54,Sobres!A16:A27,0)),"REVISAR clave")) | J54: =IF(COUNTA(A54:F54)>0,ROW(),0) -> 0
G55: =IF(COUNTA(A55:F55)=0,"",IF(OR(NOT(ISNUMBER(A55)),NOT(ISNUMBER(E55)),E55<0,F55="",AND(B55<>"Gasto",B55<>"Aporte",B55<>"Traspaso",B55<>"Devolución"),AND(OR(B55="Gasto",B55="Traspaso"),COUNTIFS(Sobres!A16:A27,C55)<>1),AND(OR(B55="Aporte",B55="Devolución",B55="Traspaso"),COUNTIFS(Sobres!A16:A27,D55)<>1),AND(OR(B55="Aporte",B55="Devolución"),C55<>""),AND(B55="Gasto",D55<>""),AND(B55="Traspaso",C55=D55)),"REVISAR datos","Correcto")) | H55: =IF(C55="","",IF(COUNTIFS(Sobres!A16:A27,C55)=1,INDEX(Sobres!B16:B27,MATCH(C55,Sobres!A16:A27,0)),"REVISAR clave")) | I55: =IF(D55="","",IF(COUNTIFS(Sobres!A16:A27,D55)=1,INDEX(Sobres!B16:B27,MATCH(D55,Sobres!A16:A27,0)),"REVISAR clave")) | J55: =IF(COUNTA(A55:F55)>0,ROW(),0) -> 0
G56: =IF(COUNTA(A56:F56)=0,"",IF(OR(NOT(ISNUMBER(A56)),NOT(ISNUMBER(E56)),E56<0,F56="",AND(B56<>"Gasto",B56<>"Aporte",B56<>"Traspaso",B56<>"Devolución"),AND(OR(B56="Gasto",B56="Traspaso"),COUNTIFS(Sobres!A16:A27,C56)<>1),AND(OR(B56="Aporte",B56="Devolución",B56="Traspaso"),COUNTIFS(Sobres!A16:A27,D56)<>1),AND(OR(B56="Aporte",B56="Devolución"),C56<>""),AND(B56="Gasto",D56<>""),AND(B56="Traspaso",C56=D56)),"REVISAR datos","Correcto")) | H56: =IF(C56="","",IF(COUNTIFS(Sobres!A16:A27,C56)=1,INDEX(Sobres!B16:B27,MATCH(C56,Sobres!A16:A27,0)),"REVISAR clave")) | I56: =IF(D56="","",IF(COUNTIFS(Sobres!A16:A27,D56)=1,INDEX(Sobres!B16:B27,MATCH(D56,Sobres!A16:A27,0)),"REVISAR clave")) | J56: =IF(COUNTA(A56:F56)>0,ROW(),0) -> 0
G57: =IF(COUNTA(A57:F57)=0,"",IF(OR(NOT(ISNUMBER(A57)),NOT(ISNUMBER(E57)),E57<0,F57="",AND(B57<>"Gasto",B57<>"Aporte",B57<>"Traspaso",B57<>"Devolución"),AND(OR(B57="Gasto",B57="Traspaso"),COUNTIFS(Sobres!A16:A27,C57)<>1),AND(OR(B57="Aporte",B57="Devolución",B57="Traspaso"),COUNTIFS(Sobres!A16:A27,D57)<>1),AND(OR(B57="Aporte",B57="Devolución"),C57<>""),AND(B57="Gasto",D57<>""),AND(B57="Traspaso",C57=D57)),"REVISAR datos","Correcto")) | H57: =IF(C57="","",IF(COUNTIFS(Sobres!A16:A27,C57)=1,INDEX(Sobres!B16:B27,MATCH(C57,Sobres!A16:A27,0)),"REVISAR clave")) | I57: =IF(D57="","",IF(COUNTIFS(Sobres!A16:A27,D57)=1,INDEX(Sobres!B16:B27,MATCH(D57,Sobres!A16:A27,0)),"REVISAR clave")) | J57: =IF(COUNTA(A57:F57)>0,ROW(),0) -> 0
G58: =IF(COUNTA(A58:F58)=0,"",IF(OR(NOT(ISNUMBER(A58)),NOT(ISNUMBER(E58)),E58<0,F58="",AND(B58<>"Gasto",B58<>"Aporte",B58<>"Traspaso",B58<>"Devolución"),AND(OR(B58="Gasto",B58="Traspaso"),COUNTIFS(Sobres!A16:A27,C58)<>1),AND(OR(B58="Aporte",B58="Devolución",B58="Traspaso"),COUNTIFS(Sobres!A16:A27,D58)<>1),AND(OR(B58="Aporte",B58="Devolución"),C58<>""),AND(B58="Gasto",D58<>""),AND(B58="Traspaso",C58=D58)),"REVISAR datos","Correcto")) | H58: =IF(C58="","",IF(COUNTIFS(Sobres!A16:A27,C58)=1,INDEX(Sobres!B16:B27,MATCH(C58,Sobres!A16:A27,0)),"REVISAR clave")) | I58: =IF(D58="","",IF(COUNTIFS(Sobres!A16:A27,D58)=1,INDEX(Sobres!B16:B27,MATCH(D58,Sobres!A16:A27,0)),"REVISAR clave")) | J58: =IF(COUNTA(A58:F58)>0,ROW(),0) -> 0
G59: =IF(COUNTA(A59:F59)=0,"",IF(OR(NOT(ISNUMBER(A59)),NOT(ISNUMBER(E59)),E59<0,F59="",AND(B59<>"Gasto",B59<>"Aporte",B59<>"Traspaso",B59<>"Devolución"),AND(OR(B59="Gasto",B59="Traspaso"),COUNTIFS(Sobres!A16:A27,C59)<>1),AND(OR(B59="Aporte",B59="Devolución",B59="Traspaso"),COUNTIFS(Sobres!A16:A27,D59)<>1),AND(OR(B59="Aporte",B59="Devolución"),C59<>""),AND(B59="Gasto",D59<>""),AND(B59="Traspaso",C59=D59)),"REVISAR datos","Correcto")) | H59: =IF(C59="","",IF(COUNTIFS(Sobres!A16:A27,C59)=1,INDEX(Sobres!B16:B27,MATCH(C59,Sobres!A16:A27,0)),"REVISAR clave")) | I59: =IF(D59="","",IF(COUNTIFS(Sobres!A16:A27,D59)=1,INDEX(Sobres!B16:B27,MATCH(D59,Sobres!A16:A27,0)),"REVISAR clave")) | J59: =IF(COUNTA(A59:F59)>0,ROW(),0) -> 0
G60: =IF(COUNTA(A60:F60)=0,"",IF(OR(NOT(ISNUMBER(A60)),NOT(ISNUMBER(E60)),E60<0,F60="",AND(B60<>"Gasto",B60<>"Aporte",B60<>"Traspaso",B60<>"Devolución"),AND(OR(B60="Gasto",B60="Traspaso"),COUNTIFS(Sobres!A16:A27,C60)<>1),AND(OR(B60="Aporte",B60="Devolución",B60="Traspaso"),COUNTIFS(Sobres!A16:A27,D60)<>1),AND(OR(B60="Aporte",B60="Devolución"),C60<>""),AND(B60="Gasto",D60<>""),AND(B60="Traspaso",C60=D60)),"REVISAR datos","Correcto")) | H60: =IF(C60="","",IF(COUNTIFS(Sobres!A16:A27,C60)=1,INDEX(Sobres!B16:B27,MATCH(C60,Sobres!A16:A27,0)),"REVISAR clave")) | I60: =IF(D60="","",IF(COUNTIFS(Sobres!A16:A27,D60)=1,INDEX(Sobres!B16:B27,MATCH(D60,Sobres!A16:A27,0)),"REVISAR clave")) | J60: =IF(COUNTA(A60:F60)>0,ROW(),0) -> 0
G61: =IF(COUNTA(A61:F61)=0,"",IF(OR(NOT(ISNUMBER(A61)),NOT(ISNUMBER(E61)),E61<0,F61="",AND(B61<>"Gasto",B61<>"Aporte",B61<>"Traspaso",B61<>"Devolución"),AND(OR(B61="Gasto",B61="Traspaso"),COUNTIFS(Sobres!A16:A27,C61)<>1),AND(OR(B61="Aporte",B61="Devolución",B61="Traspaso"),COUNTIFS(Sobres!A16:A27,D61)<>1),AND(OR(B61="Aporte",B61="Devolución"),C61<>""),AND(B61="Gasto",D61<>""),AND(B61="Traspaso",C61=D61)),"REVISAR datos","Correcto")) | H61: =IF(C61="","",IF(COUNTIFS(Sobres!A16:A27,C61)=1,INDEX(Sobres!B16:B27,MATCH(C61,Sobres!A16:A27,0)),"REVISAR clave")) | I61: =IF(D61="","",IF(COUNTIFS(Sobres!A16:A27,D61)=1,INDEX(Sobres!B16:B27,MATCH(D61,Sobres!A16:A27,0)),"REVISAR clave")) | J61: =IF(COUNTA(A61:F61)>0,ROW(),0) -> 0
G62: =IF(COUNTA(A62:F62)=0,"",IF(OR(NOT(ISNUMBER(A62)),NOT(ISNUMBER(E62)),E62<0,F62="",AND(B62<>"Gasto",B62<>"Aporte",B62<>"Traspaso",B62<>"Devolución"),AND(OR(B62="Gasto",B62="Traspaso"),COUNTIFS(Sobres!A16:A27,C62)<>1),AND(OR(B62="Aporte",B62="Devolución",B62="Traspaso"),COUNTIFS(Sobres!A16:A27,D62)<>1),AND(OR(B62="Aporte",B62="Devolución"),C62<>""),AND(B62="Gasto",D62<>""),AND(B62="Traspaso",C62=D62)),"REVISAR datos","Correcto")) | H62: =IF(C62="","",IF(COUNTIFS(Sobres!A16:A27,C62)=1,INDEX(Sobres!B16:B27,MATCH(C62,Sobres!A16:A27,0)),"REVISAR clave")) | I62: =IF(D62="","",IF(COUNTIFS(Sobres!A16:A27,D62)=1,INDEX(Sobres!B16:B27,MATCH(D62,Sobres!A16:A27,0)),"REVISAR clave")) | J62: =IF(COUNTA(A62:F62)>0,ROW(),0) -> 0
G63: =IF(COUNTA(A63:F63)=0,"",IF(OR(NOT(ISNUMBER(A63)),NOT(ISNUMBER(E63)),E63<0,F63="",AND(B63<>"Gasto",B63<>"Aporte",B63<>"Traspaso",B63<>"Devolución"),AND(OR(B63="Gasto",B63="Traspaso"),COUNTIFS(Sobres!A16:A27,C63)<>1),AND(OR(B63="Aporte",B63="Devolución",B63="Traspaso"),COUNTIFS(Sobres!A16:A27,D63)<>1),AND(OR(B63="Aporte",B63="Devolución"),C63<>""),AND(B63="Gasto",D63<>""),AND(B63="Traspaso",C63=D63)),"REVISAR datos","Correcto")) | H63: =IF(C63="","",IF(COUNTIFS(Sobres!A16:A27,C63)=1,INDEX(Sobres!B16:B27,MATCH(C63,Sobres!A16:A27,0)),"REVISAR clave")) | I63: =IF(D63="","",IF(COUNTIFS(Sobres!A16:A27,D63)=1,INDEX(Sobres!B16:B27,MATCH(D63,Sobres!A16:A27,0)),"REVISAR clave")) | J63: =IF(COUNTA(A63:F63)>0,ROW(),0) -> 0
G64: =IF(COUNTA(A64:F64)=0,"",IF(OR(NOT(ISNUMBER(A64)),NOT(ISNUMBER(E64)),E64<0,F64="",AND(B64<>"Gasto",B64<>"Aporte",B64<>"Traspaso",B64<>"Devolución"),AND(OR(B64="Gasto",B64="Traspaso"),COUNTIFS(Sobres!A16:A27,C64)<>1),AND(OR(B64="Aporte",B64="Devolución",B64="Traspaso"),COUNTIFS(Sobres!A16:A27,D64)<>1),AND(OR(B64="Aporte",B64="Devolución"),C64<>""),AND(B64="Gasto",D64<>""),AND(B64="Traspaso",C64=D64)),"REVISAR datos","Correcto")) | H64: =IF(C64="","",IF(COUNTIFS(Sobres!A16:A27,C64)=1,INDEX(Sobres!B16:B27,MATCH(C64,Sobres!A16:A27,0)),"REVISAR clave")) | I64: =IF(D64="","",IF(COUNTIFS(Sobres!A16:A27,D64)=1,INDEX(Sobres!B16:B27,MATCH(D64,Sobres!A16:A27,0)),"REVISAR clave")) | J64: =IF(COUNTA(A64:F64)>0,ROW(),0) -> 0
G65: =IF(COUNTA(A65:F65)=0,"",IF(OR(NOT(ISNUMBER(A65)),NOT(ISNUMBER(E65)),E65<0,F65="",AND(B65<>"Gasto",B65<>"Aporte",B65<>"Traspaso",B65<>"Devolución"),AND(OR(B65="Gasto",B65="Traspaso"),COUNTIFS(Sobres!A16:A27,C65)<>1),AND(OR(B65="Aporte",B65="Devolución",B65="Traspaso"),COUNTIFS(Sobres!A16:A27,D65)<>1),AND(OR(B65="Aporte",B65="Devolución"),C65<>""),AND(B65="Gasto",D65<>""),AND(B65="Traspaso",C65=D65)),"REVISAR datos","Correcto")) | H65: =IF(C65="","",IF(COUNTIFS(Sobres!A16:A27,C65)=1,INDEX(Sobres!B16:B27,MATCH(C65,Sobres!A16:A27,0)),"REVISAR clave")) | I65: =IF(D65="","",IF(COUNTIFS(Sobres!A16:A27,D65)=1,INDEX(Sobres!B16:B27,MATCH(D65,Sobres!A16:A27,0)),"REVISAR clave")) | J65: =IF(COUNTA(A65:F65)>0,ROW(),0) -> 0
G66: =IF(COUNTA(A66:F66)=0,"",IF(OR(NOT(ISNUMBER(A66)),NOT(ISNUMBER(E66)),E66<0,F66="",AND(B66<>"Gasto",B66<>"Aporte",B66<>"Traspaso",B66<>"Devolución"),AND(OR(B66="Gasto",B66="Traspaso"),COUNTIFS(Sobres!A16:A27,C66)<>1),AND(OR(B66="Aporte",B66="Devolución",B66="Traspaso"),COUNTIFS(Sobres!A16:A27,D66)<>1),AND(OR(B66="Aporte",B66="Devolución"),C66<>""),AND(B66="Gasto",D66<>""),AND(B66="Traspaso",C66=D66)),"REVISAR datos","Correcto")) | H66: =IF(C66="","",IF(COUNTIFS(Sobres!A16:A27,C66)=1,INDEX(Sobres!B16:B27,MATCH(C66,Sobres!A16:A27,0)),"REVISAR clave")) | I66: =IF(D66="","",IF(COUNTIFS(Sobres!A16:A27,D66)=1,INDEX(Sobres!B16:B27,MATCH(D66,Sobres!A16:A27,0)),"REVISAR clave")) | J66: =IF(COUNTA(A66:F66)>0,ROW(),0) -> 0
G67: =IF(COUNTA(A67:F67)=0,"",IF(OR(NOT(ISNUMBER(A67)),NOT(ISNUMBER(E67)),E67<0,F67="",AND(B67<>"Gasto",B67<>"Aporte",B67<>"Traspaso",B67<>"Devolución"),AND(OR(B67="Gasto",B67="Traspaso"),COUNTIFS(Sobres!A16:A27,C67)<>1),AND(OR(B67="Aporte",B67="Devolución",B67="Traspaso"),COUNTIFS(Sobres!A16:A27,D67)<>1),AND(OR(B67="Aporte",B67="Devolución"),C67<>""),AND(B67="Gasto",D67<>""),AND(B67="Traspaso",C67=D67)),"REVISAR datos","Correcto")) | H67: =IF(C67="","",IF(COUNTIFS(Sobres!A16:A27,C67)=1,INDEX(Sobres!B16:B27,MATCH(C67,Sobres!A16:A27,0)),"REVISAR clave")) | I67: =IF(D67="","",IF(COUNTIFS(Sobres!A16:A27,D67)=1,INDEX(Sobres!B16:B27,MATCH(D67,Sobres!A16:A27,0)),"REVISAR clave")) | J67: =IF(COUNTA(A67:F67)>0,ROW(),0) -> 0
G68: =IF(COUNTA(A68:F68)=0,"",IF(OR(NOT(ISNUMBER(A68)),NOT(ISNUMBER(E68)),E68<0,F68="",AND(B68<>"Gasto",B68<>"Aporte",B68<>"Traspaso",B68<>"Devolución"),AND(OR(B68="Gasto",B68="Traspaso"),COUNTIFS(Sobres!A16:A27,C68)<>1),AND(OR(B68="Aporte",B68="Devolución",B68="Traspaso"),COUNTIFS(Sobres!A16:A27,D68)<>1),AND(OR(B68="Aporte",B68="Devolución"),C68<>""),AND(B68="Gasto",D68<>""),AND(B68="Traspaso",C68=D68)),"REVISAR datos","Correcto")) | H68: =IF(C68="","",IF(COUNTIFS(Sobres!A16:A27,C68)=1,INDEX(Sobres!B16:B27,MATCH(C68,Sobres!A16:A27,0)),"REVISAR clave")) | I68: =IF(D68="","",IF(COUNTIFS(Sobres!A16:A27,D68)=1,INDEX(Sobres!B16:B27,MATCH(D68,Sobres!A16:A27,0)),"REVISAR clave")) | J68: =IF(COUNTA(A68:F68)>0,ROW(),0) -> 0
G69: =IF(COUNTA(A69:F69)=0,"",IF(OR(NOT(ISNUMBER(A69)),NOT(ISNUMBER(E69)),E69<0,F69="",AND(B69<>"Gasto",B69<>"Aporte",B69<>"Traspaso",B69<>"Devolución"),AND(OR(B69="Gasto",B69="Traspaso"),COUNTIFS(Sobres!A16:A27,C69)<>1),AND(OR(B69="Aporte",B69="Devolución",B69="Traspaso"),COUNTIFS(Sobres!A16:A27,D69)<>1),AND(OR(B69="Aporte",B69="Devolución"),C69<>""),AND(B69="Gasto",D69<>""),AND(B69="Traspaso",C69=D69)),"REVISAR datos","Correcto")) | H69: =IF(C69="","",IF(COUNTIFS(Sobres!A16:A27,C69)=1,INDEX(Sobres!B16:B27,MATCH(C69,Sobres!A16:A27,0)),"REVISAR clave")) | I69: =IF(D69="","",IF(COUNTIFS(Sobres!A16:A27,D69)=1,INDEX(Sobres!B16:B27,MATCH(D69,Sobres!A16:A27,0)),"REVISAR clave")) | J69: =IF(COUNTA(A69:F69)>0,ROW(),0) -> 0
G70: =IF(COUNTA(A70:F70)=0,"",IF(OR(NOT(ISNUMBER(A70)),NOT(ISNUMBER(E70)),E70<0,F70="",AND(B70<>"Gasto",B70<>"Aporte",B70<>"Traspaso",B70<>"Devolución"),AND(OR(B70="Gasto",B70="Traspaso"),COUNTIFS(Sobres!A16:A27,C70)<>1),AND(OR(B70="Aporte",B70="Devolución",B70="Traspaso"),COUNTIFS(Sobres!A16:A27,D70)<>1),AND(OR(B70="Aporte",B70="Devolución"),C70<>""),AND(B70="Gasto",D70<>""),AND(B70="Traspaso",C70=D70)),"REVISAR datos","Correcto")) | H70: =IF(C70="","",IF(COUNTIFS(Sobres!A16:A27,C70)=1,INDEX(Sobres!B16:B27,MATCH(C70,Sobres!A16:A27,0)),"REVISAR clave")) | I70: =IF(D70="","",IF(COUNTIFS(Sobres!A16:A27,D70)=1,INDEX(Sobres!B16:B27,MATCH(D70,Sobres!A16:A27,0)),"REVISAR clave")) | J70: =IF(COUNTA(A70:F70)>0,ROW(),0) -> 0
G71: =IF(COUNTA(A71:F71)=0,"",IF(OR(NOT(ISNUMBER(A71)),NOT(ISNUMBER(E71)),E71<0,F71="",AND(B71<>"Gasto",B71<>"Aporte",B71<>"Traspaso",B71<>"Devolución"),AND(OR(B71="Gasto",B71="Traspaso"),COUNTIFS(Sobres!A16:A27,C71)<>1),AND(OR(B71="Aporte",B71="Devolución",B71="Traspaso"),COUNTIFS(Sobres!A16:A27,D71)<>1),AND(OR(B71="Aporte",B71="Devolución"),C71<>""),AND(B71="Gasto",D71<>""),AND(B71="Traspaso",C71=D71)),"REVISAR datos","Correcto")) | H71: =IF(C71="","",IF(COUNTIFS(Sobres!A16:A27,C71)=1,INDEX(Sobres!B16:B27,MATCH(C71,Sobres!A16:A27,0)),"REVISAR clave")) | I71: =IF(D71="","",IF(COUNTIFS(Sobres!A16:A27,D71)=1,INDEX(Sobres!B16:B27,MATCH(D71,Sobres!A16:A27,0)),"REVISAR clave")) | J71: =IF(COUNTA(A71:F71)>0,ROW(),0) -> 0
G72: =IF(COUNTA(A72:F72)=0,"",IF(OR(NOT(ISNUMBER(A72)),NOT(ISNUMBER(E72)),E72<0,F72="",AND(B72<>"Gasto",B72<>"Aporte",B72<>"Traspaso",B72<>"Devolución"),AND(OR(B72="Gasto",B72="Traspaso"),COUNTIFS(Sobres!A16:A27,C72)<>1),AND(OR(B72="Aporte",B72="Devolución",B72="Traspaso"),COUNTIFS(Sobres!A16:A27,D72)<>1),AND(OR(B72="Aporte",B72="Devolución"),C72<>""),AND(B72="Gasto",D72<>""),AND(B72="Traspaso",C72=D72)),"REVISAR datos","Correcto")) | H72: =IF(C72="","",IF(COUNTIFS(Sobres!A16:A27,C72)=1,INDEX(Sobres!B16:B27,MATCH(C72,Sobres!A16:A27,0)),"REVISAR clave")) | I72: =IF(D72="","",IF(COUNTIFS(Sobres!A16:A27,D72)=1,INDEX(Sobres!B16:B27,MATCH(D72,Sobres!A16:A27,0)),"REVISAR clave")) | J72: =IF(COUNTA(A72:F72)>0,ROW(),0) -> 0
G73: =IF(COUNTA(A73:F73)=0,"",IF(OR(NOT(ISNUMBER(A73)),NOT(ISNUMBER(E73)),E73<0,F73="",AND(B73<>"Gasto",B73<>"Aporte",B73<>"Traspaso",B73<>"Devolución"),AND(OR(B73="Gasto",B73="Traspaso"),COUNTIFS(Sobres!A16:A27,C73)<>1),AND(OR(B73="Aporte",B73="Devolución",B73="Traspaso"),COUNTIFS(Sobres!A16:A27,D73)<>1),AND(OR(B73="Aporte",B73="Devolución"),C73<>""),AND(B73="Gasto",D73<>""),AND(B73="Traspaso",C73=D73)),"REVISAR datos","Correcto")) | H73: =IF(C73="","",IF(COUNTIFS(Sobres!A16:A27,C73)=1,INDEX(Sobres!B16:B27,MATCH(C73,Sobres!A16:A27,0)),"REVISAR clave")) | I73: =IF(D73="","",IF(COUNTIFS(Sobres!A16:A27,D73)=1,INDEX(Sobres!B16:B27,MATCH(D73,Sobres!A16:A27,0)),"REVISAR clave")) | J73: =IF(COUNTA(A73:F73)>0,ROW(),0) -> 0
G74: =IF(COUNTA(A74:F74)=0,"",IF(OR(NOT(ISNUMBER(A74)),NOT(ISNUMBER(E74)),E74<0,F74="",AND(B74<>"Gasto",B74<>"Aporte",B74<>"Traspaso",B74<>"Devolución"),AND(OR(B74="Gasto",B74="Traspaso"),COUNTIFS(Sobres!A16:A27,C74)<>1),AND(OR(B74="Aporte",B74="Devolución",B74="Traspaso"),COUNTIFS(Sobres!A16:A27,D74)<>1),AND(OR(B74="Aporte",B74="Devolución"),C74<>""),AND(B74="Gasto",D74<>""),AND(B74="Traspaso",C74=D74)),"REVISAR datos","Correcto")) | H74: =IF(C74="","",IF(COUNTIFS(Sobres!A16:A27,C74)=1,INDEX(Sobres!B16:B27,MATCH(C74,Sobres!A16:A27,0)),"REVISAR clave")) | I74: =IF(D74="","",IF(COUNTIFS(Sobres!A16:A27,D74)=1,INDEX(Sobres!B16:B27,MATCH(D74,Sobres!A16:A27,0)),"REVISAR clave")) | J74: =IF(COUNTA(A74:F74)>0,ROW(),0) -> 0
G75: =IF(COUNTA(A75:F75)=0,"",IF(OR(NOT(ISNUMBER(A75)),NOT(ISNUMBER(E75)),E75<0,F75="",AND(B75<>"Gasto",B75<>"Aporte",B75<>"Traspaso",B75<>"Devolución"),AND(OR(B75="Gasto",B75="Traspaso"),COUNTIFS(Sobres!A16:A27,C75)<>1),AND(OR(B75="Aporte",B75="Devolución",B75="Traspaso"),COUNTIFS(Sobres!A16:A27,D75)<>1),AND(OR(B75="Aporte",B75="Devolución"),C75<>""),AND(B75="Gasto",D75<>""),AND(B75="Traspaso",C75=D75)),"REVISAR datos","Correcto")) | H75: =IF(C75="","",IF(COUNTIFS(Sobres!A16:A27,C75)=1,INDEX(Sobres!B16:B27,MATCH(C75,Sobres!A16:A27,0)),"REVISAR clave")) | I75: =IF(D75="","",IF(COUNTIFS(Sobres!A16:A27,D75)=1,INDEX(Sobres!B16:B27,MATCH(D75,Sobres!A16:A27,0)),"REVISAR clave")) | J75: =IF(COUNTA(A75:F75)>0,ROW(),0) -> 0
G76: =IF(COUNTA(A76:F76)=0,"",IF(OR(NOT(ISNUMBER(A76)),NOT(ISNUMBER(E76)),E76<0,F76="",AND(B76<>"Gasto",B76<>"Aporte",B76<>"Traspaso",B76<>"Devolución"),AND(OR(B76="Gasto",B76="Traspaso"),COUNTIFS(Sobres!A16:A27,C76)<>1),AND(OR(B76="Aporte",B76="Devolución",B76="Traspaso"),COUNTIFS(Sobres!A16:A27,D76)<>1),AND(OR(B76="Aporte",B76="Devolución"),C76<>""),AND(B76="Gasto",D76<>""),AND(B76="Traspaso",C76=D76)),"REVISAR datos","Correcto")) | H76: =IF(C76="","",IF(COUNTIFS(Sobres!A16:A27,C76)=1,INDEX(Sobres!B16:B27,MATCH(C76,Sobres!A16:A27,0)),"REVISAR clave")) | I76: =IF(D76="","",IF(COUNTIFS(Sobres!A16:A27,D76)=1,INDEX(Sobres!B16:B27,MATCH(D76,Sobres!A16:A27,0)),"REVISAR clave")) | J76: =IF(COUNTA(A76:F76)>0,ROW(),0) -> 0
G77: =IF(COUNTA(A77:F77)=0,"",IF(OR(NOT(ISNUMBER(A77)),NOT(ISNUMBER(E77)),E77<0,F77="",AND(B77<>"Gasto",B77<>"Aporte",B77<>"Traspaso",B77<>"Devolución"),AND(OR(B77="Gasto",B77="Traspaso"),COUNTIFS(Sobres!A16:A27,C77)<>1),AND(OR(B77="Aporte",B77="Devolución",B77="Traspaso"),COUNTIFS(Sobres!A16:A27,D77)<>1),AND(OR(B77="Aporte",B77="Devolución"),C77<>""),AND(B77="Gasto",D77<>""),AND(B77="Traspaso",C77=D77)),"REVISAR datos","Correcto")) | H77: =IF(C77="","",IF(COUNTIFS(Sobres!A16:A27,C77)=1,INDEX(Sobres!B16:B27,MATCH(C77,Sobres!A16:A27,0)),"REVISAR clave")) | I77: =IF(D77="","",IF(COUNTIFS(Sobres!A16:A27,D77)=1,INDEX(Sobres!B16:B27,MATCH(D77,Sobres!A16:A27,0)),"REVISAR clave")) | J77: =IF(COUNTA(A77:F77)>0,ROW(),0) -> 0
G78: =IF(COUNTA(A78:F78)=0,"",IF(OR(NOT(ISNUMBER(A78)),NOT(ISNUMBER(E78)),E78<0,F78="",AND(B78<>"Gasto",B78<>"Aporte",B78<>"Traspaso",B78<>"Devolución"),AND(OR(B78="Gasto",B78="Traspaso"),COUNTIFS(Sobres!A16:A27,C78)<>1),AND(OR(B78="Aporte",B78="Devolución",B78="Traspaso"),COUNTIFS(Sobres!A16:A27,D78)<>1),AND(OR(B78="Aporte",B78="Devolución"),C78<>""),AND(B78="Gasto",D78<>""),AND(B78="Traspaso",C78=D78)),"REVISAR datos","Correcto")) | H78: =IF(C78="","",IF(COUNTIFS(Sobres!A16:A27,C78)=1,INDEX(Sobres!B16:B27,MATCH(C78,Sobres!A16:A27,0)),"REVISAR clave")) | I78: =IF(D78="","",IF(COUNTIFS(Sobres!A16:A27,D78)=1,INDEX(Sobres!B16:B27,MATCH(D78,Sobres!A16:A27,0)),"REVISAR clave")) | J78: =IF(COUNTA(A78:F78)>0,ROW(),0) -> 0
G79: =IF(COUNTA(A79:F79)=0,"",IF(OR(NOT(ISNUMBER(A79)),NOT(ISNUMBER(E79)),E79<0,F79="",AND(B79<>"Gasto",B79<>"Aporte",B79<>"Traspaso",B79<>"Devolución"),AND(OR(B79="Gasto",B79="Traspaso"),COUNTIFS(Sobres!A16:A27,C79)<>1),AND(OR(B79="Aporte",B79="Devolución",B79="Traspaso"),COUNTIFS(Sobres!A16:A27,D79)<>1),AND(OR(B79="Aporte",B79="Devolución"),C79<>""),AND(B79="Gasto",D79<>""),AND(B79="Traspaso",C79=D79)),"REVISAR datos","Correcto")) | H79: =IF(C79="","",IF(COUNTIFS(Sobres!A16:A27,C79)=1,INDEX(Sobres!B16:B27,MATCH(C79,Sobres!A16:A27,0)),"REVISAR clave")) | I79: =IF(D79="","",IF(COUNTIFS(Sobres!A16:A27,D79)=1,INDEX(Sobres!B16:B27,MATCH(D79,Sobres!A16:A27,0)),"REVISAR clave")) | J79: =IF(COUNTA(A79:F79)>0,ROW(),0) -> 0
G80: =IF(COUNTA(A80:F80)=0,"",IF(OR(NOT(ISNUMBER(A80)),NOT(ISNUMBER(E80)),E80<0,F80="",AND(B80<>"Gasto",B80<>"Aporte",B80<>"Traspaso",B80<>"Devolución"),AND(OR(B80="Gasto",B80="Traspaso"),COUNTIFS(Sobres!A16:A27,C80)<>1),AND(OR(B80="Aporte",B80="Devolución",B80="Traspaso"),COUNTIFS(Sobres!A16:A27,D80)<>1),AND(OR(B80="Aporte",B80="Devolución"),C80<>""),AND(B80="Gasto",D80<>""),AND(B80="Traspaso",C80=D80)),"REVISAR datos","Correcto")) | H80: =IF(C80="","",IF(COUNTIFS(Sobres!A16:A27,C80)=1,INDEX(Sobres!B16:B27,MATCH(C80,Sobres!A16:A27,0)),"REVISAR clave")) | I80: =IF(D80="","",IF(COUNTIFS(Sobres!A16:A27,D80)=1,INDEX(Sobres!B16:B27,MATCH(D80,Sobres!A16:A27,0)),"REVISAR clave")) | J80: =IF(COUNTA(A80:F80)>0,ROW(),0) -> 0
G81: =IF(COUNTA(A81:F81)=0,"",IF(OR(NOT(ISNUMBER(A81)),NOT(ISNUMBER(E81)),E81<0,F81="",AND(B81<>"Gasto",B81<>"Aporte",B81<>"Traspaso",B81<>"Devolución"),AND(OR(B81="Gasto",B81="Traspaso"),COUNTIFS(Sobres!A16:A27,C81)<>1),AND(OR(B81="Aporte",B81="Devolución",B81="Traspaso"),COUNTIFS(Sobres!A16:A27,D81)<>1),AND(OR(B81="Aporte",B81="Devolución"),C81<>""),AND(B81="Gasto",D81<>""),AND(B81="Traspaso",C81=D81)),"REVISAR datos","Correcto")) | H81: =IF(C81="","",IF(COUNTIFS(Sobres!A16:A27,C81)=1,INDEX(Sobres!B16:B27,MATCH(C81,Sobres!A16:A27,0)),"REVISAR clave")) | I81: =IF(D81="","",IF(COUNTIFS(Sobres!A16:A27,D81)=1,INDEX(Sobres!B16:B27,MATCH(D81,Sobres!A16:A27,0)),"REVISAR clave")) | J81: =IF(COUNTA(A81:F81)>0,ROW(),0) -> 0
G82: =IF(COUNTA(A82:F82)=0,"",IF(OR(NOT(ISNUMBER(A82)),NOT(ISNUMBER(E82)),E82<0,F82="",AND(B82<>"Gasto",B82<>"Aporte",B82<>"Traspaso",B82<>"Devolución"),AND(OR(B82="Gasto",B82="Traspaso"),COUNTIFS(Sobres!A16:A27,C82)<>1),AND(OR(B82="Aporte",B82="Devolución",B82="Traspaso"),COUNTIFS(Sobres!A16:A27,D82)<>1),AND(OR(B82="Aporte",B82="Devolución"),C82<>""),AND(B82="Gasto",D82<>""),AND(B82="Traspaso",C82=D82)),"REVISAR datos","Correcto")) | H82: =IF(C82="","",IF(COUNTIFS(Sobres!A16:A27,C82)=1,INDEX(Sobres!B16:B27,MATCH(C82,Sobres!A16:A27,0)),"REVISAR clave")) | I82: =IF(D82="","",IF(COUNTIFS(Sobres!A16:A27,D82)=1,INDEX(Sobres!B16:B27,MATCH(D82,Sobres!A16:A27,0)),"REVISAR clave")) | J82: =IF(COUNTA(A82:F82)>0,ROW(),0) -> 0
G83: =IF(COUNTA(A83:F83)=0,"",IF(OR(NOT(ISNUMBER(A83)),NOT(ISNUMBER(E83)),E83<0,F83="",AND(B83<>"Gasto",B83<>"Aporte",B83<>"Traspaso",B83<>"Devolución"),AND(OR(B83="Gasto",B83="Traspaso"),COUNTIFS(Sobres!A16:A27,C83)<>1),AND(OR(B83="Aporte",B83="Devolución",B83="Traspaso"),COUNTIFS(Sobres!A16:A27,D83)<>1),AND(OR(B83="Aporte",B83="Devolución"),C83<>""),AND(B83="Gasto",D83<>""),AND(B83="Traspaso",C83=D83)),"REVISAR datos","Correcto")) | H83: =IF(C83="","",IF(COUNTIFS(Sobres!A16:A27,C83)=1,INDEX(Sobres!B16:B27,MATCH(C83,Sobres!A16:A27,0)),"REVISAR clave")) | I83: =IF(D83="","",IF(COUNTIFS(Sobres!A16:A27,D83)=1,INDEX(Sobres!B16:B27,MATCH(D83,Sobres!A16:A27,0)),"REVISAR clave")) | J83: =IF(COUNTA(A83:F83)>0,ROW(),0) -> 0
G84: =IF(COUNTA(A84:F84)=0,"",IF(OR(NOT(ISNUMBER(A84)),NOT(ISNUMBER(E84)),E84<0,F84="",AND(B84<>"Gasto",B84<>"Aporte",B84<>"Traspaso",B84<>"Devolución"),AND(OR(B84="Gasto",B84="Traspaso"),COUNTIFS(Sobres!A16:A27,C84)<>1),AND(OR(B84="Aporte",B84="Devolución",B84="Traspaso"),COUNTIFS(Sobres!A16:A27,D84)<>1),AND(OR(B84="Aporte",B84="Devolución"),C84<>""),AND(B84="Gasto",D84<>""),AND(B84="Traspaso",C84=D84)),"REVISAR datos","Correcto")) | H84: =IF(C84="","",IF(COUNTIFS(Sobres!A16:A27,C84)=1,INDEX(Sobres!B16:B27,MATCH(C84,Sobres!A16:A27,0)),"REVISAR clave")) | I84: =IF(D84="","",IF(COUNTIFS(Sobres!A16:A27,D84)=1,INDEX(Sobres!B16:B27,MATCH(D84,Sobres!A16:A27,0)),"REVISAR clave")) | J84: =IF(COUNTA(A84:F84)>0,ROW(),0) -> 0
G85: =IF(COUNTA(A85:F85)=0,"",IF(OR(NOT(ISNUMBER(A85)),NOT(ISNUMBER(E85)),E85<0,F85="",AND(B85<>"Gasto",B85<>"Aporte",B85<>"Traspaso",B85<>"Devolución"),AND(OR(B85="Gasto",B85="Traspaso"),COUNTIFS(Sobres!A16:A27,C85)<>1),AND(OR(B85="Aporte",B85="Devolución",B85="Traspaso"),COUNTIFS(Sobres!A16:A27,D85)<>1),AND(OR(B85="Aporte",B85="Devolución"),C85<>""),AND(B85="Gasto",D85<>""),AND(B85="Traspaso",C85=D85)),"REVISAR datos","Correcto")) | H85: =IF(C85="","",IF(COUNTIFS(Sobres!A16:A27,C85)=1,INDEX(Sobres!B16:B27,MATCH(C85,Sobres!A16:A27,0)),"REVISAR clave")) | I85: =IF(D85="","",IF(COUNTIFS(Sobres!A16:A27,D85)=1,INDEX(Sobres!B16:B27,MATCH(D85,Sobres!A16:A27,0)),"REVISAR clave")) | J85: =IF(COUNTA(A85:F85)>0,ROW(),0) -> 0
G86: =IF(COUNTA(A86:F86)=0,"",IF(OR(NOT(ISNUMBER(A86)),NOT(ISNUMBER(E86)),E86<0,F86="",AND(B86<>"Gasto",B86<>"Aporte",B86<>"Traspaso",B86<>"Devolución"),AND(OR(B86="Gasto",B86="Traspaso"),COUNTIFS(Sobres!A16:A27,C86)<>1),AND(OR(B86="Aporte",B86="Devolución",B86="Traspaso"),COUNTIFS(Sobres!A16:A27,D86)<>1),AND(OR(B86="Aporte",B86="Devolución"),C86<>""),AND(B86="Gasto",D86<>""),AND(B86="Traspaso",C86=D86)),"REVISAR datos","Correcto")) | H86: =IF(C86="","",IF(COUNTIFS(Sobres!A16:A27,C86)=1,INDEX(Sobres!B16:B27,MATCH(C86,Sobres!A16:A27,0)),"REVISAR clave")) | I86: =IF(D86="","",IF(COUNTIFS(Sobres!A16:A27,D86)=1,INDEX(Sobres!B16:B27,MATCH(D86,Sobres!A16:A27,0)),"REVISAR clave")) | J86: =IF(COUNTA(A86:F86)>0,ROW(),0) -> 0
G87: =IF(COUNTA(A87:F87)=0,"",IF(OR(NOT(ISNUMBER(A87)),NOT(ISNUMBER(E87)),E87<0,F87="",AND(B87<>"Gasto",B87<>"Aporte",B87<>"Traspaso",B87<>"Devolución"),AND(OR(B87="Gasto",B87="Traspaso"),COUNTIFS(Sobres!A16:A27,C87)<>1),AND(OR(B87="Aporte",B87="Devolución",B87="Traspaso"),COUNTIFS(Sobres!A16:A27,D87)<>1),AND(OR(B87="Aporte",B87="Devolución"),C87<>""),AND(B87="Gasto",D87<>""),AND(B87="Traspaso",C87=D87)),"REVISAR datos","Correcto")) | H87: =IF(C87="","",IF(COUNTIFS(Sobres!A16:A27,C87)=1,INDEX(Sobres!B16:B27,MATCH(C87,Sobres!A16:A27,0)),"REVISAR clave")) | I87: =IF(D87="","",IF(COUNTIFS(Sobres!A16:A27,D87)=1,INDEX(Sobres!B16:B27,MATCH(D87,Sobres!A16:A27,0)),"REVISAR clave")) | J87: =IF(COUNTA(A87:F87)>0,ROW(),0) -> 0
G88: =IF(COUNTA(A88:F88)=0,"",IF(OR(NOT(ISNUMBER(A88)),NOT(ISNUMBER(E88)),E88<0,F88="",AND(B88<>"Gasto",B88<>"Aporte",B88<>"Traspaso",B88<>"Devolución"),AND(OR(B88="Gasto",B88="Traspaso"),COUNTIFS(Sobres!A16:A27,C88)<>1),AND(OR(B88="Aporte",B88="Devolución",B88="Traspaso"),COUNTIFS(Sobres!A16:A27,D88)<>1),AND(OR(B88="Aporte",B88="Devolución"),C88<>""),AND(B88="Gasto",D88<>""),AND(B88="Traspaso",C88=D88)),"REVISAR datos","Correcto")) | H88: =IF(C88="","",IF(COUNTIFS(Sobres!A16:A27,C88)=1,INDEX(Sobres!B16:B27,MATCH(C88,Sobres!A16:A27,0)),"REVISAR clave")) | I88: =IF(D88="","",IF(COUNTIFS(Sobres!A16:A27,D88)=1,INDEX(Sobres!B16:B27,MATCH(D88,Sobres!A16:A27,0)),"REVISAR clave")) | J88: =IF(COUNTA(A88:F88)>0,ROW(),0) -> 0
G89: =IF(COUNTA(A89:F89)=0,"",IF(OR(NOT(ISNUMBER(A89)),NOT(ISNUMBER(E89)),E89<0,F89="",AND(B89<>"Gasto",B89<>"Aporte",B89<>"Traspaso",B89<>"Devolución"),AND(OR(B89="Gasto",B89="Traspaso"),COUNTIFS(Sobres!A16:A27,C89)<>1),AND(OR(B89="Aporte",B89="Devolución",B89="Traspaso"),COUNTIFS(Sobres!A16:A27,D89)<>1),AND(OR(B89="Aporte",B89="Devolución"),C89<>""),AND(B89="Gasto",D89<>""),AND(B89="Traspaso",C89=D89)),"REVISAR datos","Correcto")) | H89: =IF(C89="","",IF(COUNTIFS(Sobres!A16:A27,C89)=1,INDEX(Sobres!B16:B27,MATCH(C89,Sobres!A16:A27,0)),"REVISAR clave")) | I89: =IF(D89="","",IF(COUNTIFS(Sobres!A16:A27,D89)=1,INDEX(Sobres!B16:B27,MATCH(D89,Sobres!A16:A27,0)),"REVISAR clave")) | J89: =IF(COUNTA(A89:F89)>0,ROW(),0) -> 0
G90: =IF(COUNTA(A90:F90)=0,"",IF(OR(NOT(ISNUMBER(A90)),NOT(ISNUMBER(E90)),E90<0,F90="",AND(B90<>"Gasto",B90<>"Aporte",B90<>"Traspaso",B90<>"Devolución"),AND(OR(B90="Gasto",B90="Traspaso"),COUNTIFS(Sobres!A16:A27,C90)<>1),AND(OR(B90="Aporte",B90="Devolución",B90="Traspaso"),COUNTIFS(Sobres!A16:A27,D90)<>1),AND(OR(B90="Aporte",B90="Devolución"),C90<>""),AND(B90="Gasto",D90<>""),AND(B90="Traspaso",C90=D90)),"REVISAR datos","Correcto")) | H90: =IF(C90="","",IF(COUNTIFS(Sobres!A16:A27,C90)=1,INDEX(Sobres!B16:B27,MATCH(C90,Sobres!A16:A27,0)),"REVISAR clave")) | I90: =IF(D90="","",IF(COUNTIFS(Sobres!A16:A27,D90)=1,INDEX(Sobres!B16:B27,MATCH(D90,Sobres!A16:A27,0)),"REVISAR clave")) | J90: =IF(COUNTA(A90:F90)>0,ROW(),0) -> 0
G91: =IF(COUNTA(A91:F91)=0,"",IF(OR(NOT(ISNUMBER(A91)),NOT(ISNUMBER(E91)),E91<0,F91="",AND(B91<>"Gasto",B91<>"Aporte",B91<>"Traspaso",B91<>"Devolución"),AND(OR(B91="Gasto",B91="Traspaso"),COUNTIFS(Sobres!A16:A27,C91)<>1),AND(OR(B91="Aporte",B91="Devolución",B91="Traspaso"),COUNTIFS(Sobres!A16:A27,D91)<>1),AND(OR(B91="Aporte",B91="Devolución"),C91<>""),AND(B91="Gasto",D91<>""),AND(B91="Traspaso",C91=D91)),"REVISAR datos","Correcto")) | H91: =IF(C91="","",IF(COUNTIFS(Sobres!A16:A27,C91)=1,INDEX(Sobres!B16:B27,MATCH(C91,Sobres!A16:A27,0)),"REVISAR clave")) | I91: =IF(D91="","",IF(COUNTIFS(Sobres!A16:A27,D91)=1,INDEX(Sobres!B16:B27,MATCH(D91,Sobres!A16:A27,0)),"REVISAR clave")) | J91: =IF(COUNTA(A91:F91)>0,ROW(),0) -> 0
G92: =IF(COUNTA(A92:F92)=0,"",IF(OR(NOT(ISNUMBER(A92)),NOT(ISNUMBER(E92)),E92<0,F92="",AND(B92<>"Gasto",B92<>"Aporte",B92<>"Traspaso",B92<>"Devolución"),AND(OR(B92="Gasto",B92="Traspaso"),COUNTIFS(Sobres!A16:A27,C92)<>1),AND(OR(B92="Aporte",B92="Devolución",B92="Traspaso"),COUNTIFS(Sobres!A16:A27,D92)<>1),AND(OR(B92="Aporte",B92="Devolución"),C92<>""),AND(B92="Gasto",D92<>""),AND(B92="Traspaso",C92=D92)),"REVISAR datos","Correcto")) | H92: =IF(C92="","",IF(COUNTIFS(Sobres!A16:A27,C92)=1,INDEX(Sobres!B16:B27,MATCH(C92,Sobres!A16:A27,0)),"REVISAR clave")) | I92: =IF(D92="","",IF(COUNTIFS(Sobres!A16:A27,D92)=1,INDEX(Sobres!B16:B27,MATCH(D92,Sobres!A16:A27,0)),"REVISAR clave")) | J92: =IF(COUNTA(A92:F92)>0,ROW(),0) -> 0
G93: =IF(COUNTA(A93:F93)=0,"",IF(OR(NOT(ISNUMBER(A93)),NOT(ISNUMBER(E93)),E93<0,F93="",AND(B93<>"Gasto",B93<>"Aporte",B93<>"Traspaso",B93<>"Devolución"),AND(OR(B93="Gasto",B93="Traspaso"),COUNTIFS(Sobres!A16:A27,C93)<>1),AND(OR(B93="Aporte",B93="Devolución",B93="Traspaso"),COUNTIFS(Sobres!A16:A27,D93)<>1),AND(OR(B93="Aporte",B93="Devolución"),C93<>""),AND(B93="Gasto",D93<>""),AND(B93="Traspaso",C93=D93)),"REVISAR datos","Correcto")) | H93: =IF(C93="","",IF(COUNTIFS(Sobres!A16:A27,C93)=1,INDEX(Sobres!B16:B27,MATCH(C93,Sobres!A16:A27,0)),"REVISAR clave")) | I93: =IF(D93="","",IF(COUNTIFS(Sobres!A16:A27,D93)=1,INDEX(Sobres!B16:B27,MATCH(D93,Sobres!A16:A27,0)),"REVISAR clave")) | J93: =IF(COUNTA(A93:F93)>0,ROW(),0) -> 0
G94: =IF(COUNTA(A94:F94)=0,"",IF(OR(NOT(ISNUMBER(A94)),NOT(ISNUMBER(E94)),E94<0,F94="",AND(B94<>"Gasto",B94<>"Aporte",B94<>"Traspaso",B94<>"Devolución"),AND(OR(B94="Gasto",B94="Traspaso"),COUNTIFS(Sobres!A16:A27,C94)<>1),AND(OR(B94="Aporte",B94="Devolución",B94="Traspaso"),COUNTIFS(Sobres!A16:A27,D94)<>1),AND(OR(B94="Aporte",B94="Devolución"),C94<>""),AND(B94="Gasto",D94<>""),AND(B94="Traspaso",C94=D94)),"REVISAR datos","Correcto")) | H94: =IF(C94="","",IF(COUNTIFS(Sobres!A16:A27,C94)=1,INDEX(Sobres!B16:B27,MATCH(C94,Sobres!A16:A27,0)),"REVISAR clave")) | I94: =IF(D94="","",IF(COUNTIFS(Sobres!A16:A27,D94)=1,INDEX(Sobres!B16:B27,MATCH(D94,Sobres!A16:A27,0)),"REVISAR clave")) | J94: =IF(COUNTA(A94:F94)>0,ROW(),0) -> 0
G95: =IF(COUNTA(A95:F95)=0,"",IF(OR(NOT(ISNUMBER(A95)),NOT(ISNUMBER(E95)),E95<0,F95="",AND(B95<>"Gasto",B95<>"Aporte",B95<>"Traspaso",B95<>"Devolución"),AND(OR(B95="Gasto",B95="Traspaso"),COUNTIFS(Sobres!A16:A27,C95)<>1),AND(OR(B95="Aporte",B95="Devolución",B95="Traspaso"),COUNTIFS(Sobres!A16:A27,D95)<>1),AND(OR(B95="Aporte",B95="Devolución"),C95<>""),AND(B95="Gasto",D95<>""),AND(B95="Traspaso",C95=D95)),"REVISAR datos","Correcto")) | H95: =IF(C95="","",IF(COUNTIFS(Sobres!A16:A27,C95)=1,INDEX(Sobres!B16:B27,MATCH(C95,Sobres!A16:A27,0)),"REVISAR clave")) | I95: =IF(D95="","",IF(COUNTIFS(Sobres!A16:A27,D95)=1,INDEX(Sobres!B16:B27,MATCH(D95,Sobres!A16:A27,0)),"REVISAR clave")) | J95: =IF(COUNTA(A95:F95)>0,ROW(),0) -> 0
G96: =IF(COUNTA(A96:F96)=0,"",IF(OR(NOT(ISNUMBER(A96)),NOT(ISNUMBER(E96)),E96<0,F96="",AND(B96<>"Gasto",B96<>"Aporte",B96<>"Traspaso",B96<>"Devolución"),AND(OR(B96="Gasto",B96="Traspaso"),COUNTIFS(Sobres!A16:A27,C96)<>1),AND(OR(B96="Aporte",B96="Devolución",B96="Traspaso"),COUNTIFS(Sobres!A16:A27,D96)<>1),AND(OR(B96="Aporte",B96="Devolución"),C96<>""),AND(B96="Gasto",D96<>""),AND(B96="Traspaso",C96=D96)),"REVISAR datos","Correcto")) | H96: =IF(C96="","",IF(COUNTIFS(Sobres!A16:A27,C96)=1,INDEX(Sobres!B16:B27,MATCH(C96,Sobres!A16:A27,0)),"REVISAR clave")) | I96: =IF(D96="","",IF(COUNTIFS(Sobres!A16:A27,D96)=1,INDEX(Sobres!B16:B27,MATCH(D96,Sobres!A16:A27,0)),"REVISAR clave")) | J96: =IF(COUNTA(A96:F96)>0,ROW(),0) -> 0
G97: =IF(COUNTA(A97:F97)=0,"",IF(OR(NOT(ISNUMBER(A97)),NOT(ISNUMBER(E97)),E97<0,F97="",AND(B97<>"Gasto",B97<>"Aporte",B97<>"Traspaso",B97<>"Devolución"),AND(OR(B97="Gasto",B97="Traspaso"),COUNTIFS(Sobres!A16:A27,C97)<>1),AND(OR(B97="Aporte",B97="Devolución",B97="Traspaso"),COUNTIFS(Sobres!A16:A27,D97)<>1),AND(OR(B97="Aporte",B97="Devolución"),C97<>""),AND(B97="Gasto",D97<>""),AND(B97="Traspaso",C97=D97)),"REVISAR datos","Correcto")) | H97: =IF(C97="","",IF(COUNTIFS(Sobres!A16:A27,C97)=1,INDEX(Sobres!B16:B27,MATCH(C97,Sobres!A16:A27,0)),"REVISAR clave")) | I97: =IF(D97="","",IF(COUNTIFS(Sobres!A16:A27,D97)=1,INDEX(Sobres!B16:B27,MATCH(D97,Sobres!A16:A27,0)),"REVISAR clave")) | J97: =IF(COUNTA(A97:F97)>0,ROW(),0) -> 0
G98: =IF(COUNTA(A98:F98)=0,"",IF(OR(NOT(ISNUMBER(A98)),NOT(ISNUMBER(E98)),E98<0,F98="",AND(B98<>"Gasto",B98<>"Aporte",B98<>"Traspaso",B98<>"Devolución"),AND(OR(B98="Gasto",B98="Traspaso"),COUNTIFS(Sobres!A16:A27,C98)<>1),AND(OR(B98="Aporte",B98="Devolución",B98="Traspaso"),COUNTIFS(Sobres!A16:A27,D98)<>1),AND(OR(B98="Aporte",B98="Devolución"),C98<>""),AND(B98="Gasto",D98<>""),AND(B98="Traspaso",C98=D98)),"REVISAR datos","Correcto")) | H98: =IF(C98="","",IF(COUNTIFS(Sobres!A16:A27,C98)=1,INDEX(Sobres!B16:B27,MATCH(C98,Sobres!A16:A27,0)),"REVISAR clave")) | I98: =IF(D98="","",IF(COUNTIFS(Sobres!A16:A27,D98)=1,INDEX(Sobres!B16:B27,MATCH(D98,Sobres!A16:A27,0)),"REVISAR clave")) | J98: =IF(COUNTA(A98:F98)>0,ROW(),0) -> 0
G99: =IF(COUNTA(A99:F99)=0,"",IF(OR(NOT(ISNUMBER(A99)),NOT(ISNUMBER(E99)),E99<0,F99="",AND(B99<>"Gasto",B99<>"Aporte",B99<>"Traspaso",B99<>"Devolución"),AND(OR(B99="Gasto",B99="Traspaso"),COUNTIFS(Sobres!A16:A27,C99)<>1),AND(OR(B99="Aporte",B99="Devolución",B99="Traspaso"),COUNTIFS(Sobres!A16:A27,D99)<>1),AND(OR(B99="Aporte",B99="Devolución"),C99<>""),AND(B99="Gasto",D99<>""),AND(B99="Traspaso",C99=D99)),"REVISAR datos","Correcto")) | H99: =IF(C99="","",IF(COUNTIFS(Sobres!A16:A27,C99)=1,INDEX(Sobres!B16:B27,MATCH(C99,Sobres!A16:A27,0)),"REVISAR clave")) | I99: =IF(D99="","",IF(COUNTIFS(Sobres!A16:A27,D99)=1,INDEX(Sobres!B16:B27,MATCH(D99,Sobres!A16:A27,0)),"REVISAR clave")) | J99: =IF(COUNTA(A99:F99)>0,ROW(),0) -> 0
G100: =IF(COUNTA(A100:F100)=0,"",IF(OR(NOT(ISNUMBER(A100)),NOT(ISNUMBER(E100)),E100<0,F100="",AND(B100<>"Gasto",B100<>"Aporte",B100<>"Traspaso",B100<>"Devolución"),AND(OR(B100="Gasto",B100="Traspaso"),COUNTIFS(Sobres!A16:A27,C100)<>1),AND(OR(B100="Aporte",B100="Devolución",B100="Traspaso"),COUNTIFS(Sobres!A16:A27,D100)<>1),AND(OR(B100="Aporte",B100="Devolución"),C100<>""),AND(B100="Gasto",D100<>""),AND(B100="Traspaso",C100=D100)),"REVISAR datos","Correcto")) | H100: =IF(C100="","",IF(COUNTIFS(Sobres!A16:A27,C100)=1,INDEX(Sobres!B16:B27,MATCH(C100,Sobres!A16:A27,0)),"REVISAR clave")) | I100: =IF(D100="","",IF(COUNTIFS(Sobres!A16:A27,D100)=1,INDEX(Sobres!B16:B27,MATCH(D100,Sobres!A16:A27,0)),"REVISAR clave")) | J100: =IF(COUNTA(A100:F100)>0,ROW(),0) -> 0
G101: =IF(COUNTA(A101:F101)=0,"",IF(OR(NOT(ISNUMBER(A101)),NOT(ISNUMBER(E101)),E101<0,F101="",AND(B101<>"Gasto",B101<>"Aporte",B101<>"Traspaso",B101<>"Devolución"),AND(OR(B101="Gasto",B101="Traspaso"),COUNTIFS(Sobres!A16:A27,C101)<>1),AND(OR(B101="Aporte",B101="Devolución",B101="Traspaso"),COUNTIFS(Sobres!A16:A27,D101)<>1),AND(OR(B101="Aporte",B101="Devolución"),C101<>""),AND(B101="Gasto",D101<>""),AND(B101="Traspaso",C101=D101)),"REVISAR datos","Correcto")) | H101: =IF(C101="","",IF(COUNTIFS(Sobres!A16:A27,C101)=1,INDEX(Sobres!B16:B27,MATCH(C101,Sobres!A16:A27,0)),"REVISAR clave")) | I101: =IF(D101="","",IF(COUNTIFS(Sobres!A16:A27,D101)=1,INDEX(Sobres!B16:B27,MATCH(D101,Sobres!A16:A27,0)),"REVISAR clave")) | J101: =IF(COUNTA(A101:F101)>0,ROW(),0) -> 0
G102: =IF(COUNTA(A102:F102)=0,"",IF(OR(NOT(ISNUMBER(A102)),NOT(ISNUMBER(E102)),E102<0,F102="",AND(B102<>"Gasto",B102<>"Aporte",B102<>"Traspaso",B102<>"Devolución"),AND(OR(B102="Gasto",B102="Traspaso"),COUNTIFS(Sobres!A16:A27,C102)<>1),AND(OR(B102="Aporte",B102="Devolución",B102="Traspaso"),COUNTIFS(Sobres!A16:A27,D102)<>1),AND(OR(B102="Aporte",B102="Devolución"),C102<>""),AND(B102="Gasto",D102<>""),AND(B102="Traspaso",C102=D102)),"REVISAR datos","Correcto")) | H102: =IF(C102="","",IF(COUNTIFS(Sobres!A16:A27,C102)=1,INDEX(Sobres!B16:B27,MATCH(C102,Sobres!A16:A27,0)),"REVISAR clave")) | I102: =IF(D102="","",IF(COUNTIFS(Sobres!A16:A27,D102)=1,INDEX(Sobres!B16:B27,MATCH(D102,Sobres!A16:A27,0)),"REVISAR clave")) | J102: =IF(COUNTA(A102:F102)>0,ROW(),0) -> 0
G103: =IF(COUNTA(A103:F103)=0,"",IF(OR(NOT(ISNUMBER(A103)),NOT(ISNUMBER(E103)),E103<0,F103="",AND(B103<>"Gasto",B103<>"Aporte",B103<>"Traspaso",B103<>"Devolución"),AND(OR(B103="Gasto",B103="Traspaso"),COUNTIFS(Sobres!A16:A27,C103)<>1),AND(OR(B103="Aporte",B103="Devolución",B103="Traspaso"),COUNTIFS(Sobres!A16:A27,D103)<>1),AND(OR(B103="Aporte",B103="Devolución"),C103<>""),AND(B103="Gasto",D103<>""),AND(B103="Traspaso",C103=D103)),"REVISAR datos","Correcto")) | H103: =IF(C103="","",IF(COUNTIFS(Sobres!A16:A27,C103)=1,INDEX(Sobres!B16:B27,MATCH(C103,Sobres!A16:A27,0)),"REVISAR clave")) | I103: =IF(D103="","",IF(COUNTIFS(Sobres!A16:A27,D103)=1,INDEX(Sobres!B16:B27,MATCH(D103,Sobres!A16:A27,0)),"REVISAR clave")) | J103: =IF(COUNTA(A103:F103)>0,ROW(),0) -> 0
G104: =IF(COUNTA(A104:F104)=0,"",IF(OR(NOT(ISNUMBER(A104)),NOT(ISNUMBER(E104)),E104<0,F104="",AND(B104<>"Gasto",B104<>"Aporte",B104<>"Traspaso",B104<>"Devolución"),AND(OR(B104="Gasto",B104="Traspaso"),COUNTIFS(Sobres!A16:A27,C104)<>1),AND(OR(B104="Aporte",B104="Devolución",B104="Traspaso"),COUNTIFS(Sobres!A16:A27,D104)<>1),AND(OR(B104="Aporte",B104="Devolución"),C104<>""),AND(B104="Gasto",D104<>""),AND(B104="Traspaso",C104=D104)),"REVISAR datos","Correcto")) | H104: =IF(C104="","",IF(COUNTIFS(Sobres!A16:A27,C104)=1,INDEX(Sobres!B16:B27,MATCH(C104,Sobres!A16:A27,0)),"REVISAR clave")) | I104: =IF(D104="","",IF(COUNTIFS(Sobres!A16:A27,D104)=1,INDEX(Sobres!B16:B27,MATCH(D104,Sobres!A16:A27,0)),"REVISAR clave")) | J104: =IF(COUNTA(A104:F104)>0,ROW(),0) -> 0
...

Sheet Ayuda
B2: Cómo usar esta herramienta
B5: Hay doce sobres. Elige su clave estable en los movimientos; al lado aparece el nombre visible que puedes personalizar.
B6: Cambiar Nombre visible no cambia la clave y conserva todos los movimientos y saldos anteriores.
B7: Gasto usa Sale de. Aporte y Devolución usan Entra en. Traspaso usa ambos; introduce importes positivos.
B8: Los doce saldos permiten ejecutar las siete partidas del ejemplo de base cero. Introduce los importes de tu propio plan como iniciales.
B9: Puedes continuar en el mismo libro: conserva el registro y añade nuevas aportaciones. No vuelvas a sumar el saldo anterior como aporte.
B10: Al archivar por capacidad, los valores de Disponible son los iniciales del nuevo archivo vacío; no copies también los movimientos antiguos.
B11: Las celdas con fondo azul son editables. Fórmulas protegidas sin contraseña.
B12: Importes de ejemplo ficticios. Cada archivo vacío conserva solo ajustes y fórmulas.
B13: Pruebas de cálculo en LibreOffice. Excel 365, móvil y Google Sheets pendientes.
B14: PlantillasyPortadas · https://plantillasyportadas.com/ · 16/10/2026
A15: Impresión: en Imprimir elige página 1–25 e imprime la hoja activa. El registro original solo ofrece una vista parcial.

Sheet Imprimir
A2: Registro: página de movimientos
A4: Página (1 a 25) | B4: 1 | D4: Páginas con datos | E4: =MAX(1,ROUNDUP((MAX(14,MAX(Movimientos!$J$8:$J$507))-7)/20,0)) -> 1
A5: Imprime esta hoja. Cambia Página para recorrer el registro: veinte filas por página.
A7: =Movimientos!A7 -> Fecha | B7: =Movimientos!B7 -> Operación | C7: =Movimientos!C7 -> Sale de | D7: =Movimientos!D7 -> Entra en | E7: =Movimientos!E7 -> Importe | F7: =Movimientos!F7 -> Concepto | G7: =Movimientos!G7 -> Control | H7: =Movimientos!H7 -> Nombre de salida | I7: =Movimientos!I7 -> Nombre de entrada
A8: =IF(AND(ISNUMBER($B$4),$B$4>=1,$B$4<=25,MOD($B$4,1)=0),IF(INDEX(Movimientos!J8:J507,($B$4-1)*20+1)=0,"",IF(INDEX(Movimientos!A8:A507,($B$4-1)*20+1)="","",INDEX(Movimientos!A8:A507,($B$4-1)*20+1))),"Revisa página") -> 46311 | B8: =IF(AND(ISNUMBER($B$4),$B$4>=1,$B$4<=25,MOD($B$4,1)=0),IF(INDEX(Movimientos!J8:J507,($B$4-1)*20+1)=0,"",IF(INDEX(Movimientos!B8:B507,($B$4-1)*20+1)="","",INDEX(Movimientos!B8:B507,($B$4-1)*20+1))),"Revisa página") -> Gasto | C8: =IF(AND(ISNUMBER($B$4),$B$4>=1,$B$4<=25,MOD($B$4,1)=0),IF(INDEX(Movimientos!J8:J507,($B$4-1)*20+1)=0,"",IF(INDEX(Movimientos!C8:C507,($B$4-1)*20+1)="","",INDEX(Movimientos!C8:C507,($B$4-1)*20+1))),"Revisa página") -> Alimentación | D8: =IF(AND(ISNUMBER($B$4),$B$4>=1,$B$4<=25,MOD($B$4,1)=0),IF(INDEX(Movimientos!J8:J507,($B$4-1)*20+1)=0,"",IF(INDEX(Movimientos!D8:D507,($B$4-1)*20+1)="","",INDEX(Movimientos!D8:D507,($B$4-1)*20+1))),"Revisa página") | E8: =IF(AND(ISNUMBER($B$4),$B$4>=1,$B$4<=25,MOD($B$4,1)=0),IF(INDEX(Movimientos!J8:J507,($B$4-1)*20+1)=0,"",IF(INDEX(Movimientos!E8:E507,($B$4-1)*20+1)="","",INDEX(Movimientos!E8:E507,($B$4-1)*20+1))),"Revisa página") -> 60 | F8: =IF(AND(ISNUMBER($B$4),$B$4>=1,$B$4<=25,MOD($B$4,1)=0),IF(INDEX(Movimientos!J8:J507,($B$4-1)*20+1)=0,"",IF(INDEX(Movimientos!F8:F507,($B$4-1)*20+1)="","",INDEX(Movimientos!F8:F507,($B$4-1)*20+1))),"Revisa página") -> Compra | G8: =IF(AND(ISNUMBER($B$4),$B$4>=1,$B$4<=25,MOD($B$4,1)=0),IF(INDEX(Movimientos!J8:J507,($B$4-1)*20+1)=0,"",IF(INDEX(Movimientos!G8:G507,($B$4-1)*20+1)="","",INDEX(Movimientos!G8:G507,($B$4-1)*20+1))),"Revisa página") -> Correcto | H8: =IF(AND(ISNUMBER($B$4),$B$4>=1,$B$4<=25,MOD($B$4,1)=0),IF(INDEX(Movimientos!J8:J507,($B$4-1)*20+1)=0,"",IF(INDEX(Movimientos!H8:H507,($B$4-1)*20+1)="","",INDEX(Movimientos!H8:H507,($B$4-1)*20+1))),"Revisa página") -> Alimentación | I8: =IF(AND(ISNUMBER($B$4),$B$4>=1,$B$4<=25,MOD($B$4,1)=0),IF(INDEX(Movimientos!J8:J507,($B$4-1)*20+1)=0,"",IF(INDEX(Movimientos!I8:I507,($B$4-1)*20+1)="","",INDEX(Movimientos!I8:I507,($B$4-1)*20+1))),"Revisa página")
A9: =IF(AND(ISNUMBER($B$4),$B$4>=1,$B$4<=25,MOD($B$4,1)=0),IF(INDEX(Movimientos!J8:J507,($B$4-1)*20+2)=0,"",IF(INDEX(Movimientos!A8:A507,($B$4-1)*20+2)="","",INDEX(Movimientos!A8:A507,($B$4-1)*20+2))),"Revisa página") -> 46312 | B9: =IF(AND(ISNUMBER($B$4),$B$4>=1,$B$4<=25,MOD($B$4,1)=0),IF(INDEX(Movimientos!J8:J507,($B$4-1)*20+2)=0,"",IF(INDEX(Movimientos!B8:B507,($B$4-1)*20+2)="","",INDEX(Movimientos!B8:B507,($B$4-1)*20+2))),"Revisa página") -> Traspaso | C9: =IF(AND(ISNUMBER($B$4),$B$4>=1,$B$4<=25,MOD($B$4,1)=0),IF(INDEX(Movimientos!J8:J507,($B$4-1)*20+2)=0,"",IF(INDEX(Movimientos!C8:C507,($B$4-1)*20+2)="","",INDEX(Movimientos!C8:C507,($B$4-1)*20+2))),"Revisa página") -> Ocio | D9: =IF(AND(ISNUMBER($B$4),$B$4>=1,$B$4<=25,MOD($B$4,1)=0),IF(INDEX(Movimientos!J8:J507,($B$4-1)*20+2)=0,"",IF(INDEX(Movimientos!D8:D507,($B$4-1)*20+2)="","",INDEX(Movimientos!D8:D507,($B$4-1)*20+2))),"Revisa página") -> Alimentación | E9: =IF(AND(ISNUMBER($B$4),$B$4>=1,$B$4<=25,MOD($B$4,1)=0),IF(INDEX(Movimientos!J8:J507,($B$4-1)*20+2)=0,"",IF(INDEX(Movimientos!E8:E507,($B$4-1)*20+2)="","",INDEX(Movimientos!E8:E507,($B$4-1)*20+2))),"Revisa página") -> 20 | F9: =IF(AND(ISNUMBER($B$4),$B$4>=1,$B$4<=25,MOD($B$4,1)=0),IF(INDEX(Movimientos!J8:J507,($B$4-1)*20+2)=0,"",IF(INDEX(Movimientos!F8:F507,($B$4-1)*20+2)="","",INDEX(Movimientos!F8:F507,($B$4-1)*20+2))),"Revisa página") -> Ajuste acordado | G9: =IF(AND(ISNUMBER($B$4),$B$4>=1,$B$4<=25,MOD($B$4,1)=0),IF(INDEX(Movimientos!J8:J507,($B$4-1)*20+2)=0,"",IF(INDEX(Movimientos!G8:G507,($B$4-1)*20+2)="","",INDEX(Movimientos!G8:G507,($B$4-1)*20+2))),"Revisa página") -> Correcto | H9: =IF(AND(ISNUMBER($B$4),$B$4>=1,$B$4<=25,MOD($B$4,1)=0),IF(INDEX(Movimientos!J8:J507,($B$4-1)*20+2)=0,"",IF(INDEX(Movimientos!H8:H507,($B$4-1)*20+2)="","",INDEX(Movimientos!H8:H507,($B$4-1)*20+2))),"Revisa página") -> Ocio | I9: =IF(AND(ISNUMBER($B$4),$B$4>=1,$B$4<=25,MOD($B$4,1)=0),IF(INDEX(Movimientos!J8:J507,($B$4-1)*20+2)=0,"",IF(INDEX(Movimientos!I8:I507,($B$4-1)*20+2)="","",INDEX(Movimientos!I8:I507,($B$4-1)*20+2))),"Revisa página") -> Alimentación
A10: =IF(AND(ISNUMBER($B$4),$B$4>=1,$B$4<=25,MOD($B$4,1)=0),IF(INDEX(Movimientos!J8:J507,($B$4-1)*20+3)=0,"",IF(INDEX(Movimientos!A8:A507,($B$4-1)*20+3)="","",INDEX(Movimientos!A8:A507,($B$4-1)*20+3))),"Revisa página") -> 46313 | B10: =IF(AND(ISNUMBER($B$4),$B$4>=1,$B$4<=25,MOD($B$4,1)=0),IF(INDEX(Movimientos!J8:J507,($B$4-1)*20+3)=0,"",IF(INDEX(Movimientos!B8:B507,($B$4-1)*20+3)="","",INDEX(Movimientos!B8:B507,($B$4-1)*20+3))),"Revisa página") -> Devolución | C10: =IF(AND(ISNUMBER($B$4),$B$4>=1,$B$4<=25,MOD($B$4,1)=0),IF(INDEX(Movimientos!J8:J507,($B$4-1)*20+3)=0,"",IF(INDEX(Movimientos!C8:C507,($B$4-1)*20+3)="","",INDEX(Movimientos!C8:C507,($B$4-1)*20+3))),"Revisa página") | D10: =IF(AND(ISNUMBER($B$4),$B$4>=1,$B$4<=25,MOD($B$4,1)=0),IF(INDEX(Movimientos!J8:J507,($B$4-1)*20+3)=0,"",IF(INDEX(Movimientos!D8:D507,($B$4-1)*20+3)="","",INDEX(Movimientos!D8:D507,($B$4-1)*20+3))),"Revisa página") -> Alimentación | E10: =IF(AND(ISNUMBER($B$4),$B$4>=1,$B$4<=25,MOD($B$4,1)=0),IF(INDEX(Movimientos!J8:J507,($B$4-1)*20+3)=0,"",IF(INDEX(Movimientos!E8:E507,($B$4-1)*20+3)="","",INDEX(Movimientos!E8:E507,($B$4-1)*20+3))),"Revisa página") -> 10 | F10: =IF(AND(ISNUMBER($B$4),$B$4>=1,$B$4<=25,MOD($B$4,1)=0),IF(INDEX(Movimientos!J8:J507,($B$4-1)*20+3)=0,"",IF(INDEX(Movimientos!F8:F507,($B$4-1)*20+3)="","",INDEX(Movimientos!F8:F507,($B$4-1)*20+3))),"Revisa página") -> Devolución compra | G10: =IF(AND(ISNUMBER($B$4),$B$4>=1,$B$4<=25,MOD($B$4,1)=0),IF(INDEX(Movimientos!J8:J507,($B$4-1)*20+3)=0,"",IF(INDEX(Movimientos!G8:G507,($B$4-1)*20+3)="","",INDEX(Movimientos!G8:G507,($B$4-1)*20+3))),"Revisa página") -> Correcto | H10: =IF(AND(ISNUMBER($B$4),$B$4>=1,$B$4<=25,MOD($B$4,1)=0),IF(INDEX(Movimientos!J8:J507,($B$4-1)*20+3)=0,"",IF(INDEX(Movimientos!H8:H507,($B$4-1)*20+3)="","",INDEX(Movimientos!H8:H507,($B$4-1)*20+3))),"Revisa página") | I10: =IF(AND(ISNUMBER($B$4),$B$4>=1,$B$4<=25,MOD($B$4,1)=0),IF(INDEX(Movimientos!J8:J507,($B$4-1)*20+3)=0,"",IF(INDEX(Movimientos!I8:I507,($B$4-1)*20+3)="","",INDEX(Movimientos!I8:I507,($B$4-1)*20+3))),"Revisa página") -> Alimentación
A11: =IF(AND(ISNUMBER($B$4),$B$4>=1,$B$4<=25,MOD($B$4,1)=0),IF(INDEX(Movimientos!J8:J507,($B$4-1)*20+4)=0,"",IF(INDEX(Movimientos!A8:A507,($B$4-1)*20+4)="","",INDEX(Movimientos!A8:A507,($B$4-1)*20+4))),"Revisa página") | B11: =IF(AND(ISNUMBER($B$4),$B$4>=1,$B$4<=25,MOD($B$4,1)=0),IF(INDEX(Movimientos!J8:J507,($B$4-1)*20+4)=0,"",IF(INDEX(Movimientos!B8:B507,($B$4-1)*20+4)="","",INDEX(Movimientos!B8:B507,($B$4-1)*20+4))),"Revisa página") | C11: =IF(AND(ISNUMBER($B$4),$B$4>=1,$B$4<=25,MOD($B$4,1)=0),IF(INDEX(Movimientos!J8:J507,($B$4-1)*20+4)=0,"",IF(INDEX(Movimientos!C8:C507,($B$4-1)*20+4)="","",INDEX(Movimientos!C8:C507,($B$4-1)*20+4))),"Revisa página") | D11: =IF(AND(ISNUMBER($B$4),$B$4>=1,$B$4<=25,MOD($B$4,1)=0),IF(INDEX(Movimientos!J8:J507,($B$4-1)*20+4)=0,"",IF(INDEX(Movimientos!D8:D507,($B$4-1)*20+4)="","",INDEX(Movimientos!D8:D507,($B$4-1)*20+4))),"Revisa página") | E11: =IF(AND(ISNUMBER($B$4),$B$4>=1,$B$4<=25,MOD($B$4,1)=0),IF(INDEX(Movimientos!J8:J507,($B$4-1)*20+4)=0,"",IF(INDEX(Movimientos!E8:E507,($B$4-1)*20+4)="","",INDEX(Movimientos!E8:E507,($B$4-1)*20+4))),"Revisa página") | F11: =IF(AND(ISNUMBER($B$4),$B$4>=1,$B$4<=25,MOD($B$4,1)=0),IF(INDEX(Movimientos!J8:J507,($B$4-1)*20+4)=0,"",IF(INDEX(Movimientos!F8:F507,($B$4-1)*20+4)="","",INDEX(Movimientos!F8:F507,($B$4-1)*20+4))),"Revisa página") | G11: =IF(AND(ISNUMBER($B$4),$B$4>=1,$B$4<=25,MOD($B$4,1)=0),IF(INDEX(Movimientos!J8:J507,($B$4-1)*20+4)=0,"",IF(INDEX(Movimientos!G8:G507,($B$4-1)*20+4)="","",INDEX(Movimientos!G8:G507,($B$4-1)*20+4))),"Revisa página") | H11: =IF(AND(ISNUMBER($B$4),$B$4>=1,$B$4<=25,MOD($B$4,1)=0),IF(INDEX(Movimientos!J8:J507,($B$4-1)*20+4)=0,"",IF(INDEX(Movimientos!H8:H507,($B$4-1)*20+4)="","",INDEX(Movimientos!H8:H507,($B$4-1)*20+4))),"Revisa página") | I11: =IF(AND(ISNUMBER($B$4),$B$4>=1,$B$4<=25,MOD($B$4,1)=0),IF(INDEX(Movimientos!J8:J507,($B$4-1)*20+4)=0,"",IF(INDEX(Movimientos!I8:I507,($B$4-1)*20+4)="","",INDEX(Movimientos!I8:I507,($B$4-1)*20+4))),"Revisa página")
A12: =IF(AND(ISNUMBER($B$4),$B$4>=1,$B$4<=25,MOD($B$4,1)=0),IF(INDEX(Movimientos!J8:J507,($B$4-1)*20+5)=0,"",IF(INDEX(Movimientos!A8:A507,($B$4-1)*20+5)="","",INDEX(Movimientos!A8:A507,($B$4-1)*20+5))),"Revisa página") | B12: =IF(AND(ISNUMBER($B$4),$B$4>=1,$B$4<=25,MOD($B$4,1)=0),IF(INDEX(Movimientos!J8:J507,($B$4-1)*20+5)=0,"",IF(INDEX(Movimientos!B8:B507,($B$4-1)*20+5)="","",INDEX(Movimientos!B8:B507,($B$4-1)*20+5))),"Revisa página") | C12: =IF(AND(ISNUMBER($B$4),$B$4>=1,$B$4<=25,MOD($B$4,1)=0),IF(INDEX(Movimientos!J8:J507,($B$4-1)*20+5)=0,"",IF(INDEX(Movimientos!C8:C507,($B$4-1)*20+5)="","",INDEX(Movimientos!C8:C507,($B$4-1)*20+5))),"Revisa página") | D12: =IF(AND(ISNUMBER($B$4),$B$4>=1,$B$4<=25,MOD($B$4,1)=0),IF(INDEX(Movimientos!J8:J507,($B$4-1)*20+5)=0,"",IF(INDEX(Movimientos!D8:D507,($B$4-1)*20+5)="","",INDEX(Movimientos!D8:D507,($B$4-1)*20+5))),"Revisa página") | E12: =IF(AND(ISNUMBER($B$4),$B$4>=1,$B$4<=25,MOD($B$4,1)=0),IF(INDEX(Movimientos!J8:J507,($B$4-1)*20+5)=0,"",IF(INDEX(Movimientos!E8:E507,($B$4-1)*20+5)="","",INDEX(Movimientos!E8:E507,($B$4-1)*20+5))),"Revisa página") | F12: =IF(AND(ISNUMBER($B$4),$B$4>=1,$B$4<=25,MOD($B$4,1)=0),IF(INDEX(Movimientos!J8:J507,($B$4-1)*20+5)=0,"",IF(INDEX(Movimientos!F8:F507,($B$4-1)*20+5)="","",INDEX(Movimientos!F8:F507,($B$4-1)*20+5))),"Revisa página") | G12: =IF(AND(ISNUMBER($B$4),$B$4>=1,$B$4<=25,MOD($B$4,1)=0),IF(INDEX(Movimientos!J8:J507,($B$4-1)*20+5)=0,"",IF(INDEX(Movimientos!G8:G507,($B$4-1)*20+5)="","",INDEX(Movimientos!G8:G507,($B$4-1)*20+5))),"Revisa página") | H12: =IF(AND(ISNUMBER($B$4),$B$4>=1,$B$4<=25,MOD($B$4,1)=0),IF(INDEX(Movimientos!J8:J507,($B$4-1)*20+5)=0,"",IF(INDEX(Movimientos!H8:H507,($B$4-1)*20+5)="","",INDEX(Movimientos!H8:H507,($B$4-1)*20+5))),"Revisa página") | I12: =IF(AND(ISNUMBER($B$4),$B$4>=1,$B$4<=25,MOD($B$4,1)=0),IF(INDEX(Movimientos!J8:J507,($B$4-1)*20+5)=0,"",IF(INDEX(Movimientos!I8:I507,($B$4-1)*20+5)="","",INDEX(Movimientos!I8:I507,($B$4-1)*20+5))),"Revisa página")
A13: =IF(AND(ISNUMBER($B$4),$B$4>=1,$B$4<=25,MOD($B$4,1)=0),IF(INDEX(Movimientos!J8:J507,($B$4-1)*20+6)=0,"",IF(INDEX(Movimientos!A8:A507,($B$4-1)*20+6)="","",INDEX(Movimientos!A8:A507,($B$4-1)*20+6))),"Revisa página") | B13: =IF(AND(ISNUMBER($B$4),$B$4>=1,$B$4<=25,MOD($B$4,1)=0),IF(INDEX(Movimientos!J8:J507,($B$4-1)*20+6)=0,"",IF(INDEX(Movimientos!B8:B507,($B$4-1)*20+6)="","",INDEX(Movimientos!B8:B507,($B$4-1)*20+6))),"Revisa página") | C13: =IF(AND(ISNUMBER($B$4),$B$4>=1,$B$4<=25,MOD($B$4,1)=0),IF(INDEX(Movimientos!J8:J507,($B$4-1)*20+6)=0,"",IF(INDEX(Movimientos!C8:C507,($B$4-1)*20+6)="","",INDEX(Movimientos!C8:C507,($B$4-1)*20+6))),"Revisa página") | D13: =IF(AND(ISNUMBER($B$4),$B$4>=1,$B$4<=25,MOD($B$4,1)=0),IF(INDEX(Movimientos!J8:J507,($B$4-1)*20+6)=0,"",IF(INDEX(Movimientos!D8:D507,($B$4-1)*20+6)="","",INDEX(Movimientos!D8:D507,($B$4-1)*20+6))),"Revisa página") | E13: =IF(AND(ISNUMBER($B$4),$B$4>=1,$B$4<=25,MOD($B$4,1)=0),IF(INDEX(Movimientos!J8:J507,($B$4-1)*20+6)=0,"",IF(INDEX(Movimientos!E8:E507,($B$4-1)*20+6)="","",INDEX(Movimientos!E8:E507,($B$4-1)*20+6))),"Revisa página") | F13: =IF(AND(ISNUMBER($B$4),$B$4>=1,$B$4<=25,MOD($B$4,1)=0),IF(INDEX(Movimientos!J8:J507,($B$4-1)*20+6)=0,"",IF(INDEX(Movimientos!F8:F507,($B$4-1)*20+6)="","",INDEX(Movimientos!F8:F507,($B$4-1)*20+6))),"Revisa página") | G13: =IF(AND(ISNUMBER($B$4),$B$4>=1,$B$4<=25,MOD($B$4,1)=0),IF(INDEX(Movimientos!J8:J507,($B$4-1)*20+6)=0,"",IF(INDEX(Movimientos!G8:G507,($B$4-1)*20+6)="","",INDEX(Movimientos!G8:G507,($B$4-1)*20+6))),"Revisa página") | H13: =IF(AND(ISNUMBER($B$4),$B$4>=1,$B$4<=25,MOD($B$4,1)=0),IF(INDEX(Movimientos!J8:J507,($B$4-1)*20+6)=0,"",IF(INDEX(Movimientos!H8:H507,($B$4-1)*20+6)="","",INDEX(Movimientos!H8:H507,($B$4-1)*20+6))),"Revisa página") | I13: =IF(AND(ISNUMBER($B$4),$B$4>=1,$B$4<=25,MOD($B$4,1)=0),IF(INDEX(Movimientos!J8:J507,($B$4-1)*20+6)=0,"",IF(INDEX(Movimientos!I8:I507,($B$4-1)*20+6)="","",INDEX(Movimientos!I8:I507,($B$4-1)*20+6))),"Revisa página")
A14: =IF(AND(ISNUMBER($B$4),$B$4>=1,$B$4<=25,MOD($B$4,1)=0),IF(INDEX(Movimientos!J8:J507,($B$4-1)*20+7)=0,"",IF(INDEX(Movimientos!A8:A507,($B$4-1)*20+7)="","",INDEX(Movimientos!A8:A507,($B$4-1)*20+7))),"Revisa página") | B14: =IF(AND(ISNUMBER($B$4),$B$4>=1,$B$4<=25,MOD($B$4,1)=0),IF(INDEX(Movimientos!J8:J507,($B$4-1)*20+7)=0,"",IF(INDEX(Movimientos!B8:B507,($B$4-1)*20+7)="","",INDEX(Movimientos!B8:B507,($B$4-1)*20+7))),"Revisa página") | C14: =IF(AND(ISNUMBER($B$4),$B$4>=1,$B$4<=25,MOD($B$4,1)=0),IF(INDEX(Movimientos!J8:J507,($B$4-1)*20+7)=0,"",IF(INDEX(Movimientos!C8:C507,($B$4-1)*20+7)="","",INDEX(Movimientos!C8:C507,($B$4-1)*20+7))),"Revisa página") | D14: =IF(AND(ISNUMBER($B$4),$B$4>=1,$B$4<=25,MOD($B$4,1)=0),IF(INDEX(Movimientos!J8:J507,($B$4-1)*20+7)=0,"",IF(INDEX(Movimientos!D8:D507,($B$4-1)*20+7)="","",INDEX(Movimientos!D8:D507,($B$4-1)*20+7))),"Revisa página") | E14: =IF(AND(ISNUMBER($B$4),$B$4>=1,$B$4<=25,MOD($B$4,1)=0),IF(INDEX(Movimientos!J8:J507,($B$4-1)*20+7)=0,"",IF(INDEX(Movimientos!E8:E507,($B$4-1)*20+7)="","",INDEX(Movimientos!E8:E507,($B$4-1)*20+7))),"Revisa página") | F14: =IF(AND(ISNUMBER($B$4),$B$4>=1,$B$4<=25,MOD($B$4,1)=0),IF(INDEX(Movimientos!J8:J507,($B$4-1)*20+7)=0,"",IF(INDEX(Movimientos!F8:F507,($B$4-1)*20+7)="","",INDEX(Movimientos!F8:F507,($B$4-1)*20+7))),"Revisa página") | G14: =IF(AND(ISNUMBER($B$4),$B$4>=1,$B$4<=25,MOD($B$4,1)=0),IF(INDEX(Movimientos!J8:J507,($B$4-1)*20+7)=0,"",IF(INDEX(Movimientos!G8:G507,($B$4-1)*20+7)="","",INDEX(Movimientos!G8:G507,($B$4-1)*20+7))),"Revisa página") | H14: =IF(AND(ISNUMBER($B$4),$B$4>=1,$B$4<=25,MOD($B$4,1)=0),IF(INDEX(Movimientos!J8:J507,($B$4-1)*20+7)=0,"",IF(INDEX(Movimientos!H8:H507,($B$4-1)*20+7)="","",INDEX(Movimientos!H8:H507,($B$4-1)*20+7))),"Revisa página") | I14: =IF(AND(ISNUMBER($B$4),$B$4>=1,$B$4<=25,MOD($B$4,1)=0),IF(INDEX(Movimientos!J8:J507,($B$4-1)*20+7)=0,"",IF(INDEX(Movimientos!I8:I507,($B$4-1)*20+7)="","",INDEX(Movimientos!I8:I507,($B$4-1)*20+7))),"Revisa página")
A15: =IF(AND(ISNUMBER($B$4),$B$4>=1,$B$4<=25,MOD($B$4,1)=0),IF(INDEX(Movimientos!J8:J507,($B$4-1)*20+8)=0,"",IF(INDEX(Movimientos!A8:A507,($B$4-1)*20+8)="","",INDEX(Movimientos!A8:A507,($B$4-1)*20+8))),"Revisa página") | B15: =IF(AND(ISNUMBER($B$4),$B$4>=1,$B$4<=25,MOD($B$4,1)=0),IF(INDEX(Movimientos!J8:J507,($B$4-1)*20+8)=0,"",IF(INDEX(Movimientos!B8:B507,($B$4-1)*20+8)="","",INDEX(Movimientos!B8:B507,($B$4-1)*20+8))),"Revisa página") | C15: =IF(AND(ISNUMBER($B$4),$B$4>=1,$B$4<=25,MOD($B$4,1)=0),IF(INDEX(Movimientos!J8:J507,($B$4-1)*20+8)=0,"",IF(INDEX(Movimientos!C8:C507,($B$4-1)*20+8)="","",INDEX(Movimientos!C8:C507,($B$4-1)*20+8))),"Revisa página") | D15: =IF(AND(ISNUMBER($B$4),$B$4>=1,$B$4<=25,MOD($B$4,1)=0),IF(INDEX(Movimientos!J8:J507,($B$4-1)*20+8)=0,"",IF(INDEX(Movimientos!D8:D507,($B$4-1)*20+8)="","",INDEX(Movimientos!D8:D507,($B$4-1)*20+8))),"Revisa página") | E15: =IF(AND(ISNUMBER($B$4),$B$4>=1,$B$4<=25,MOD($B$4,1)=0),IF(INDEX(Movimientos!J8:J507,($B$4-1)*20+8)=0,"",IF(INDEX(Movimientos!E8:E507,($B$4-1)*20+8)="","",INDEX(Movimientos!E8:E507,($B$4-1)*20+8))),"Revisa página") | F15: =IF(AND(ISNUMBER($B$4),$B$4>=1,$B$4<=25,MOD($B$4,1)=0),IF(INDEX(Movimientos!J8:J507,($B$4-1)*20+8)=0,"",IF(INDEX(Movimientos!F8:F507,($B$4-1)*20+8)="","",INDEX(Movimientos!F8:F507,($B$4-1)*20+8))),"Revisa página") | G15: =IF(AND(ISNUMBER($B$4),$B$4>=1,$B$4<=25,MOD($B$4,1)=0),IF(INDEX(Movimientos!J8:J507,($B$4-1)*20+8)=0,"",IF(INDEX(Movimientos!G8:G507,($B$4-1)*20+8)="","",INDEX(Movimientos!G8:G507,($B$4-1)*20+8))),"Revisa página") | H15: =IF(AND(ISNUMBER($B$4),$B$4>=1,$B$4<=25,MOD($B$4,1)=0),IF(INDEX(Movimientos!J8:J507,($B$4-1)*20+8)=0,"",IF(INDEX(Movimientos!H8:H507,($B$4-1)*20+8)="","",INDEX(Movimientos!H8:H507,($B$4-1)*20+8))),"Revisa página") | I15: =IF(AND(ISNUMBER($B$4),$B$4>=1,$B$4<=25,MOD($B$4,1)=0),IF(INDEX(Movimientos!J8:J507,($B$4-1)*20+8)=0,"",IF(INDEX(Movimientos!I8:I507,($B$4-1)*20+8)="","",INDEX(Movimientos!I8:I507,($B$4-1)*20+8))),"Revisa página")
A16: =IF(AND(ISNUMBER($B$4),$B$4>=1,$B$4<=25,MOD($B$4,1)=0),IF(INDEX(Movimientos!J8:J507,($B$4-1)*20+9)=0,"",IF(INDEX(Movimientos!A8:A507,($B$4-1)*20+9)="","",INDEX(Movimientos!A8:A507,($B$4-1)*20+9))),"Revisa página") | B16: =IF(AND(ISNUMBER($B$4),$B$4>=1,$B$4<=25,MOD($B$4,1)=0),IF(INDEX(Movimientos!J8:J507,($B$4-1)*20+9)=0,"",IF(INDEX(Movimientos!B8:B507,($B$4-1)*20+9)="","",INDEX(Movimientos!B8:B507,($B$4-1)*20+9))),"Revisa página") | C16: =IF(AND(ISNUMBER($B$4),$B$4>=1,$B$4<=25,MOD($B$4,1)=0),IF(INDEX(Movimientos!J8:J507,($B$4-1)*20+9)=0,"",IF(INDEX(Movimientos!C8:C507,($B$4-1)*20+9)="","",INDEX(Movimientos!C8:C507,($B$4-1)*20+9))),"Revisa página") | D16: =IF(AND(ISNUMBER($B$4),$B$4>=1,$B$4<=25,MOD($B$4,1)=0),IF(INDEX(Movimientos!J8:J507,($B$4-1)*20+9)=0,"",IF(INDEX(Movimientos!D8:D507,($B$4-1)*20+9)="","",INDEX(Movimientos!D8:D507,($B$4-1)*20+9))),"Revisa página") | E16: =IF(AND(ISNUMBER($B$4),$B$4>=1,$B$4<=25,MOD($B$4,1)=0),IF(INDEX(Movimientos!J8:J507,($B$4-1)*20+9)=0,"",IF(INDEX(Movimientos!E8:E507,($B$4-1)*20+9)="","",INDEX(Movimientos!E8:E507,($B$4-1)*20+9))),"Revisa página") | F16: =IF(AND(ISNUMBER($B$4),$B$4>=1,$B$4<=25,MOD($B$4,1)=0),IF(INDEX(Movimientos!J8:J507,($B$4-1)*20+9)=0,"",IF(INDEX(Movimientos!F8:F507,($B$4-1)*20+9)="","",INDEX(Movimientos!F8:F507,($B$4-1)*20+9))),"Revisa página") | G16: =IF(AND(ISNUMBER($B$4),$B$4>=1,$B$4<=25,MOD($B$4,1)=0),IF(INDEX(Movimientos!J8:J507,($B$4-1)*20+9)=0,"",IF(INDEX(Movimientos!G8:G507,($B$4-1)*20+9)="","",INDEX(Movimientos!G8:G507,($B$4-1)*20+9))),"Revisa página") | H16: =IF(AND(ISNUMBER($B$4),$B$4>=1,$B$4<=25,MOD($B$4,1)=0),IF(INDEX(Movimientos!J8:J507,($B$4-1)*20+9)=0,"",IF(INDEX(Movimientos!H8:H507,($B$4-1)*20+9)="","",INDEX(Movimientos!H8:H507,($B$4-1)*20+9))),"Revisa página") | I16: =IF(AND(ISNUMBER($B$4),$B$4>=1,$B$4<=25,MOD($B$4,1)=0),IF(INDEX(Movimientos!J8:J507,($B$4-1)*20+9)=0,"",IF(INDEX(Movimientos!I8:I507,($B$4-1)*20+9)="","",INDEX(Movimientos!I8:I507,($B$4-1)*20+9))),"Revisa página")
A17: =IF(AND(ISNUMBER($B$4),$B$4>=1,$B$4<=25,MOD($B$4,1)=0),IF(INDEX(Movimientos!J8:J507,($B$4-1)*20+10)=0,"",IF(INDEX(Movimientos!A8:A507,($B$4-1)*20+10)="","",INDEX(Movimientos!A8:A507,($B$4-1)*20+10))),"Revisa página") | B17: =IF(AND(ISNUMBER($B$4),$B$4>=1,$B$4<=25,MOD($B$4,1)=0),IF(INDEX(Movimientos!J8:J507,($B$4-1)*20+10)=0,"",IF(INDEX(Movimientos!B8:B507,($B$4-1)*20+10)="","",INDEX(Movimientos!B8:B507,($B$4-1)*20+10))),"Revisa página") | C17: =IF(AND(ISNUMBER($B$4),$B$4>=1,$B$4<=25,MOD($B$4,1)=0),IF(INDEX(Movimientos!J8:J507,($B$4-1)*20+10)=0,"",IF(INDEX(Movimientos!C8:C507,($B$4-1)*20+10)="","",INDEX(Movimientos!C8:C507,($B$4-1)*20+10))),"Revisa página") | D17: =IF(AND(ISNUMBER($B$4),$B$4>=1,$B$4<=25,MOD($B$4,1)=0),IF(INDEX(Movimientos!J8:J507,($B$4-1)*20+10)=0,"",IF(INDEX(Movimientos!D8:D507,($B$4-1)*20+10)="","",INDEX(Movimientos!D8:D507,($B$4-1)*20+10))),"Revisa página") | E17: =IF(AND(ISNUMBER($B$4),$B$4>=1,$B$4<=25,MOD($B$4,1)=0),IF(INDEX(Movimientos!J8:J507,($B$4-1)*20+10)=0,"",IF(INDEX(Movimientos!E8:E507,($B$4-1)*20+10)="","",INDEX(Movimientos!E8:E507,($B$4-1)*20+10))),"Revisa página") | F17: =IF(AND(ISNUMBER($B$4),$B$4>=1,$B$4<=25,MOD($B$4,1)=0),IF(INDEX(Movimientos!J8:J507,($B$4-1)*20+10)=0,"",IF(INDEX(Movimientos!F8:F507,($B$4-1)*20+10)="","",INDEX(Movimientos!F8:F507,($B$4-1)*20+10))),"Revisa página") | G17: =IF(AND(ISNUMBER($B$4),$B$4>=1,$B$4<=25,MOD($B$4,1)=0),IF(INDEX(Movimientos!J8:J507,($B$4-1)*20+10)=0,"",IF(INDEX(Movimientos!G8:G507,($B$4-1)*20+10)="","",INDEX(Movimientos!G8:G507,($B$4-1)*20+10))),"Revisa página") | H17: =IF(AND(ISNUMBER($B$4),$B$4>=1,$B$4<=25,MOD($B$4,1)=0),IF(INDEX(Movimientos!J8:J507,($B$4-1)*20+10)=0,"",IF(INDEX(Movimientos!H8:H507,($B$4-1)*20+10)="","",INDEX(Movimientos!H8:H507,($B$4-1)*20+10))),"Revisa página") | I17: =IF(AND(ISNUMBER($B$4),$B$4>=1,$B$4<=25,MOD($B$4,1)=0),IF(INDEX(Movimientos!J8:J507,($B$4-1)*20+10)=0,"",IF(INDEX(Movimientos!I8:I507,($B$4-1)*20+10)="","",INDEX(Movimientos!I8:I507,($B$4-1)*20+10))),"Revisa página")
A18: =IF(AND(ISNUMBER($B$4),$B$4>=1,$B$4<=25,MOD($B$4,1)=0),IF(INDEX(Movimientos!J8:J507,($B$4-1)*20+11)=0,"",IF(INDEX(Movimientos!A8:A507,($B$4-1)*20+11)="","",INDEX(Movimientos!A8:A507,($B$4-1)*20+11))),"Revisa página") | B18: =IF(AND(ISNUMBER($B$4),$B$4>=1,$B$4<=25,MOD($B$4,1)=0),IF(INDEX(Movimientos!J8:J507,($B$4-1)*20+11)=0,"",IF(INDEX(Movimientos!B8:B507,($B$4-1)*20+11)="","",INDEX(Movimientos!B8:B507,($B$4-1)*20+11))),"Revisa página") | C18: =IF(AND(ISNUMBER($B$4),$B$4>=1,$B$4<=25,MOD($B$4,1)=0),IF(INDEX(Movimientos!J8:J507,($B$4-1)*20+11)=0,"",IF(INDEX(Movimientos!C8:C507,($B$4-1)*20+11)="","",INDEX(Movimientos!C8:C507,($B$4-1)*20+11))),"Revisa página") | D18: =IF(AND(ISNUMBER($B$4),$B$4>=1,$B$4<=25,MOD($B$4,1)=0),IF(INDEX(Movimientos!J8:J507,($B$4-1)*20+11)=0,"",IF(INDEX(Movimientos!D8:D507,($B$4-1)*20+11)="","",INDEX(Movimientos!D8:D507,($B$4-1)*20+11))),"Revisa página") | E18: =IF(AND(ISNUMBER($B$4),$B$4>=1,$B$4<=25,MOD($B$4,1)=0),IF(INDEX(Movimientos!J8:J507,($B$4-1)*20+11)=0,"",IF(INDEX(Movimientos!E8:E507,($B$4-1)*20+11)="","",INDEX(Movimientos!E8:E507,($B$4-1)*20+11))),"Revisa página") | F18: =IF(AND(ISNUMBER($B$4),$B$4>=1,$B$4<=25,MOD($B$4,1)=0),IF(INDEX(Movimientos!J8:J507,($B$4-1)*20+11)=0,"",IF(INDEX(Movimientos!F8:F507,($B$4-1)*20+11)="","",INDEX(Movimientos!F8:F507,($B$4-1)*20+11))),"Revisa página") | G18: =IF(AND(ISNUMBER($B$4),$B$4>=1,$B$4<=25,MOD($B$4,1)=0),IF(INDEX(Movimientos!J8:J507,($B$4-1)*20+11)=0,"",IF(INDEX(Movimientos!G8:G507,($B$4-1)*20+11)="","",INDEX(Movimientos!G8:G507,($B$4-1)*20+11))),"Revisa página") | H18: =IF(AND(ISNUMBER($B$4),$B$4>=1,$B$4<=25,MOD($B$4,1)=0),IF(INDEX(Movimientos!J8:J507,($B$4-1)*20+11)=0,"",IF(INDEX(Movimientos!H8:H507,($B$4-1)*20+11)="","",INDEX(Movimientos!H8:H507,($B$4-1)*20+11))),"Revisa página") | I18: =IF(AND(ISNUMBER($B$4),$B$4>=1,$B$4<=25,MOD($B$4,1)=0),IF(INDEX(Movimientos!J8:J507,($B$4-1)*20+11)=0,"",IF(INDEX(Movimientos!I8:I507,($B$4-1)*20+11)="","",INDEX(Movimientos!I8:I507,($B$4-1)*20+11))),"Revisa página")
A19: =IF(AND(ISNUMBER($B$4),$B$4>=1,$B$4<=25,MOD($B$4,1)=0),IF(INDEX(Movimientos!J8:J507,($B$4-1)*20+12)=0,"",IF(INDEX(Movimientos!A8:A507,($B$4-1)*20+12)="","",INDEX(Movimientos!A8:A507,($B$4-1)*20+12))),"Revisa página") | B19: =IF(AND(ISNUMBER($B$4),$B$4>=1,$B$4<=25,MOD($B$4,1)=0),IF(INDEX(Movimientos!J8:J507,($B$4-1)*20+12)=0,"",IF(INDEX(Movimientos!B8:B507,($B$4-1)*20+12)="","",INDEX(Movimientos!B8:B507,($B$4-1)*20+12))),"Revisa página") | C19: =IF(AND(ISNUMBER($B$4),$B$4>=1,$B$4<=25,MOD($B$4,1)=0),IF(INDEX(Movimientos!J8:J507,($B$4-1)*20+12)=0,"",IF(INDEX(Movimientos!C8:C507,($B$4-1)*20+12)="","",INDEX(Movimientos!C8:C507,($B$4-1)*20+12))),"Revisa página") | D19: =IF(AND(ISNUMBER($B$4),$B$4>=1,$B$4<=25,MOD($B$4,1)=0),IF(INDEX(Movimientos!J8:J507,($B$4-1)*20+12)=0,"",IF(INDEX(Movimientos!D8:D507,($B$4-1)*20+12)="","",INDEX(Movimientos!D8:D507,($B$4-1)*20+12))),"Revisa página") | E19: =IF(AND(ISNUMBER($B$4),$B$4>=1,$B$4<=25,MOD($B$4,1)=0),IF(INDEX(Movimientos!J8:J507,($B$4-1)*20+12)=0,"",IF(INDEX(Movimientos!E8:E507,($B$4-1)*20+12)="","",INDEX(Movimientos!E8:E507,($B$4-1)*20+12))),"Revisa página") | F19: =IF(AND(ISNUMBER($B$4),$B$4>=1,$B$4<=25,MOD($B$4,1)=0),IF(INDEX(Movimientos!J8:J507,($B$4-1)*20+12)=0,"",IF(INDEX(Movimientos!F8:F507,($B$4-1)*20+12)="","",INDEX(Movimientos!F8:F507,($B$4-1)*20+12))),"Revisa página") | G19: =IF(AND(ISNUMBER($B$4),$B$4>=1,$B$4<=25,MOD($B$4,1)=0),IF(INDEX(Movimientos!J8:J507,($B$4-1)*20+12)=0,"",IF(INDEX(Movimientos!G8:G507,($B$4-1)*20+12)="","",INDEX(Movimientos!G8:G507,($B$4-1)*20+12))),"Revisa página") | H19: =IF(AND(ISNUMBER($B$4),$B$4>=1,$B$4<=25,MOD($B$4,1)=0),IF(INDEX(Movimientos!J8:J507,($B$4-1)*20+12)=0,"",IF(INDEX(Movimientos!H8:H507,($B$4-1)*20+12)="","",INDEX(Movimientos!H8:H507,($B$4-1)*20+12))),"Revisa página") | I19: =IF(AND(ISNUMBER($B$4),$B$4>=1,$B$4<=25,MOD($B$4,1)=0),IF(INDEX(Movimientos!J8:J507,($B$4-1)*20+12)=0,"",IF(INDEX(Movimientos!I8:I507,($B$4-1)*20+12)="","",INDEX(Movimientos!I8:I507,($B$4-1)*20+12))),"Revisa página")
A20: =IF(AND(ISNUMBER($B$4),$B$4>=1,$B$4<=25,MOD($B$4,1)=0),IF(INDEX(Movimientos!J8:J507,($B$4-1)*20+13)=0,"",IF(INDEX(Movimientos!A8:A507,($B$4-1)*20+13)="","",INDEX(Movimientos!A8:A507,($B$4-1)*20+13))),"Revisa página") | B20: =IF(AND(ISNUMBER($B$4),$B$4>=1,$B$4<=25,MOD($B$4,1)=0),IF(INDEX(Movimientos!J8:J507,($B$4-1)*20+13)=0,"",IF(INDEX(Movimientos!B8:B507,($B$4-1)*20+13)="","",INDEX(Movimientos!B8:B507,($B$4-1)*20+13))),"Revisa página") | C20: =IF(AND(ISNUMBER($B$4),$B$4>=1,$B$4<=25,MOD($B$4,1)=0),IF(INDEX(Movimientos!J8:J507,($B$4-1)*20+13)=0,"",IF(INDEX(Movimientos!C8:C507,($B$4-1)*20+13)="","",INDEX(Movimientos!C8:C507,($B$4-1)*20+13))),"Revisa página") | D20: =IF(AND(ISNUMBER($B$4),$B$4>=1,$B$4<=25,MOD($B$4,1)=0),IF(INDEX(Movimientos!J8:J507,($B$4-1)*20+13)=0,"",IF(INDEX(Movimientos!D8:D507,($B$4-1)*20+13)="","",INDEX(Movimientos!D8:D507,($B$4-1)*20+13))),"Revisa página") | E20: =IF(AND(ISNUMBER($B$4),$B$4>=1,$B$4<=25,MOD($B$4,1)=0),IF(INDEX(Movimientos!J8:J507,($B$4-1)*20+13)=0,"",IF(INDEX(Movimientos!E8:E507,($B$4-1)*20+13)="","",INDEX(Movimientos!E8:E507,($B$4-1)*20+13))),"Revisa página") | F20: =IF(AND(ISNUMBER($B$4),$B$4>=1,$B$4<=25,MOD($B$4,1)=0),IF(INDEX(Movimientos!J8:J507,($B$4-1)*20+13)=0,"",IF(INDEX(Movimientos!F8:F507,($B$4-1)*20+13)="","",INDEX(Movimientos!F8:F507,($B$4-1)*20+13))),"Revisa página") | G20: =IF(AND(ISNUMBER($B$4),$B$4>=1,$B$4<=25,MOD($B$4,1)=0),IF(INDEX(Movimientos!J8:J507,($B$4-1)*20+13)=0,"",IF(INDEX(Movimientos!G8:G507,($B$4-1)*20+13)="","",INDEX(Movimientos!G8:G507,($B$4-1)*20+13))),"Revisa página") | H20: =IF(AND(ISNUMBER($B$4),$B$4>=1,$B$4<=25,MOD($B$4,1)=0),IF(INDEX(Movimientos!J8:J507,($B$4-1)*20+13)=0,"",IF(INDEX(Movimientos!H8:H507,($B$4-1)*20+13)="","",INDEX(Movimientos!H8:H507,($B$4-1)*20+13))),"Revisa página") | I20: =IF(AND(ISNUMBER($B$4),$B$4>=1,$B$4<=25,MOD($B$4,1)=0),IF(INDEX(Movimientos!J8:J507,($B$4-1)*20+13)=0,"",IF(INDEX(Movimientos!I8:I507,($B$4-1)*20+13)="","",INDEX(Movimientos!I8:I507,($B$4-1)*20+13))),"Revisa página")
A21: =IF(AND(ISNUMBER($B$4),$B$4>=1,$B$4<=25,MOD($B$4,1)=0),IF(INDEX(Movimientos!J8:J507,($B$4-1)*20+14)=0,"",IF(INDEX(Movimientos!A8:A507,($B$4-1)*20+14)="","",INDEX(Movimientos!A8:A507,($B$4-1)*20+14))),"Revisa página") | B21: =IF(AND(ISNUMBER($B$4),$B$4>=1,$B$4<=25,MOD($B$4,1)=0),IF(INDEX(Movimientos!J8:J507,($B$4-1)*20+14)=0,"",IF(INDEX(Movimientos!B8:B507,($B$4-1)*20+14)="","",INDEX(Movimientos!B8:B507,($B$4-1)*20+14))),"Revisa página") | C21: =IF(AND(ISNUMBER($B$4),$B$4>=1,$B$4<=25,MOD($B$4,1)=0),IF(INDEX(Movimientos!J8:J507,($B$4-1)*20+14)=0,"",IF(INDEX(Movimientos!C8:C507,($B$4-1)*20+14)="","",INDEX(Movimientos!C8:C507,($B$4-1)*20+14))),"Revisa página") | D21: =IF(AND(ISNUMBER($B$4),$B$4>=1,$B$4<=25,MOD($B$4,1)=0),IF(INDEX(Movimientos!J8:J507,($B$4-1)*20+14)=0,"",IF(INDEX(Movimientos!D8:D507,($B$4-1)*20+14)="","",INDEX(Movimientos!D8:D507,($B$4-1)*20+14))),"Revisa página") | E21: =IF(AND(ISNUMBER($B$4),$B$4>=1,$B$4<=25,MOD($B$4,1)=0),IF(INDEX(Movimientos!J8:J507,($B$4-1)*20+14)=0,"",IF(INDEX(Movimientos!E8:E507,($B$4-1)*20+14)="","",INDEX(Movimientos!E8:E507,($B$4-1)*20+14))),"Revisa página") | F21: =IF(AND(ISNUMBER($B$4),$B$4>=1,$B$4<=25,MOD($B$4,1)=0),IF(INDEX(Movimientos!J8:J507,($B$4-1)*20+14)=0,"",IF(INDEX(Movimientos!F8:F507,($B$4-1)*20+14)="","",INDEX(Movimientos!F8:F507,($B$4-1)*20+14))),"Revisa página") | G21: =IF(AND(ISNUMBER($B$4),$B$4>=1,$B$4<=25,MOD($B$4,1)=0),IF(INDEX(Movimientos!J8:J507,($B$4-1)*20+14)=0,"",IF(INDEX(Movimientos!G8:G507,($B$4-1)*20+14)="","",INDEX(Movimientos!G8:G507,($B$4-1)*20+14))),"Revisa página") | H21: =IF(AND(ISNUMBER($B$4),$B$4>=1,$B$4<=25,MOD($B$4,1)=0),IF(INDEX(Movimientos!J8:J507,($B$4-1)*20+14)=0,"",IF(INDEX(Movimientos!H8:H507,($B$4-1)*20+14)="","",INDEX(Movimientos!H8:H507,($B$4-1)*20+14))),"Revisa página") | I21: =IF(AND(ISNUMBER($B$4),$B$4>=1,$B$4<=25,MOD($B$4,1)=0),IF(INDEX(Movimientos!J8:J507,($B$4-1)*20+14)=0,"",IF(INDEX(Movimientos!I8:I507,($B$4-1)*20+14)="","",INDEX(Movimientos!I8:I507,($B$4-1)*20+14))),"Revisa página")
A22: =IF(AND(ISNUMBER($B$4),$B$4>=1,$B$4<=25,MOD($B$4,1)=0),IF(INDEX(Movimientos!J8:J507,($B$4-1)*20+15)=0,"",IF(INDEX(Movimientos!A8:A507,($B$4-1)*20+15)="","",INDEX(Movimientos!A8:A507,($B$4-1)*20+15))),"Revisa página") | B22: =IF(AND(ISNUMBER($B$4),$B$4>=1,$B$4<=25,MOD($B$4,1)=0),IF(INDEX(Movimientos!J8:J507,($B$4-1)*20+15)=0,"",IF(INDEX(Movimientos!B8:B507,($B$4-1)*20+15)="","",INDEX(Movimientos!B8:B507,($B$4-1)*20+15))),"Revisa página") | C22: =IF(AND(ISNUMBER($B$4),$B$4>=1,$B$4<=25,MOD($B$4,1)=0),IF(INDEX(Movimientos!J8:J507,($B$4-1)*20+15)=0,"",IF(INDEX(Movimientos!C8:C507,($B$4-1)*20+15)="","",INDEX(Movimientos!C8:C507,($B$4-1)*20+15))),"Revisa página") | D22: =IF(AND(ISNUMBER($B$4),$B$4>=1,$B$4<=25,MOD($B$4,1)=0),IF(INDEX(Movimientos!J8:J507,($B$4-1)*20+15)=0,"",IF(INDEX(Movimientos!D8:D507,($B$4-1)*20+15)="","",INDEX(Movimientos!D8:D507,($B$4-1)*20+15))),"Revisa página") | E22: =IF(AND(ISNUMBER($B$4),$B$4>=1,$B$4<=25,MOD($B$4,1)=0),IF(INDEX(Movimientos!J8:J507,($B$4-1)*20+15)=0,"",IF(INDEX(Movimientos!E8:E507,($B$4-1)*20+15)="","",INDEX(Movimientos!E8:E507,($B$4-1)*20+15))),"Revisa página") | F22: =IF(AND(ISNUMBER($B$4),$B$4>=1,$B$4<=25,MOD($B$4,1)=0),IF(INDEX(Movimientos!J8:J507,($B$4-1)*20+15)=0,"",IF(INDEX(Movimientos!F8:F507,($B$4-1)*20+15)="","",INDEX(Movimientos!F8:F507,($B$4-1)*20+15))),"Revisa página") | G22: =IF(AND(ISNUMBER($B$4),$B$4>=1,$B$4<=25,MOD($B$4,1)=0),IF(INDEX(Movimientos!J8:J507,($B$4-1)*20+15)=0,"",IF(INDEX(Movimientos!G8:G507,($B$4-1)*20+15)="","",INDEX(Movimientos!G8:G507,($B$4-1)*20+15))),"Revisa página") | H22: =IF(AND(ISNUMBER($B$4),$B$4>=1,$B$4<=25,MOD($B$4,1)=0),IF(INDEX(Movimientos!J8:J507,($B$4-1)*20+15)=0,"",IF(INDEX(Movimientos!H8:H507,($B$4-1)*20+15)="","",INDEX(Movimientos!H8:H507,($B$4-1)*20+15))),"Revisa página") | I22: =IF(AND(ISNUMBER($B$4),$B$4>=1,$B$4<=25,MOD($B$4,1)=0),IF(INDEX(Movimientos!J8:J507,($B$4-1)*20+15)=0,"",IF(INDEX(Movimientos!I8:I507,($B$4-1)*20+15)="","",INDEX(Movimientos!I8:I507,($B$4-1)*20+15))),"Revisa página")
A23: =IF(AND(ISNUMBER($B$4),$B$4>=1,$B$4<=25,MOD($B$4,1)=0),IF(INDEX(Movimientos!J8:J507,($B$4-1)*20+16)=0,"",IF(INDEX(Movimientos!A8:A507,($B$4-1)*20+16)="","",INDEX(Movimientos!A8:A507,($B$4-1)*20+16))),"Revisa página") | B23: =IF(AND(ISNUMBER($B$4),$B$4>=1,$B$4<=25,MOD($B$4,1)=0),IF(INDEX(Movimientos!J8:J507,($B$4-1)*20+16)=0,"",IF(INDEX(Movimientos!B8:B507,($B$4-1)*20+16)="","",INDEX(Movimientos!B8:B507,($B$4-1)*20+16))),"Revisa página") | C23: =IF(AND(ISNUMBER($B$4),$B$4>=1,$B$4<=25,MOD($B$4,1)=0),IF(INDEX(Movimientos!J8:J507,($B$4-1)*20+16)=0,"",IF(INDEX(Movimientos!C8:C507,($B$4-1)*20+16)="","",INDEX(Movimientos!C8:C507,($B$4-1)*20+16))),"Revisa página") | D23: =IF(AND(ISNUMBER($B$4),$B$4>=1,$B$4<=25,MOD($B$4,1)=0),IF(INDEX(Movimientos!J8:J507,($B$4-1)*20+16)=0,"",IF(INDEX(Movimientos!D8:D507,($B$4-1)*20+16)="","",INDEX(Movimientos!D8:D507,($B$4-1)*20+16))),"Revisa página") | E23: =IF(AND(ISNUMBER($B$4),$B$4>=1,$B$4<=25,MOD($B$4,1)=0),IF(INDEX(Movimientos!J8:J507,($B$4-1)*20+16)=0,"",IF(INDEX(Movimientos!E8:E507,($B$4-1)*20+16)="","",INDEX(Movimientos!E8:E507,($B$4-1)*20+16))),"Revisa página") | F23: =IF(AND(ISNUMBER($B$4),$B$4>=1,$B$4<=25,MOD($B$4,1)=0),IF(INDEX(Movimientos!J8:J507,($B$4-1)*20+16)=0,"",IF(INDEX(Movimientos!F8:F507,($B$4-1)*20+16)="","",INDEX(Movimientos!F8:F507,($B$4-1)*20+16))),"Revisa página") | G23: =IF(AND(ISNUMBER($B$4),$B$4>=1,$B$4<=25,MOD($B$4,1)=0),IF(INDEX(Movimientos!J8:J507,($B$4-1)*20+16)=0,"",IF(INDEX(Movimientos!G8:G507,($B$4-1)*20+16)="","",INDEX(Movimientos!G8:G507,($B$4-1)*20+16))),"Revisa página") | H23: =IF(AND(ISNUMBER($B$4),$B$4>=1,$B$4<=25,MOD($B$4,1)=0),IF(INDEX(Movimientos!J8:J507,($B$4-1)*20+16)=0,"",IF(INDEX(Movimientos!H8:H507,($B$4-1)*20+16)="","",INDEX(Movimientos!H8:H507,($B$4-1)*20+16))),"Revisa página") | I23: =IF(AND(ISNUMBER($B$4),$B$4>=1,$B$4<=25,MOD($B$4,1)=0),IF(INDEX(Movimientos!J8:J507,($B$4-1)*20+16)=0,"",IF(INDEX(Movimientos!I8:I507,($B$4-1)*20+16)="","",INDEX(Movimientos!I8:I507,($B$4-1)*20+16))),"Revisa página")
A24: =IF(AND(ISNUMBER($B$4),$B$4>=1,$B$4<=25,MOD($B$4,1)=0),IF(INDEX(Movimientos!J8:J507,($B$4-1)*20+17)=0,"",IF(INDEX(Movimientos!A8:A507,($B$4-1)*20+17)="","",INDEX(Movimientos!A8:A507,($B$4-1)*20+17))),"Revisa página") | B24: =IF(AND(ISNUMBER($B$4),$B$4>=1,$B$4<=25,MOD($B$4,1)=0),IF(INDEX(Movimientos!J8:J507,($B$4-1)*20+17)=0,"",IF(INDEX(Movimientos!B8:B507,($B$4-1)*20+17)="","",INDEX(Movimientos!B8:B507,($B$4-1)*20+17))),"Revisa página") | C24: =IF(AND(ISNUMBER($B$4),$B$4>=1,$B$4<=25,MOD($B$4,1)=0),IF(INDEX(Movimientos!J8:J507,($B$4-1)*20+17)=0,"",IF(INDEX(Movimientos!C8:C507,($B$4-1)*20+17)="","",INDEX(Movimientos!C8:C507,($B$4-1)*20+17))),"Revisa página") | D24: =IF(AND(ISNUMBER($B$4),$B$4>=1,$B$4<=25,MOD($B$4,1)=0),IF(INDEX(Movimientos!J8:J507,($B$4-1)*20+17)=0,"",IF(INDEX(Movimientos!D8:D507,($B$4-1)*20+17)="","",INDEX(Movimientos!D8:D507,($B$4-1)*20+17))),"Revisa página") | E24: =IF(AND(ISNUMBER($B$4),$B$4>=1,$B$4<=25,MOD($B$4,1)=0),IF(INDEX(Movimientos!J8:J507,($B$4-1)*20+17)=0,"",IF(INDEX(Movimientos!E8:E507,($B$4-1)*20+17)="","",INDEX(Movimientos!E8:E507,($B$4-1)*20+17))),"Revisa página") | F24: =IF(AND(ISNUMBER($B$4),$B$4>=1,$B$4<=25,MOD($B$4,1)=0),IF(INDEX(Movimientos!J8:J507,($B$4-1)*20+17)=0,"",IF(INDEX(Movimientos!F8:F507,($B$4-1)*20+17)="","",INDEX(Movimientos!F8:F507,($B$4-1)*20+17))),"Revisa página") | G24: =IF(AND(ISNUMBER($B$4),$B$4>=1,$B$4<=25,MOD($B$4,1)=0),IF(INDEX(Movimientos!J8:J507,($B$4-1)*20+17)=0,"",IF(INDEX(Movimientos!G8:G507,($B$4-1)*20+17)="","",INDEX(Movimientos!G8:G507,($B$4-1)*20+17))),"Revisa página") | H24: =IF(AND(ISNUMBER($B$4),$B$4>=1,$B$4<=25,MOD($B$4,1)=0),IF(INDEX(Movimientos!J8:J507,($B$4-1)*20+17)=0,"",IF(INDEX(Movimientos!H8:H507,($B$4-1)*20+17)="","",INDEX(Movimientos!H8:H507,($B$4-1)*20+17))),"Revisa página") | I24: =IF(AND(ISNUMBER($B$4),$B$4>=1,$B$4<=25,MOD($B$4,1)=0),IF(INDEX(Movimientos!J8:J507,($B$4-1)*20+17)=0,"",IF(INDEX(Movimientos!I8:I507,($B$4-1)*20+17)="","",INDEX(Movimientos!I8:I507,($B$4-1)*20+17))),"Revisa página")
A25: =IF(AND(ISNUMBER($B$4),$B$4>=1,$B$4<=25,MOD($B$4,1)=0),IF(INDEX(Movimientos!J8:J507,($B$4-1)*20+18)=0,"",IF(INDEX(Movimientos!A8:A507,($B$4-1)*20+18)="","",INDEX(Movimientos!A8:A507,($B$4-1)*20+18))),"Revisa página") | B25: =IF(AND(ISNUMBER($B$4),$B$4>=1,$B$4<=25,MOD($B$4,1)=0),IF(INDEX(Movimientos!J8:J507,($B$4-1)*20+18)=0,"",IF(INDEX(Movimientos!B8:B507,($B$4-1)*20+18)="","",INDEX(Movimientos!B8:B507,($B$4-1)*20+18))),"Revisa página") | C25: =IF(AND(ISNUMBER($B$4),$B$4>=1,$B$4<=25,MOD($B$4,1)=0),IF(INDEX(Movimientos!J8:J507,($B$4-1)*20+18)=0,"",IF(INDEX(Movimientos!C8:C507,($B$4-1)*20+18)="","",INDEX(Movimientos!C8:C507,($B$4-1)*20+18))),"Revisa página") | D25: =IF(AND(ISNUMBER($B$4),$B$4>=1,$B$4<=25,MOD($B$4,1)=0),IF(INDEX(Movimientos!J8:J507,($B$4-1)*20+18)=0,"",IF(INDEX(Movimientos!D8:D507,($B$4-1)*20+18)="","",INDEX(Movimientos!D8:D507,($B$4-1)*20+18))),"Revisa página") | E25: =IF(AND(ISNUMBER($B$4),$B$4>=1,$B$4<=25,MOD($B$4,1)=0),IF(INDEX(Movimientos!J8:J507,($B$4-1)*20+18)=0,"",IF(INDEX(Movimientos!E8:E507,($B$4-1)*20+18)="","",INDEX(Movimientos!E8:E507,($B$4-1)*20+18))),"Revisa página") | F25: =IF(AND(ISNUMBER($B$4),$B$4>=1,$B$4<=25,MOD($B$4,1)=0),IF(INDEX(Movimientos!J8:J507,($B$4-1)*20+18)=0,"",IF(INDEX(Movimientos!F8:F507,($B$4-1)*20+18)="","",INDEX(Movimientos!F8:F507,($B$4-1)*20+18))),"Revisa página") | G25: =IF(AND(ISNUMBER($B$4),$B$4>=1,$B$4<=25,MOD($B$4,1)=0),IF(INDEX(Movimientos!J8:J507,($B$4-1)*20+18)=0,"",IF(INDEX(Movimientos!G8:G507,($B$4-1)*20+18)="","",INDEX(Movimientos!G8:G507,($B$4-1)*20+18))),"Revisa página") | H25: =IF(AND(ISNUMBER($B$4),$B$4>=1,$B$4<=25,MOD($B$4,1)=0),IF(INDEX(Movimientos!J8:J507,($B$4-1)*20+18)=0,"",IF(INDEX(Movimientos!H8:H507,($B$4-1)*20+18)="","",INDEX(Movimientos!H8:H507,($B$4-1)*20+18))),"Revisa página") | I25: =IF(AND(ISNUMBER($B$4),$B$4>=1,$B$4<=25,MOD($B$4,1)=0),IF(INDEX(Movimientos!J8:J507,($B$4-1)*20+18)=0,"",IF(INDEX(Movimientos!I8:I507,($B$4-1)*20+18)="","",INDEX(Movimientos!I8:I507,($B$4-1)*20+18))),"Revisa página")
A26: =IF(AND(ISNUMBER($B$4),$B$4>=1,$B$4<=25,MOD($B$4,1)=0),IF(INDEX(Movimientos!J8:J507,($B$4-1)*20+19)=0,"",IF(INDEX(Movimientos!A8:A507,($B$4-1)*20+19)="","",INDEX(Movimientos!A8:A507,($B$4-1)*20+19))),"Revisa página") | B26: =IF(AND(ISNUMBER($B$4),$B$4>=1,$B$4<=25,MOD($B$4,1)=0),IF(INDEX(Movimientos!J8:J507,($B$4-1)*20+19)=0,"",IF(INDEX(Movimientos!B8:B507,($B$4-1)*20+19)="","",INDEX(Movimientos!B8:B507,($B$4-1)*20+19))),"Revisa página") | C26: =IF(AND(ISNUMBER($B$4),$B$4>=1,$B$4<=25,MOD($B$4,1)=0),IF(INDEX(Movimientos!J8:J507,($B$4-1)*20+19)=0,"",IF(INDEX(Movimientos!C8:C507,($B$4-1)*20+19)="","",INDEX(Movimientos!C8:C507,($B$4-1)*20+19))),"Revisa página") | D26: =IF(AND(ISNUMBER($B$4),$B$4>=1,$B$4<=25,MOD($B$4,1)=0),IF(INDEX(Movimientos!J8:J507,($B$4-1)*20+19)=0,"",IF(INDEX(Movimientos!D8:D507,($B$4-1)*20+19)="","",INDEX(Movimientos!D8:D507,($B$4-1)*20+19))),"Revisa página") | E26: =IF(AND(ISNUMBER($B$4),$B$4>=1,$B$4<=25,MOD($B$4,1)=0),IF(INDEX(Movimientos!J8:J507,($B$4-1)*20+19)=0,"",IF(INDEX(Movimientos!E8:E507,($B$4-1)*20+19)="","",INDEX(Movimientos!E8:E507,($B$4-1)*20+19))),"Revisa página") | F26: =IF(AND(ISNUMBER($B$4),$B$4>=1,$B$4<=25,MOD($B$4,1)=0),IF(INDEX(Movimientos!J8:J507,($B$4-1)*20+19)=0,"",IF(INDEX(Movimientos!F8:F507,($B$4-1)*20+19)="","",INDEX(Movimientos!F8:F507,($B$4-1)*20+19))),"Revisa página") | G26: =IF(AND(ISNUMBER($B$4),$B$4>=1,$B$4<=25,MOD($B$4,1)=0),IF(INDEX(Movimientos!J8:J507,($B$4-1)*20+19)=0,"",IF(INDEX(Movimientos!G8:G507,($B$4-1)*20+19)="","",INDEX(Movimientos!G8:G507,($B$4-1)*20+19))),"Revisa página") | H26: =IF(AND(ISNUMBER($B$4),$B$4>=1,$B$4<=25,MOD($B$4,1)=0),IF(INDEX(Movimientos!J8:J507,($B$4-1)*20+19)=0,"",IF(INDEX(Movimientos!H8:H507,($B$4-1)*20+19)="","",INDEX(Movimientos!H8:H507,($B$4-1)*20+19))),"Revisa página") | I26: =IF(AND(ISNUMBER($B$4),$B$4>=1,$B$4<=25,MOD($B$4,1)=0),IF(INDEX(Movimientos!J8:J507,($B$4-1)*20+19)=0,"",IF(INDEX(Movimientos!I8:I507,($B$4-1)*20+19)="","",INDEX(Movimientos!I8:I507,($B$4-1)*20+19))),"Revisa página")
A27: =IF(AND(ISNUMBER($B$4),$B$4>=1,$B$4<=25,MOD($B$4,1)=0),IF(INDEX(Movimientos!J8:J507,($B$4-1)*20+20)=0,"",IF(INDEX(Movimientos!A8:A507,($B$4-1)*20+20)="","",INDEX(Movimientos!A8:A507,($B$4-1)*20+20))),"Revisa página") | B27: =IF(AND(ISNUMBER($B$4),$B$4>=1,$B$4<=25,MOD($B$4,1)=0),IF(INDEX(Movimientos!J8:J507,($B$4-1)*20+20)=0,"",IF(INDEX(Movimientos!B8:B507,($B$4-1)*20+20)="","",INDEX(Movimientos!B8:B507,($B$4-1)*20+20))),"Revisa página") | C27: =IF(AND(ISNUMBER($B$4),$B$4>=1,$B$4<=25,MOD($B$4,1)=0),IF(INDEX(Movimientos!J8:J507,($B$4-1)*20+20)=0,"",IF(INDEX(Movimientos!C8:C507,($B$4-1)*20+20)="","",INDEX(Movimientos!C8:C507,($B$4-1)*20+20))),"Revisa página") | D27: =IF(AND(ISNUMBER($B$4),$B$4>=1,$B$4<=25,MOD($B$4,1)=0),IF(INDEX(Movimientos!J8:J507,($B$4-1)*20+20)=0,"",IF(INDEX(Movimientos!D8:D507,($B$4-1)*20+20)="","",INDEX(Movimientos!D8:D507,($B$4-1)*20+20))),"Revisa página") | E27: =IF(AND(ISNUMBER($B$4),$B$4>=1,$B$4<=25,MOD($B$4,1)=0),IF(INDEX(Movimientos!J8:J507,($B$4-1)*20+20)=0,"",IF(INDEX(Movimientos!E8:E507,($B$4-1)*20+20)="","",INDEX(Movimientos!E8:E507,($B$4-1)*20+20))),"Revisa página") | F27: =IF(AND(ISNUMBER($B$4),$B$4>=1,$B$4<=25,MOD($B$4,1)=0),IF(INDEX(Movimientos!J8:J507,($B$4-1)*20+20)=0,"",IF(INDEX(Movimientos!F8:F507,($B$4-1)*20+20)="","",INDEX(Movimientos!F8:F507,($B$4-1)*20+20))),"Revisa página") | G27: =IF(AND(ISNUMBER($B$4),$B$4>=1,$B$4<=25,MOD($B$4,1)=0),IF(INDEX(Movimientos!J8:J507,($B$4-1)*20+20)=0,"",IF(INDEX(Movimientos!G8:G507,($B$4-1)*20+20)="","",INDEX(Movimientos!G8:G507,($B$4-1)*20+20))),"Revisa página") | H27: =IF(AND(ISNUMBER($B$4),$B$4>=1,$B$4<=25,MOD($B$4,1)=0),IF(INDEX(Movimientos!J8:J507,($B$4-1)*20+20)=0,"",IF(INDEX(Movimientos!H8:H507,($B$4-1)*20+20)="","",INDEX(Movimientos!H8:H507,($B$4-1)*20+20))),"Revisa página") | I27: =IF(AND(ISNUMBER($B$4),$B$4>=1,$B$4<=25,MOD($B$4,1)=0),IF(INDEX(Movimientos!J8:J507,($B$4-1)*20+20)=0,"",IF(INDEX(Movimientos!I8:I507,($B$4-1)*20+20)="","",INDEX(Movimientos!I8:I507,($B$4-1)*20+20))),"Revisa página")
