Workbook

Sheet Resumen
A2: Coste de tus suscripciones
A4: Moneda | B4: EUR | D4: Revisión | E4: 46311
A6: Ejemplo ficticio. Sustituye las entradas azules por tus datos.
A8: Coste mensual equivalente | B8: =SUM(Suscripciones!I8:I507) -> 25 | D8: Cargos vencidos | E8: =COUNTIFS(Suscripciones!M8:M507,"Cargo vencido") -> 0
A9: Coste anual equivalente | B9: =SUM(Suscripciones!J8:J507) -> 300
A10: Recorte anual propuesto | B10: =SUMIFS(Suscripciones!J8:J507,Suscripciones!H8:H507,"Cancelar") -> 96 | D10: Preavisos vencidos | E10: =COUNTIFS(Suscripciones!M8:M507,"Preaviso vencido") -> 0
A11: Cargos próximos 30 días | B11: =SUMIFS(Suscripciones!B8:B507,Suscripciones!F8:F507,"Activa",Suscripciones!L8:L507,"Correcto",Suscripciones!D8:D507,">="&E4,Suscripciones!D8:D507,"<"&E4+30) -> 72
A12: Filas que revisar | B12: =COUNTIFS(Suscripciones!L8:L507,"REVISAR*") -> 0 | D12: Revisar en 7 días | E12: =COUNTIFS(Suscripciones!M8:M507,"Revisar en 7 días") -> 1
A17: Decisión | B17: Anual equivalente
A18: Mantener | B18: =SUMIFS(Suscripciones!J8:J507,Suscripciones!H8:H507,A18) -> 204
A19: Revisar | B19: =SUMIFS(Suscripciones!J8:J507,Suscripciones!H8:H507,A19) -> 0
A20: Cancelar | B20: =SUMIFS(Suscripciones!J8:J507,Suscripciones!H8:H507,A20) -> 96
A21: Sin decisión | B21: =B9-SUM(B18:B20) -> 0

Sheet Suscripciones
A2: Cuotas y próximas renovaciones
A5: 500 filas editables. Para imprimir los movimientos, usa la hoja Imprimir y su selector de página.
A7: Servicio | B7: Cuota | C7: Cada N meses | D7: Próximo cargo | E7: Preaviso días | F7: Estado | G7: Uso / mes | H7: Decisión | I7: Mensual equiv. | J7: Anual equiv. | K7: Revisar antes | L7: Control | M7: Acción | N7: Orden de plazo | O7: Coste por uso | P7: Última fila usada
A8: Vídeo | B8: 12 | C8: 1 | D8: 46315 | E8: 3 | F8: Activa | G8: 8 | H8: Mantener | I8: =IF(L8<>"Correcto",0,IF(F8="Activa",B8/C8,0)) -> 12 | J8: =I8*12 -> 144 | K8: =IF(AND(L8="Correcto",ISNUMBER(D8),OR(E8="",AND(ISNUMBER(E8),E8>=0))),D8-N(E8),"") -> 46312 | L8: =IFERROR(IF(COUNTA(A8:H8)=0,"",IF(OR(A8="",NOT(ISNUMBER(B8)),B8<0,NOT(ISNUMBER(C8)),C8<1,MOD(C8,1)<>0,AND(F8<>"Activa",F8<>"Cancelada")),"REVISAR coste","Correcto")),"REVISAR coste") -> Correcto | M8: =IF(A8="","",IF(L8<>"Correcto","Revisar coste",IF(F8="Cancelada","Baja efectiva",IF(NOT(ISNUMBER(K8)),"Completar fecha/preaviso",IF(D8<Resumen!$E$4,"Cargo vencido",IF(K8<Resumen!$E$4,"Preaviso vencido",IF(K8<=Resumen!$E$4+7,"Revisar en 7 días","Más adelante"))))))) -> Revisar en 7 días | N8: =IF(AND(F8="Activa",L8="Correcto",ISNUMBER(K8)),K8+ROW()/10000,1000000000) -> 46312.001 | O8: =IF(AND(ISNUMBER(G8),G8>0,L8="Correcto"),I8/G8,"n.a.") -> 1.5 | P8: =IF(COUNTA(A8:H8)>0,ROW(),0) -> 8
A9: Nube | B9: 60 | C9: 12 | D9: 46327 | E9: 7 | F9: Activa | G9: 20 | H9: Mantener | I9: =IF(L9<>"Correcto",0,IF(F9="Activa",B9/C9,0)) -> 5 | J9: =I9*12 -> 60 | K9: =IF(AND(L9="Correcto",ISNUMBER(D9),OR(E9="",AND(ISNUMBER(E9),E9>=0))),D9-N(E9),"") -> 46320 | L9: =IFERROR(IF(COUNTA(A9:H9)=0,"",IF(OR(A9="",NOT(ISNUMBER(B9)),B9<0,NOT(ISNUMBER(C9)),C9<1,MOD(C9,1)<>0,AND(F9<>"Activa",F9<>"Cancelada")),"REVISAR coste","Correcto")),"REVISAR coste") -> Correcto | M9: =IF(A9="","",IF(L9<>"Correcto","Revisar coste",IF(F9="Cancelada","Baja efectiva",IF(NOT(ISNUMBER(K9)),"Completar fecha/preaviso",IF(D9<Resumen!$E$4,"Cargo vencido",IF(K9<Resumen!$E$4,"Preaviso vencido",IF(K9<=Resumen!$E$4+7,"Revisar en 7 días","Más adelante"))))))) -> Más adelante | N9: =IF(AND(F9="Activa",L9="Correcto",ISNUMBER(K9)),K9+ROW()/10000,1000000000) -> 46320.001 | O9: =IF(AND(ISNUMBER(G9),G9>0,L9="Correcto"),I9/G9,"n.a.") -> 0.25 | P9: =IF(COUNTA(A9:H9)>0,ROW(),0) -> 9
A10: Revista | B10: 24 | C10: 3 | D10: 46346 | E10: 10 | F10: Activa | G10: 0 | H10: Cancelar | I10: =IF(L10<>"Correcto",0,IF(F10="Activa",B10/C10,0)) -> 8 | J10: =I10*12 -> 96 | K10: =IF(AND(L10="Correcto",ISNUMBER(D10),OR(E10="",AND(ISNUMBER(E10),E10>=0))),D10-N(E10),"") -> 46336 | L10: =IFERROR(IF(COUNTA(A10:H10)=0,"",IF(OR(A10="",NOT(ISNUMBER(B10)),B10<0,NOT(ISNUMBER(C10)),C10<1,MOD(C10,1)<>0,AND(F10<>"Activa",F10<>"Cancelada")),"REVISAR coste","Correcto")),"REVISAR coste") -> Correcto | M10: =IF(A10="","",IF(L10<>"Correcto","Revisar coste",IF(F10="Cancelada","Baja efectiva",IF(NOT(ISNUMBER(K10)),"Completar fecha/preaviso",IF(D10<Resumen!$E$4,"Cargo vencido",IF(K10<Resumen!$E$4,"Preaviso vencido",IF(K10<=Resumen!$E$4+7,"Revisar en 7 días","Más adelante"))))))) -> Más adelante | N10: =IF(AND(F10="Activa",L10="Correcto",ISNUMBER(K10)),K10+ROW()/10000,1000000000) -> 46336.001 | O10: =IF(AND(ISNUMBER(G10),G10>0,L10="Correcto"),I10/G10,"n.a.") -> n.a. | P10: =IF(COUNTA(A10:H10)>0,ROW(),0) -> 10
A11: Música antigua | B11: 10 | C11: 1 | D11: 46320 | E11: 0 | F11: Cancelada | G11: 0 | H11: Cancelar | I11: =IF(L11<>"Correcto",0,IF(F11="Activa",B11/C11,0)) -> 0 | J11: =I11*12 -> 0 | K11: =IF(AND(L11="Correcto",ISNUMBER(D11),OR(E11="",AND(ISNUMBER(E11),E11>=0))),D11-N(E11),"") -> 46320 | L11: =IFERROR(IF(COUNTA(A11:H11)=0,"",IF(OR(A11="",NOT(ISNUMBER(B11)),B11<0,NOT(ISNUMBER(C11)),C11<1,MOD(C11,1)<>0,AND(F11<>"Activa",F11<>"Cancelada")),"REVISAR coste","Correcto")),"REVISAR coste") -> Correcto | M11: =IF(A11="","",IF(L11<>"Correcto","Revisar coste",IF(F11="Cancelada","Baja efectiva",IF(NOT(ISNUMBER(K11)),"Completar fecha/preaviso",IF(D11<Resumen!$E$4,"Cargo vencido",IF(K11<Resumen!$E$4,"Preaviso vencido",IF(K11<=Resumen!$E$4+7,"Revisar en 7 días","Más adelante"))))))) -> Baja efectiva | N11: =IF(AND(F11="Activa",L11="Correcto",ISNUMBER(K11)),K11+ROW()/10000,1000000000) -> 1000000000 | O11: =IF(AND(ISNUMBER(G11),G11>0,L11="Correcto"),I11/G11,"n.a.") -> n.a. | P11: =IF(COUNTA(A11:H11)>0,ROW(),0) -> 11
I12: =IF(L12<>"Correcto",0,IF(F12="Activa",B12/C12,0)) -> 0 | J12: =I12*12 -> 0 | K12: =IF(AND(L12="Correcto",ISNUMBER(D12),OR(E12="",AND(ISNUMBER(E12),E12>=0))),D12-N(E12),"") | L12: =IFERROR(IF(COUNTA(A12:H12)=0,"",IF(OR(A12="",NOT(ISNUMBER(B12)),B12<0,NOT(ISNUMBER(C12)),C12<1,MOD(C12,1)<>0,AND(F12<>"Activa",F12<>"Cancelada")),"REVISAR coste","Correcto")),"REVISAR coste") | M12: =IF(A12="","",IF(L12<>"Correcto","Revisar coste",IF(F12="Cancelada","Baja efectiva",IF(NOT(ISNUMBER(K12)),"Completar fecha/preaviso",IF(D12<Resumen!$E$4,"Cargo vencido",IF(K12<Resumen!$E$4,"Preaviso vencido",IF(K12<=Resumen!$E$4+7,"Revisar en 7 días","Más adelante"))))))) | N12: =IF(AND(F12="Activa",L12="Correcto",ISNUMBER(K12)),K12+ROW()/10000,1000000000) -> 1000000000 | O12: =IF(AND(ISNUMBER(G12),G12>0,L12="Correcto"),I12/G12,"n.a.") -> n.a. | P12: =IF(COUNTA(A12:H12)>0,ROW(),0) -> 0
I13: =IF(L13<>"Correcto",0,IF(F13="Activa",B13/C13,0)) -> 0 | J13: =I13*12 -> 0 | K13: =IF(AND(L13="Correcto",ISNUMBER(D13),OR(E13="",AND(ISNUMBER(E13),E13>=0))),D13-N(E13),"") | L13: =IFERROR(IF(COUNTA(A13:H13)=0,"",IF(OR(A13="",NOT(ISNUMBER(B13)),B13<0,NOT(ISNUMBER(C13)),C13<1,MOD(C13,1)<>0,AND(F13<>"Activa",F13<>"Cancelada")),"REVISAR coste","Correcto")),"REVISAR coste") | M13: =IF(A13="","",IF(L13<>"Correcto","Revisar coste",IF(F13="Cancelada","Baja efectiva",IF(NOT(ISNUMBER(K13)),"Completar fecha/preaviso",IF(D13<Resumen!$E$4,"Cargo vencido",IF(K13<Resumen!$E$4,"Preaviso vencido",IF(K13<=Resumen!$E$4+7,"Revisar en 7 días","Más adelante"))))))) | N13: =IF(AND(F13="Activa",L13="Correcto",ISNUMBER(K13)),K13+ROW()/10000,1000000000) -> 1000000000 | O13: =IF(AND(ISNUMBER(G13),G13>0,L13="Correcto"),I13/G13,"n.a.") -> n.a. | P13: =IF(COUNTA(A13:H13)>0,ROW(),0) -> 0
I14: =IF(L14<>"Correcto",0,IF(F14="Activa",B14/C14,0)) -> 0 | J14: =I14*12 -> 0 | K14: =IF(AND(L14="Correcto",ISNUMBER(D14),OR(E14="",AND(ISNUMBER(E14),E14>=0))),D14-N(E14),"") | L14: =IFERROR(IF(COUNTA(A14:H14)=0,"",IF(OR(A14="",NOT(ISNUMBER(B14)),B14<0,NOT(ISNUMBER(C14)),C14<1,MOD(C14,1)<>0,AND(F14<>"Activa",F14<>"Cancelada")),"REVISAR coste","Correcto")),"REVISAR coste") | M14: =IF(A14="","",IF(L14<>"Correcto","Revisar coste",IF(F14="Cancelada","Baja efectiva",IF(NOT(ISNUMBER(K14)),"Completar fecha/preaviso",IF(D14<Resumen!$E$4,"Cargo vencido",IF(K14<Resumen!$E$4,"Preaviso vencido",IF(K14<=Resumen!$E$4+7,"Revisar en 7 días","Más adelante"))))))) | N14: =IF(AND(F14="Activa",L14="Correcto",ISNUMBER(K14)),K14+ROW()/10000,1000000000) -> 1000000000 | O14: =IF(AND(ISNUMBER(G14),G14>0,L14="Correcto"),I14/G14,"n.a.") -> n.a. | P14: =IF(COUNTA(A14:H14)>0,ROW(),0) -> 0
I15: =IF(L15<>"Correcto",0,IF(F15="Activa",B15/C15,0)) -> 0 | J15: =I15*12 -> 0 | K15: =IF(AND(L15="Correcto",ISNUMBER(D15),OR(E15="",AND(ISNUMBER(E15),E15>=0))),D15-N(E15),"") | L15: =IFERROR(IF(COUNTA(A15:H15)=0,"",IF(OR(A15="",NOT(ISNUMBER(B15)),B15<0,NOT(ISNUMBER(C15)),C15<1,MOD(C15,1)<>0,AND(F15<>"Activa",F15<>"Cancelada")),"REVISAR coste","Correcto")),"REVISAR coste") | M15: =IF(A15="","",IF(L15<>"Correcto","Revisar coste",IF(F15="Cancelada","Baja efectiva",IF(NOT(ISNUMBER(K15)),"Completar fecha/preaviso",IF(D15<Resumen!$E$4,"Cargo vencido",IF(K15<Resumen!$E$4,"Preaviso vencido",IF(K15<=Resumen!$E$4+7,"Revisar en 7 días","Más adelante"))))))) | N15: =IF(AND(F15="Activa",L15="Correcto",ISNUMBER(K15)),K15+ROW()/10000,1000000000) -> 1000000000 | O15: =IF(AND(ISNUMBER(G15),G15>0,L15="Correcto"),I15/G15,"n.a.") -> n.a. | P15: =IF(COUNTA(A15:H15)>0,ROW(),0) -> 0
I16: =IF(L16<>"Correcto",0,IF(F16="Activa",B16/C16,0)) -> 0 | J16: =I16*12 -> 0 | K16: =IF(AND(L16="Correcto",ISNUMBER(D16),OR(E16="",AND(ISNUMBER(E16),E16>=0))),D16-N(E16),"") | L16: =IFERROR(IF(COUNTA(A16:H16)=0,"",IF(OR(A16="",NOT(ISNUMBER(B16)),B16<0,NOT(ISNUMBER(C16)),C16<1,MOD(C16,1)<>0,AND(F16<>"Activa",F16<>"Cancelada")),"REVISAR coste","Correcto")),"REVISAR coste") | M16: =IF(A16="","",IF(L16<>"Correcto","Revisar coste",IF(F16="Cancelada","Baja efectiva",IF(NOT(ISNUMBER(K16)),"Completar fecha/preaviso",IF(D16<Resumen!$E$4,"Cargo vencido",IF(K16<Resumen!$E$4,"Preaviso vencido",IF(K16<=Resumen!$E$4+7,"Revisar en 7 días","Más adelante"))))))) | N16: =IF(AND(F16="Activa",L16="Correcto",ISNUMBER(K16)),K16+ROW()/10000,1000000000) -> 1000000000 | O16: =IF(AND(ISNUMBER(G16),G16>0,L16="Correcto"),I16/G16,"n.a.") -> n.a. | P16: =IF(COUNTA(A16:H16)>0,ROW(),0) -> 0
I17: =IF(L17<>"Correcto",0,IF(F17="Activa",B17/C17,0)) -> 0 | J17: =I17*12 -> 0 | K17: =IF(AND(L17="Correcto",ISNUMBER(D17),OR(E17="",AND(ISNUMBER(E17),E17>=0))),D17-N(E17),"") | L17: =IFERROR(IF(COUNTA(A17:H17)=0,"",IF(OR(A17="",NOT(ISNUMBER(B17)),B17<0,NOT(ISNUMBER(C17)),C17<1,MOD(C17,1)<>0,AND(F17<>"Activa",F17<>"Cancelada")),"REVISAR coste","Correcto")),"REVISAR coste") | M17: =IF(A17="","",IF(L17<>"Correcto","Revisar coste",IF(F17="Cancelada","Baja efectiva",IF(NOT(ISNUMBER(K17)),"Completar fecha/preaviso",IF(D17<Resumen!$E$4,"Cargo vencido",IF(K17<Resumen!$E$4,"Preaviso vencido",IF(K17<=Resumen!$E$4+7,"Revisar en 7 días","Más adelante"))))))) | N17: =IF(AND(F17="Activa",L17="Correcto",ISNUMBER(K17)),K17+ROW()/10000,1000000000) -> 1000000000 | O17: =IF(AND(ISNUMBER(G17),G17>0,L17="Correcto"),I17/G17,"n.a.") -> n.a. | P17: =IF(COUNTA(A17:H17)>0,ROW(),0) -> 0
I18: =IF(L18<>"Correcto",0,IF(F18="Activa",B18/C18,0)) -> 0 | J18: =I18*12 -> 0 | K18: =IF(AND(L18="Correcto",ISNUMBER(D18),OR(E18="",AND(ISNUMBER(E18),E18>=0))),D18-N(E18),"") | L18: =IFERROR(IF(COUNTA(A18:H18)=0,"",IF(OR(A18="",NOT(ISNUMBER(B18)),B18<0,NOT(ISNUMBER(C18)),C18<1,MOD(C18,1)<>0,AND(F18<>"Activa",F18<>"Cancelada")),"REVISAR coste","Correcto")),"REVISAR coste") | M18: =IF(A18="","",IF(L18<>"Correcto","Revisar coste",IF(F18="Cancelada","Baja efectiva",IF(NOT(ISNUMBER(K18)),"Completar fecha/preaviso",IF(D18<Resumen!$E$4,"Cargo vencido",IF(K18<Resumen!$E$4,"Preaviso vencido",IF(K18<=Resumen!$E$4+7,"Revisar en 7 días","Más adelante"))))))) | N18: =IF(AND(F18="Activa",L18="Correcto",ISNUMBER(K18)),K18+ROW()/10000,1000000000) -> 1000000000 | O18: =IF(AND(ISNUMBER(G18),G18>0,L18="Correcto"),I18/G18,"n.a.") -> n.a. | P18: =IF(COUNTA(A18:H18)>0,ROW(),0) -> 0
I19: =IF(L19<>"Correcto",0,IF(F19="Activa",B19/C19,0)) -> 0 | J19: =I19*12 -> 0 | K19: =IF(AND(L19="Correcto",ISNUMBER(D19),OR(E19="",AND(ISNUMBER(E19),E19>=0))),D19-N(E19),"") | L19: =IFERROR(IF(COUNTA(A19:H19)=0,"",IF(OR(A19="",NOT(ISNUMBER(B19)),B19<0,NOT(ISNUMBER(C19)),C19<1,MOD(C19,1)<>0,AND(F19<>"Activa",F19<>"Cancelada")),"REVISAR coste","Correcto")),"REVISAR coste") | M19: =IF(A19="","",IF(L19<>"Correcto","Revisar coste",IF(F19="Cancelada","Baja efectiva",IF(NOT(ISNUMBER(K19)),"Completar fecha/preaviso",IF(D19<Resumen!$E$4,"Cargo vencido",IF(K19<Resumen!$E$4,"Preaviso vencido",IF(K19<=Resumen!$E$4+7,"Revisar en 7 días","Más adelante"))))))) | N19: =IF(AND(F19="Activa",L19="Correcto",ISNUMBER(K19)),K19+ROW()/10000,1000000000) -> 1000000000 | O19: =IF(AND(ISNUMBER(G19),G19>0,L19="Correcto"),I19/G19,"n.a.") -> n.a. | P19: =IF(COUNTA(A19:H19)>0,ROW(),0) -> 0
I20: =IF(L20<>"Correcto",0,IF(F20="Activa",B20/C20,0)) -> 0 | J20: =I20*12 -> 0 | K20: =IF(AND(L20="Correcto",ISNUMBER(D20),OR(E20="",AND(ISNUMBER(E20),E20>=0))),D20-N(E20),"") | L20: =IFERROR(IF(COUNTA(A20:H20)=0,"",IF(OR(A20="",NOT(ISNUMBER(B20)),B20<0,NOT(ISNUMBER(C20)),C20<1,MOD(C20,1)<>0,AND(F20<>"Activa",F20<>"Cancelada")),"REVISAR coste","Correcto")),"REVISAR coste") | M20: =IF(A20="","",IF(L20<>"Correcto","Revisar coste",IF(F20="Cancelada","Baja efectiva",IF(NOT(ISNUMBER(K20)),"Completar fecha/preaviso",IF(D20<Resumen!$E$4,"Cargo vencido",IF(K20<Resumen!$E$4,"Preaviso vencido",IF(K20<=Resumen!$E$4+7,"Revisar en 7 días","Más adelante"))))))) | N20: =IF(AND(F20="Activa",L20="Correcto",ISNUMBER(K20)),K20+ROW()/10000,1000000000) -> 1000000000 | O20: =IF(AND(ISNUMBER(G20),G20>0,L20="Correcto"),I20/G20,"n.a.") -> n.a. | P20: =IF(COUNTA(A20:H20)>0,ROW(),0) -> 0
I21: =IF(L21<>"Correcto",0,IF(F21="Activa",B21/C21,0)) -> 0 | J21: =I21*12 -> 0 | K21: =IF(AND(L21="Correcto",ISNUMBER(D21),OR(E21="",AND(ISNUMBER(E21),E21>=0))),D21-N(E21),"") | L21: =IFERROR(IF(COUNTA(A21:H21)=0,"",IF(OR(A21="",NOT(ISNUMBER(B21)),B21<0,NOT(ISNUMBER(C21)),C21<1,MOD(C21,1)<>0,AND(F21<>"Activa",F21<>"Cancelada")),"REVISAR coste","Correcto")),"REVISAR coste") | M21: =IF(A21="","",IF(L21<>"Correcto","Revisar coste",IF(F21="Cancelada","Baja efectiva",IF(NOT(ISNUMBER(K21)),"Completar fecha/preaviso",IF(D21<Resumen!$E$4,"Cargo vencido",IF(K21<Resumen!$E$4,"Preaviso vencido",IF(K21<=Resumen!$E$4+7,"Revisar en 7 días","Más adelante"))))))) | N21: =IF(AND(F21="Activa",L21="Correcto",ISNUMBER(K21)),K21+ROW()/10000,1000000000) -> 1000000000 | O21: =IF(AND(ISNUMBER(G21),G21>0,L21="Correcto"),I21/G21,"n.a.") -> n.a. | P21: =IF(COUNTA(A21:H21)>0,ROW(),0) -> 0
I22: =IF(L22<>"Correcto",0,IF(F22="Activa",B22/C22,0)) -> 0 | J22: =I22*12 -> 0 | K22: =IF(AND(L22="Correcto",ISNUMBER(D22),OR(E22="",AND(ISNUMBER(E22),E22>=0))),D22-N(E22),"") | L22: =IFERROR(IF(COUNTA(A22:H22)=0,"",IF(OR(A22="",NOT(ISNUMBER(B22)),B22<0,NOT(ISNUMBER(C22)),C22<1,MOD(C22,1)<>0,AND(F22<>"Activa",F22<>"Cancelada")),"REVISAR coste","Correcto")),"REVISAR coste") | M22: =IF(A22="","",IF(L22<>"Correcto","Revisar coste",IF(F22="Cancelada","Baja efectiva",IF(NOT(ISNUMBER(K22)),"Completar fecha/preaviso",IF(D22<Resumen!$E$4,"Cargo vencido",IF(K22<Resumen!$E$4,"Preaviso vencido",IF(K22<=Resumen!$E$4+7,"Revisar en 7 días","Más adelante"))))))) | N22: =IF(AND(F22="Activa",L22="Correcto",ISNUMBER(K22)),K22+ROW()/10000,1000000000) -> 1000000000 | O22: =IF(AND(ISNUMBER(G22),G22>0,L22="Correcto"),I22/G22,"n.a.") -> n.a. | P22: =IF(COUNTA(A22:H22)>0,ROW(),0) -> 0
I23: =IF(L23<>"Correcto",0,IF(F23="Activa",B23/C23,0)) -> 0 | J23: =I23*12 -> 0 | K23: =IF(AND(L23="Correcto",ISNUMBER(D23),OR(E23="",AND(ISNUMBER(E23),E23>=0))),D23-N(E23),"") | L23: =IFERROR(IF(COUNTA(A23:H23)=0,"",IF(OR(A23="",NOT(ISNUMBER(B23)),B23<0,NOT(ISNUMBER(C23)),C23<1,MOD(C23,1)<>0,AND(F23<>"Activa",F23<>"Cancelada")),"REVISAR coste","Correcto")),"REVISAR coste") | M23: =IF(A23="","",IF(L23<>"Correcto","Revisar coste",IF(F23="Cancelada","Baja efectiva",IF(NOT(ISNUMBER(K23)),"Completar fecha/preaviso",IF(D23<Resumen!$E$4,"Cargo vencido",IF(K23<Resumen!$E$4,"Preaviso vencido",IF(K23<=Resumen!$E$4+7,"Revisar en 7 días","Más adelante"))))))) | N23: =IF(AND(F23="Activa",L23="Correcto",ISNUMBER(K23)),K23+ROW()/10000,1000000000) -> 1000000000 | O23: =IF(AND(ISNUMBER(G23),G23>0,L23="Correcto"),I23/G23,"n.a.") -> n.a. | P23: =IF(COUNTA(A23:H23)>0,ROW(),0) -> 0
... I507: =IF(L507<>"Correcto",0,IF(F507="Activa",B507/C507,0)) -> 0 | J507: =I507*12 -> 0 | K507: =IF(AND(L507="Correcto",ISNUMBER(D507),OR(E507="",AND(ISNUMBER(E507),E507>=0))),D507-N(E507),"") | L507: =IFERROR(IF(COUNTA(A507:H507)=0,"",IF(OR(A507="",NOT(ISNUMBER(B507)),B507<0,NOT(ISNUMBER(C507)),C507<1,MOD(C507,1)<>0,AND(F507<>"Activa",F507<>"Cancelada")),"REVISAR coste","Correcto")),"REVISAR coste") | M507: =IF(A507="","",IF(L507<>"Correcto","Revisar coste",IF(F507="Cancelada","Baja efectiva",IF(NOT(ISNUMBER(K507)),"Completar fecha/preaviso",IF(D507<Resumen!$E$4,"Cargo vencido",IF(K507<Resumen!$E$4,"Preaviso vencido",IF(K507<=Resumen!$E$4+7,"Revisar en 7 días","Más adelante"))))))) | N507: =IF(AND(F507="Activa",L507="Correcto",ISNUMBER(K507)),K507+ROW()/10000,1000000000) -> 1000000000 | O507: =IF(AND(ISNUMBER(G507),G507>0,L507="Correcto"),I507/G507,"n.a.") -> n.a. | P507: =IF(COUNTA(A507:H507)>0,ROW(),0) -> 0

Sheet Ayuda
B2: Cómo usar esta herramienta
B5: Introduce servicio, cuota, intervalo en meses y estado: el coste se calcula sin rellenar uso ni decisión.
B6: Fechas y preaviso completan los avisos. En Acciones ves los cinco plazos más próximos.
B7: Uso mensual es opcional y permite calcular coste por uso; Decisión recoge lo que quieres hacer.
B8: Cancelada significa baja efectiva. Cancelar en Decisión todavía no elimina el coste.
B9: Cargos de 30 días suma solo la próxima fecha registrada de cada servicio; actualízala tras cada cargo.
B10: Las celdas con fondo azul son editables. Fórmulas protegidas sin contraseña.
B11: Importes de ejemplo ficticios. Cada archivo vacío conserva solo ajustes y fórmulas.
B12: Pruebas de cálculo en LibreOffice. Excel 365, móvil y Google Sheets pendientes.
B13: PlantillasyPortadas · https://plantillasyportadas.com/ · 16/10/2026
A15: Impresión: en Imprimir elige página 1–25 e imprime la hoja activa. El registro original solo ofrece una vista parcial.

Sheet Acciones
A2: Próximas revisiones de suscripciones
A7: Servicio | B7: Revisar antes | C7: Próximo cargo | D7: Acción | E7: Cuota | F7: Fila
A8: =IF(F8="","",INDEX(Suscripciones!A8:A507,F8)) -> Vídeo | B8: =IF(F8="","",INDEX(Suscripciones!K8:K507,F8)) -> 46312 | C8: =IF(F8="","",INDEX(Suscripciones!D8:D507,F8)) -> 46315 | D8: =IF(F8="","",INDEX(Suscripciones!M8:M507,F8)) -> Revisar en 7 días | E8: =IF(F8="","",INDEX(Suscripciones!B8:B507,F8)) -> 12 | F8: =IF(SMALL(Suscripciones!N8:N507,1)>=1000000000,"",MATCH(SMALL(Suscripciones!N8:N507,1),Suscripciones!N8:N507,0)) -> 1
A9: =IF(F9="","",INDEX(Suscripciones!A8:A507,F9)) -> Nube | B9: =IF(F9="","",INDEX(Suscripciones!K8:K507,F9)) -> 46320 | C9: =IF(F9="","",INDEX(Suscripciones!D8:D507,F9)) -> 46327 | D9: =IF(F9="","",INDEX(Suscripciones!M8:M507,F9)) -> Más adelante | E9: =IF(F9="","",INDEX(Suscripciones!B8:B507,F9)) -> 60 | F9: =IF(SMALL(Suscripciones!N8:N507,2)>=1000000000,"",MATCH(SMALL(Suscripciones!N8:N507,2),Suscripciones!N8:N507,0)) -> 2
A10: =IF(F10="","",INDEX(Suscripciones!A8:A507,F10)) -> Revista | B10: =IF(F10="","",INDEX(Suscripciones!K8:K507,F10)) -> 46336 | C10: =IF(F10="","",INDEX(Suscripciones!D8:D507,F10)) -> 46346 | D10: =IF(F10="","",INDEX(Suscripciones!M8:M507,F10)) -> Más adelante | E10: =IF(F10="","",INDEX(Suscripciones!B8:B507,F10)) -> 24 | F10: =IF(SMALL(Suscripciones!N8:N507,3)>=1000000000,"",MATCH(SMALL(Suscripciones!N8:N507,3),Suscripciones!N8:N507,0)) -> 3
A11: =IF(F11="","",INDEX(Suscripciones!A8:A507,F11)) | B11: =IF(F11="","",INDEX(Suscripciones!K8:K507,F11)) | C11: =IF(F11="","",INDEX(Suscripciones!D8:D507,F11)) | D11: =IF(F11="","",INDEX(Suscripciones!M8:M507,F11)) | E11: =IF(F11="","",INDEX(Suscripciones!B8:B507,F11)) | F11: =IF(SMALL(Suscripciones!N8:N507,4)>=1000000000,"",MATCH(SMALL(Suscripciones!N8:N507,4),Suscripciones!N8:N507,0))
A12: =IF(F12="","",INDEX(Suscripciones!A8:A507,F12)) | B12: =IF(F12="","",INDEX(Suscripciones!K8:K507,F12)) | C12: =IF(F12="","",INDEX(Suscripciones!D8:D507,F12)) | D12: =IF(F12="","",INDEX(Suscripciones!M8:M507,F12)) | E12: =IF(F12="","",INDEX(Suscripciones!B8:B507,F12)) | F12: =IF(SMALL(Suscripciones!N8:N507,5)>=1000000000,"",MATCH(SMALL(Suscripciones!N8:N507,5),Suscripciones!N8:N507,0))
A15: Las cinco fechas más próximas, incluidas las vencidas. Actualiza el siguiente cargo tras pagarlo.

Sheet Imprimir
A2: Registro: página de movimientos
A4: Página (1 a 25) | B4: 1 | D4: Páginas con datos | E4: =MAX(1,ROUNDUP((MAX(14,MAX(Suscripciones!$P$8:$P$507))-7)/20,0)) -> 1
A5: Imprime esta hoja. Cambia Página para recorrer el registro: veinte filas por página.
A7: =Suscripciones!A7 -> Servicio | B7: =Suscripciones!B7 -> Cuota | C7: =Suscripciones!C7 -> Cada N meses | D7: =Suscripciones!D7 -> Próximo cargo | E7: =Suscripciones!E7 -> Preaviso días | F7: =Suscripciones!F7 -> Estado | G7: =Suscripciones!H7 -> Decisión | H7: =Suscripciones!I7 -> Mensual equiv. | I7: =Suscripciones!J7 -> Anual equiv. | J7: =Suscripciones!K7 -> Revisar antes | K7: =Suscripciones!M7 -> Acción | L7: =Suscripciones!O7 -> Coste por uso
A8: =IF(AND(ISNUMBER($B$4),$B$4>=1,$B$4<=25,MOD($B$4,1)=0),IF(INDEX(Suscripciones!P8:P507,($B$4-1)*20+1)=0,"",IF(INDEX(Suscripciones!A8:A507,($B$4-1)*20+1)="","",INDEX(Suscripciones!A8:A507,($B$4-1)*20+1))),"Revisa página") -> Vídeo | B8: =IF(AND(ISNUMBER($B$4),$B$4>=1,$B$4<=25,MOD($B$4,1)=0),IF(INDEX(Suscripciones!P8:P507,($B$4-1)*20+1)=0,"",IF(INDEX(Suscripciones!B8:B507,($B$4-1)*20+1)="","",INDEX(Suscripciones!B8:B507,($B$4-1)*20+1))),"Revisa página") -> 12 | C8: =IF(AND(ISNUMBER($B$4),$B$4>=1,$B$4<=25,MOD($B$4,1)=0),IF(INDEX(Suscripciones!P8:P507,($B$4-1)*20+1)=0,"",IF(INDEX(Suscripciones!C8:C507,($B$4-1)*20+1)="","",INDEX(Suscripciones!C8:C507,($B$4-1)*20+1))),"Revisa página") -> 1 | D8: =IF(AND(ISNUMBER($B$4),$B$4>=1,$B$4<=25,MOD($B$4,1)=0),IF(INDEX(Suscripciones!P8:P507,($B$4-1)*20+1)=0,"",IF(INDEX(Suscripciones!D8:D507,($B$4-1)*20+1)="","",INDEX(Suscripciones!D8:D507,($B$4-1)*20+1))),"Revisa página") -> 46315 | E8: =IF(AND(ISNUMBER($B$4),$B$4>=1,$B$4<=25,MOD($B$4,1)=0),IF(INDEX(Suscripciones!P8:P507,($B$4-1)*20+1)=0,"",IF(INDEX(Suscripciones!E8:E507,($B$4-1)*20+1)="","",INDEX(Suscripciones!E8:E507,($B$4-1)*20+1))),"Revisa página") -> 3 | F8: =IF(AND(ISNUMBER($B$4),$B$4>=1,$B$4<=25,MOD($B$4,1)=0),IF(INDEX(Suscripciones!P8:P507,($B$4-1)*20+1)=0,"",IF(INDEX(Suscripciones!F8:F507,($B$4-1)*20+1)="","",INDEX(Suscripciones!F8:F507,($B$4-1)*20+1))),"Revisa página") -> Activa | G8: =IF(AND(ISNUMBER($B$4),$B$4>=1,$B$4<=25,MOD($B$4,1)=0),IF(INDEX(Suscripciones!P8:P507,($B$4-1)*20+1)=0,"",IF(INDEX(Suscripciones!H8:H507,($B$4-1)*20+1)="","",INDEX(Suscripciones!H8:H507,($B$4-1)*20+1))),"Revisa página") -> Mantener | H8: =IF(AND(ISNUMBER($B$4),$B$4>=1,$B$4<=25,MOD($B$4,1)=0),IF(INDEX(Suscripciones!P8:P507,($B$4-1)*20+1)=0,"",IF(INDEX(Suscripciones!I8:I507,($B$4-1)*20+1)="","",INDEX(Suscripciones!I8:I507,($B$4-1)*20+1))),"Revisa página") -> 12 | I8: =IF(AND(ISNUMBER($B$4),$B$4>=1,$B$4<=25,MOD($B$4,1)=0),IF(INDEX(Suscripciones!P8:P507,($B$4-1)*20+1)=0,"",IF(INDEX(Suscripciones!J8:J507,($B$4-1)*20+1)="","",INDEX(Suscripciones!J8:J507,($B$4-1)*20+1))),"Revisa página") -> 144 | J8: =IF(AND(ISNUMBER($B$4),$B$4>=1,$B$4<=25,MOD($B$4,1)=0),IF(INDEX(Suscripciones!P8:P507,($B$4-1)*20+1)=0,"",IF(INDEX(Suscripciones!K8:K507,($B$4-1)*20+1)="","",INDEX(Suscripciones!K8:K507,($B$4-1)*20+1))),"Revisa página") -> 46312 | K8: =IF(AND(ISNUMBER($B$4),$B$4>=1,$B$4<=25,MOD($B$4,1)=0),IF(INDEX(Suscripciones!P8:P507,($B$4-1)*20+1)=0,"",IF(INDEX(Suscripciones!M8:M507,($B$4-1)*20+1)="","",INDEX(Suscripciones!M8:M507,($B$4-1)*20+1))),"Revisa página") -> Revisar en 7 días | L8: =IF(AND(ISNUMBER($B$4),$B$4>=1,$B$4<=25,MOD($B$4,1)=0),IF(INDEX(Suscripciones!P8:P507,($B$4-1)*20+1)=0,"",IF(INDEX(Suscripciones!O8:O507,($B$4-1)*20+1)="","",INDEX(Suscripciones!O8:O507,($B$4-1)*20+1))),"Revisa página") -> 1.5
A9: =IF(AND(ISNUMBER($B$4),$B$4>=1,$B$4<=25,MOD($B$4,1)=0),IF(INDEX(Suscripciones!P8:P507,($B$4-1)*20+2)=0,"",IF(INDEX(Suscripciones!A8:A507,($B$4-1)*20+2)="","",INDEX(Suscripciones!A8:A507,($B$4-1)*20+2))),"Revisa página") -> Nube | B9: =IF(AND(ISNUMBER($B$4),$B$4>=1,$B$4<=25,MOD($B$4,1)=0),IF(INDEX(Suscripciones!P8:P507,($B$4-1)*20+2)=0,"",IF(INDEX(Suscripciones!B8:B507,($B$4-1)*20+2)="","",INDEX(Suscripciones!B8:B507,($B$4-1)*20+2))),"Revisa página") -> 60 | C9: =IF(AND(ISNUMBER($B$4),$B$4>=1,$B$4<=25,MOD($B$4,1)=0),IF(INDEX(Suscripciones!P8:P507,($B$4-1)*20+2)=0,"",IF(INDEX(Suscripciones!C8:C507,($B$4-1)*20+2)="","",INDEX(Suscripciones!C8:C507,($B$4-1)*20+2))),"Revisa página") -> 12 | D9: =IF(AND(ISNUMBER($B$4),$B$4>=1,$B$4<=25,MOD($B$4,1)=0),IF(INDEX(Suscripciones!P8:P507,($B$4-1)*20+2)=0,"",IF(INDEX(Suscripciones!D8:D507,($B$4-1)*20+2)="","",INDEX(Suscripciones!D8:D507,($B$4-1)*20+2))),"Revisa página") -> 46327 | E9: =IF(AND(ISNUMBER($B$4),$B$4>=1,$B$4<=25,MOD($B$4,1)=0),IF(INDEX(Suscripciones!P8:P507,($B$4-1)*20+2)=0,"",IF(INDEX(Suscripciones!E8:E507,($B$4-1)*20+2)="","",INDEX(Suscripciones!E8:E507,($B$4-1)*20+2))),"Revisa página") -> 7 | F9: =IF(AND(ISNUMBER($B$4),$B$4>=1,$B$4<=25,MOD($B$4,1)=0),IF(INDEX(Suscripciones!P8:P507,($B$4-1)*20+2)=0,"",IF(INDEX(Suscripciones!F8:F507,($B$4-1)*20+2)="","",INDEX(Suscripciones!F8:F507,($B$4-1)*20+2))),"Revisa página") -> Activa | G9: =IF(AND(ISNUMBER($B$4),$B$4>=1,$B$4<=25,MOD($B$4,1)=0),IF(INDEX(Suscripciones!P8:P507,($B$4-1)*20+2)=0,"",IF(INDEX(Suscripciones!H8:H507,($B$4-1)*20+2)="","",INDEX(Suscripciones!H8:H507,($B$4-1)*20+2))),"Revisa página") -> Mantener | H9: =IF(AND(ISNUMBER($B$4),$B$4>=1,$B$4<=25,MOD($B$4,1)=0),IF(INDEX(Suscripciones!P8:P507,($B$4-1)*20+2)=0,"",IF(INDEX(Suscripciones!I8:I507,($B$4-1)*20+2)="","",INDEX(Suscripciones!I8:I507,($B$4-1)*20+2))),"Revisa página") -> 5 | I9: =IF(AND(ISNUMBER($B$4),$B$4>=1,$B$4<=25,MOD($B$4,1)=0),IF(INDEX(Suscripciones!P8:P507,($B$4-1)*20+2)=0,"",IF(INDEX(Suscripciones!J8:J507,($B$4-1)*20+2)="","",INDEX(Suscripciones!J8:J507,($B$4-1)*20+2))),"Revisa página") -> 60 | J9: =IF(AND(ISNUMBER($B$4),$B$4>=1,$B$4<=25,MOD($B$4,1)=0),IF(INDEX(Suscripciones!P8:P507,($B$4-1)*20+2)=0,"",IF(INDEX(Suscripciones!K8:K507,($B$4-1)*20+2)="","",INDEX(Suscripciones!K8:K507,($B$4-1)*20+2))),"Revisa página") -> 46320 | K9: =IF(AND(ISNUMBER($B$4),$B$4>=1,$B$4<=25,MOD($B$4,1)=0),IF(INDEX(Suscripciones!P8:P507,($B$4-1)*20+2)=0,"",IF(INDEX(Suscripciones!M8:M507,($B$4-1)*20+2)="","",INDEX(Suscripciones!M8:M507,($B$4-1)*20+2))),"Revisa página") -> Más adelante | L9: =IF(AND(ISNUMBER($B$4),$B$4>=1,$B$4<=25,MOD($B$4,1)=0),IF(INDEX(Suscripciones!P8:P507,($B$4-1)*20+2)=0,"",IF(INDEX(Suscripciones!O8:O507,($B$4-1)*20+2)="","",INDEX(Suscripciones!O8:O507,($B$4-1)*20+2))),"Revisa página") -> 0.25
A10: =IF(AND(ISNUMBER($B$4),$B$4>=1,$B$4<=25,MOD($B$4,1)=0),IF(INDEX(Suscripciones!P8:P507,($B$4-1)*20+3)=0,"",IF(INDEX(Suscripciones!A8:A507,($B$4-1)*20+3)="","",INDEX(Suscripciones!A8:A507,($B$4-1)*20+3))),"Revisa página") -> Revista | B10: =IF(AND(ISNUMBER($B$4),$B$4>=1,$B$4<=25,MOD($B$4,1)=0),IF(INDEX(Suscripciones!P8:P507,($B$4-1)*20+3)=0,"",IF(INDEX(Suscripciones!B8:B507,($B$4-1)*20+3)="","",INDEX(Suscripciones!B8:B507,($B$4-1)*20+3))),"Revisa página") -> 24 | C10: =IF(AND(ISNUMBER($B$4),$B$4>=1,$B$4<=25,MOD($B$4,1)=0),IF(INDEX(Suscripciones!P8:P507,($B$4-1)*20+3)=0,"",IF(INDEX(Suscripciones!C8:C507,($B$4-1)*20+3)="","",INDEX(Suscripciones!C8:C507,($B$4-1)*20+3))),"Revisa página") -> 3 | D10: =IF(AND(ISNUMBER($B$4),$B$4>=1,$B$4<=25,MOD($B$4,1)=0),IF(INDEX(Suscripciones!P8:P507,($B$4-1)*20+3)=0,"",IF(INDEX(Suscripciones!D8:D507,($B$4-1)*20+3)="","",INDEX(Suscripciones!D8:D507,($B$4-1)*20+3))),"Revisa página") -> 46346 | E10: =IF(AND(ISNUMBER($B$4),$B$4>=1,$B$4<=25,MOD($B$4,1)=0),IF(INDEX(Suscripciones!P8:P507,($B$4-1)*20+3)=0,"",IF(INDEX(Suscripciones!E8:E507,($B$4-1)*20+3)="","",INDEX(Suscripciones!E8:E507,($B$4-1)*20+3))),"Revisa página") -> 10 | F10: =IF(AND(ISNUMBER($B$4),$B$4>=1,$B$4<=25,MOD($B$4,1)=0),IF(INDEX(Suscripciones!P8:P507,($B$4-1)*20+3)=0,"",IF(INDEX(Suscripciones!F8:F507,($B$4-1)*20+3)="","",INDEX(Suscripciones!F8:F507,($B$4-1)*20+3))),"Revisa página") -> Activa | G10: =IF(AND(ISNUMBER($B$4),$B$4>=1,$B$4<=25,MOD($B$4,1)=0),IF(INDEX(Suscripciones!P8:P507,($B$4-1)*20+3)=0,"",IF(INDEX(Suscripciones!H8:H507,($B$4-1)*20+3)="","",INDEX(Suscripciones!H8:H507,($B$4-1)*20+3))),"Revisa página") -> Cancelar | H10: =IF(AND(ISNUMBER($B$4),$B$4>=1,$B$4<=25,MOD($B$4,1)=0),IF(INDEX(Suscripciones!P8:P507,($B$4-1)*20+3)=0,"",IF(INDEX(Suscripciones!I8:I507,($B$4-1)*20+3)="","",INDEX(Suscripciones!I8:I507,($B$4-1)*20+3))),"Revisa página") -> 8 | I10: =IF(AND(ISNUMBER($B$4),$B$4>=1,$B$4<=25,MOD($B$4,1)=0),IF(INDEX(Suscripciones!P8:P507,($B$4-1)*20+3)=0,"",IF(INDEX(Suscripciones!J8:J507,($B$4-1)*20+3)="","",INDEX(Suscripciones!J8:J507,($B$4-1)*20+3))),"Revisa página") -> 96 | J10: =IF(AND(ISNUMBER($B$4),$B$4>=1,$B$4<=25,MOD($B$4,1)=0),IF(INDEX(Suscripciones!P8:P507,($B$4-1)*20+3)=0,"",IF(INDEX(Suscripciones!K8:K507,($B$4-1)*20+3)="","",INDEX(Suscripciones!K8:K507,($B$4-1)*20+3))),"Revisa página") -> 46336 | K10: =IF(AND(ISNUMBER($B$4),$B$4>=1,$B$4<=25,MOD($B$4,1)=0),IF(INDEX(Suscripciones!P8:P507,($B$4-1)*20+3)=0,"",IF(INDEX(Suscripciones!M8:M507,($B$4-1)*20+3)="","",INDEX(Suscripciones!M8:M507,($B$4-1)*20+3))),"Revisa página") -> Más adelante | L10: =IF(AND(ISNUMBER($B$4),$B$4>=1,$B$4<=25,MOD($B$4,1)=0),IF(INDEX(Suscripciones!P8:P507,($B$4-1)*20+3)=0,"",IF(INDEX(Suscripciones!O8:O507,($B$4-1)*20+3)="","",INDEX(Suscripciones!O8:O507,($B$4-1)*20+3))),"Revisa página") -> n.a.
A11: =IF(AND(ISNUMBER($B$4),$B$4>=1,$B$4<=25,MOD($B$4,1)=0),IF(INDEX(Suscripciones!P8:P507,($B$4-1)*20+4)=0,"",IF(INDEX(Suscripciones!A8:A507,($B$4-1)*20+4)="","",INDEX(Suscripciones!A8:A507,($B$4-1)*20+4))),"Revisa página") -> Música antigua | B11: =IF(AND(ISNUMBER($B$4),$B$4>=1,$B$4<=25,MOD($B$4,1)=0),IF(INDEX(Suscripciones!P8:P507,($B$4-1)*20+4)=0,"",IF(INDEX(Suscripciones!B8:B507,($B$4-1)*20+4)="","",INDEX(Suscripciones!B8:B507,($B$4-1)*20+4))),"Revisa página") -> 10 | C11: =IF(AND(ISNUMBER($B$4),$B$4>=1,$B$4<=25,MOD($B$4,1)=0),IF(INDEX(Suscripciones!P8:P507,($B$4-1)*20+4)=0,"",IF(INDEX(Suscripciones!C8:C507,($B$4-1)*20+4)="","",INDEX(Suscripciones!C8:C507,($B$4-1)*20+4))),"Revisa página") -> 1 | D11: =IF(AND(ISNUMBER($B$4),$B$4>=1,$B$4<=25,MOD($B$4,1)=0),IF(INDEX(Suscripciones!P8:P507,($B$4-1)*20+4)=0,"",IF(INDEX(Suscripciones!D8:D507,($B$4-1)*20+4)="","",INDEX(Suscripciones!D8:D507,($B$4-1)*20+4))),"Revisa página") -> 46320 | E11: =IF(AND(ISNUMBER($B$4),$B$4>=1,$B$4<=25,MOD($B$4,1)=0),IF(INDEX(Suscripciones!P8:P507,($B$4-1)*20+4)=0,"",IF(INDEX(Suscripciones!E8:E507,($B$4-1)*20+4)="","",INDEX(Suscripciones!E8:E507,($B$4-1)*20+4))),"Revisa página") -> 0 | F11: =IF(AND(ISNUMBER($B$4),$B$4>=1,$B$4<=25,MOD($B$4,1)=0),IF(INDEX(Suscripciones!P8:P507,($B$4-1)*20+4)=0,"",IF(INDEX(Suscripciones!F8:F507,($B$4-1)*20+4)="","",INDEX(Suscripciones!F8:F507,($B$4-1)*20+4))),"Revisa página") -> Cancelada | G11: =IF(AND(ISNUMBER($B$4),$B$4>=1,$B$4<=25,MOD($B$4,1)=0),IF(INDEX(Suscripciones!P8:P507,($B$4-1)*20+4)=0,"",IF(INDEX(Suscripciones!H8:H507,($B$4-1)*20+4)="","",INDEX(Suscripciones!H8:H507,($B$4-1)*20+4))),"Revisa página") -> Cancelar | H11: =IF(AND(ISNUMBER($B$4),$B$4>=1,$B$4<=25,MOD($B$4,1)=0),IF(INDEX(Suscripciones!P8:P507,($B$4-1)*20+4)=0,"",IF(INDEX(Suscripciones!I8:I507,($B$4-1)*20+4)="","",INDEX(Suscripciones!I8:I507,($B$4-1)*20+4))),"Revisa página") -> 0 | I11: =IF(AND(ISNUMBER($B$4),$B$4>=1,$B$4<=25,MOD($B$4,1)=0),IF(INDEX(Suscripciones!P8:P507,($B$4-1)*20+4)=0,"",IF(INDEX(Suscripciones!J8:J507,($B$4-1)*20+4)="","",INDEX(Suscripciones!J8:J507,($B$4-1)*20+4))),"Revisa página") -> 0 | J11: =IF(AND(ISNUMBER($B$4),$B$4>=1,$B$4<=25,MOD($B$4,1)=0),IF(INDEX(Suscripciones!P8:P507,($B$4-1)*20+4)=0,"",IF(INDEX(Suscripciones!K8:K507,($B$4-1)*20+4)="","",INDEX(Suscripciones!K8:K507,($B$4-1)*20+4))),"Revisa página") -> 46320 | K11: =IF(AND(ISNUMBER($B$4),$B$4>=1,$B$4<=25,MOD($B$4,1)=0),IF(INDEX(Suscripciones!P8:P507,($B$4-1)*20+4)=0,"",IF(INDEX(Suscripciones!M8:M507,($B$4-1)*20+4)="","",INDEX(Suscripciones!M8:M507,($B$4-1)*20+4))),"Revisa página") -> Baja efectiva | L11: =IF(AND(ISNUMBER($B$4),$B$4>=1,$B$4<=25,MOD($B$4,1)=0),IF(INDEX(Suscripciones!P8:P507,($B$4-1)*20+4)=0,"",IF(INDEX(Suscripciones!O8:O507,($B$4-1)*20+4)="","",INDEX(Suscripciones!O8:O507,($B$4-1)*20+4))),"Revisa página") -> n.a.
A12: =IF(AND(ISNUMBER($B$4),$B$4>=1,$B$4<=25,MOD($B$4,1)=0),IF(INDEX(Suscripciones!P8:P507,($B$4-1)*20+5)=0,"",IF(INDEX(Suscripciones!A8:A507,($B$4-1)*20+5)="","",INDEX(Suscripciones!A8:A507,($B$4-1)*20+5))),"Revisa página") | B12: =IF(AND(ISNUMBER($B$4),$B$4>=1,$B$4<=25,MOD($B$4,1)=0),IF(INDEX(Suscripciones!P8:P507,($B$4-1)*20+5)=0,"",IF(INDEX(Suscripciones!B8:B507,($B$4-1)*20+5)="","",INDEX(Suscripciones!B8:B507,($B$4-1)*20+5))),"Revisa página") | C12: =IF(AND(ISNUMBER($B$4),$B$4>=1,$B$4<=25,MOD($B$4,1)=0),IF(INDEX(Suscripciones!P8:P507,($B$4-1)*20+5)=0,"",IF(INDEX(Suscripciones!C8:C507,($B$4-1)*20+5)="","",INDEX(Suscripciones!C8:C507,($B$4-1)*20+5))),"Revisa página") | D12: =IF(AND(ISNUMBER($B$4),$B$4>=1,$B$4<=25,MOD($B$4,1)=0),IF(INDEX(Suscripciones!P8:P507,($B$4-1)*20+5)=0,"",IF(INDEX(Suscripciones!D8:D507,($B$4-1)*20+5)="","",INDEX(Suscripciones!D8:D507,($B$4-1)*20+5))),"Revisa página") | E12: =IF(AND(ISNUMBER($B$4),$B$4>=1,$B$4<=25,MOD($B$4,1)=0),IF(INDEX(Suscripciones!P8:P507,($B$4-1)*20+5)=0,"",IF(INDEX(Suscripciones!E8:E507,($B$4-1)*20+5)="","",INDEX(Suscripciones!E8:E507,($B$4-1)*20+5))),"Revisa página") | F12: =IF(AND(ISNUMBER($B$4),$B$4>=1,$B$4<=25,MOD($B$4,1)=0),IF(INDEX(Suscripciones!P8:P507,($B$4-1)*20+5)=0,"",IF(INDEX(Suscripciones!F8:F507,($B$4-1)*20+5)="","",INDEX(Suscripciones!F8:F507,($B$4-1)*20+5))),"Revisa página") | G12: =IF(AND(ISNUMBER($B$4),$B$4>=1,$B$4<=25,MOD($B$4,1)=0),IF(INDEX(Suscripciones!P8:P507,($B$4-1)*20+5)=0,"",IF(INDEX(Suscripciones!H8:H507,($B$4-1)*20+5)="","",INDEX(Suscripciones!H8:H507,($B$4-1)*20+5))),"Revisa página") | H12: =IF(AND(ISNUMBER($B$4),$B$4>=1,$B$4<=25,MOD($B$4,1)=0),IF(INDEX(Suscripciones!P8:P507,($B$4-1)*20+5)=0,"",IF(INDEX(Suscripciones!I8:I507,($B$4-1)*20+5)="","",INDEX(Suscripciones!I8:I507,($B$4-1)*20+5))),"Revisa página") | I12: =IF(AND(ISNUMBER($B$4),$B$4>=1,$B$4<=25,MOD($B$4,1)=0),IF(INDEX(Suscripciones!P8:P507,($B$4-1)*20+5)=0,"",IF(INDEX(Suscripciones!J8:J507,($B$4-1)*20+5)="","",INDEX(Suscripciones!J8:J507,($B$4-1)*20+5))),"Revisa página") | J12: =IF(AND(ISNUMBER($B$4),$B$4>=1,$B$4<=25,MOD($B$4,1)=0),IF(INDEX(Suscripciones!P8:P507,($B$4-1)*20+5)=0,"",IF(INDEX(Suscripciones!K8:K507,($B$4-1)*20+5)="","",INDEX(Suscripciones!K8:K507,($B$4-1)*20+5))),"Revisa página") | K12: =IF(AND(ISNUMBER($B$4),$B$4>=1,$B$4<=25,MOD($B$4,1)=0),IF(INDEX(Suscripciones!P8:P507,($B$4-1)*20+5)=0,"",IF(INDEX(Suscripciones!M8:M507,($B$4-1)*20+5)="","",INDEX(Suscripciones!M8:M507,($B$4-1)*20+5))),"Revisa página") | L12: =IF(AND(ISNUMBER($B$4),$B$4>=1,$B$4<=25,MOD($B$4,1)=0),IF(INDEX(Suscripciones!P8:P507,($B$4-1)*20+5)=0,"",IF(INDEX(Suscripciones!O8:O507,($B$4-1)*20+5)="","",INDEX(Suscripciones!O8:O507,($B$4-1)*20+5))),"Revisa página")
A13: =IF(AND(ISNUMBER($B$4),$B$4>=1,$B$4<=25,MOD($B$4,1)=0),IF(INDEX(Suscripciones!P8:P507,($B$4-1)*20+6)=0,"",IF(INDEX(Suscripciones!A8:A507,($B$4-1)*20+6)="","",INDEX(Suscripciones!A8:A507,($B$4-1)*20+6))),"Revisa página") | B13: =IF(AND(ISNUMBER($B$4),$B$4>=1,$B$4<=25,MOD($B$4,1)=0),IF(INDEX(Suscripciones!P8:P507,($B$4-1)*20+6)=0,"",IF(INDEX(Suscripciones!B8:B507,($B$4-1)*20+6)="","",INDEX(Suscripciones!B8:B507,($B$4-1)*20+6))),"Revisa página") | C13: =IF(AND(ISNUMBER($B$4),$B$4>=1,$B$4<=25,MOD($B$4,1)=0),IF(INDEX(Suscripciones!P8:P507,($B$4-1)*20+6)=0,"",IF(INDEX(Suscripciones!C8:C507,($B$4-1)*20+6)="","",INDEX(Suscripciones!C8:C507,($B$4-1)*20+6))),"Revisa página") | D13: =IF(AND(ISNUMBER($B$4),$B$4>=1,$B$4<=25,MOD($B$4,1)=0),IF(INDEX(Suscripciones!P8:P507,($B$4-1)*20+6)=0,"",IF(INDEX(Suscripciones!D8:D507,($B$4-1)*20+6)="","",INDEX(Suscripciones!D8:D507,($B$4-1)*20+6))),"Revisa página") | E13: =IF(AND(ISNUMBER($B$4),$B$4>=1,$B$4<=25,MOD($B$4,1)=0),IF(INDEX(Suscripciones!P8:P507,($B$4-1)*20+6)=0,"",IF(INDEX(Suscripciones!E8:E507,($B$4-1)*20+6)="","",INDEX(Suscripciones!E8:E507,($B$4-1)*20+6))),"Revisa página") | F13: =IF(AND(ISNUMBER($B$4),$B$4>=1,$B$4<=25,MOD($B$4,1)=0),IF(INDEX(Suscripciones!P8:P507,($B$4-1)*20+6)=0,"",IF(INDEX(Suscripciones!F8:F507,($B$4-1)*20+6)="","",INDEX(Suscripciones!F8:F507,($B$4-1)*20+6))),"Revisa página") | G13: =IF(AND(ISNUMBER($B$4),$B$4>=1,$B$4<=25,MOD($B$4,1)=0),IF(INDEX(Suscripciones!P8:P507,($B$4-1)*20+6)=0,"",IF(INDEX(Suscripciones!H8:H507,($B$4-1)*20+6)="","",INDEX(Suscripciones!H8:H507,($B$4-1)*20+6))),"Revisa página") | H13: =IF(AND(ISNUMBER($B$4),$B$4>=1,$B$4<=25,MOD($B$4,1)=0),IF(INDEX(Suscripciones!P8:P507,($B$4-1)*20+6)=0,"",IF(INDEX(Suscripciones!I8:I507,($B$4-1)*20+6)="","",INDEX(Suscripciones!I8:I507,($B$4-1)*20+6))),"Revisa página") | I13: =IF(AND(ISNUMBER($B$4),$B$4>=1,$B$4<=25,MOD($B$4,1)=0),IF(INDEX(Suscripciones!P8:P507,($B$4-1)*20+6)=0,"",IF(INDEX(Suscripciones!J8:J507,($B$4-1)*20+6)="","",INDEX(Suscripciones!J8:J507,($B$4-1)*20+6))),"Revisa página") | J13: =IF(AND(ISNUMBER($B$4),$B$4>=1,$B$4<=25,MOD($B$4,1)=0),IF(INDEX(Suscripciones!P8:P507,($B$4-1)*20+6)=0,"",IF(INDEX(Suscripciones!K8:K507,($B$4-1)*20+6)="","",INDEX(Suscripciones!K8:K507,($B$4-1)*20+6))),"Revisa página") | K13: =IF(AND(ISNUMBER($B$4),$B$4>=1,$B$4<=25,MOD($B$4,1)=0),IF(INDEX(Suscripciones!P8:P507,($B$4-1)*20+6)=0,"",IF(INDEX(Suscripciones!M8:M507,($B$4-1)*20+6)="","",INDEX(Suscripciones!M8:M507,($B$4-1)*20+6))),"Revisa página") | L13: =IF(AND(ISNUMBER($B$4),$B$4>=1,$B$4<=25,MOD($B$4,1)=0),IF(INDEX(Suscripciones!P8:P507,($B$4-1)*20+6)=0,"",IF(INDEX(Suscripciones!O8:O507,($B$4-1)*20+6)="","",INDEX(Suscripciones!O8:O507,($B$4-1)*20+6))),"Revisa página")
A14: =IF(AND(ISNUMBER($B$4),$B$4>=1,$B$4<=25,MOD($B$4,1)=0),IF(INDEX(Suscripciones!P8:P507,($B$4-1)*20+7)=0,"",IF(INDEX(Suscripciones!A8:A507,($B$4-1)*20+7)="","",INDEX(Suscripciones!A8:A507,($B$4-1)*20+7))),"Revisa página") | B14: =IF(AND(ISNUMBER($B$4),$B$4>=1,$B$4<=25,MOD($B$4,1)=0),IF(INDEX(Suscripciones!P8:P507,($B$4-1)*20+7)=0,"",IF(INDEX(Suscripciones!B8:B507,($B$4-1)*20+7)="","",INDEX(Suscripciones!B8:B507,($B$4-1)*20+7))),"Revisa página") | C14: =IF(AND(ISNUMBER($B$4),$B$4>=1,$B$4<=25,MOD($B$4,1)=0),IF(INDEX(Suscripciones!P8:P507,($B$4-1)*20+7)=0,"",IF(INDEX(Suscripciones!C8:C507,($B$4-1)*20+7)="","",INDEX(Suscripciones!C8:C507,($B$4-1)*20+7))),"Revisa página") | D14: =IF(AND(ISNUMBER($B$4),$B$4>=1,$B$4<=25,MOD($B$4,1)=0),IF(INDEX(Suscripciones!P8:P507,($B$4-1)*20+7)=0,"",IF(INDEX(Suscripciones!D8:D507,($B$4-1)*20+7)="","",INDEX(Suscripciones!D8:D507,($B$4-1)*20+7))),"Revisa página") | E14: =IF(AND(ISNUMBER($B$4),$B$4>=1,$B$4<=25,MOD($B$4,1)=0),IF(INDEX(Suscripciones!P8:P507,($B$4-1)*20+7)=0,"",IF(INDEX(Suscripciones!E8:E507,($B$4-1)*20+7)="","",INDEX(Suscripciones!E8:E507,($B$4-1)*20+7))),"Revisa página") | F14: =IF(AND(ISNUMBER($B$4),$B$4>=1,$B$4<=25,MOD($B$4,1)=0),IF(INDEX(Suscripciones!P8:P507,($B$4-1)*20+7)=0,"",IF(INDEX(Suscripciones!F8:F507,($B$4-1)*20+7)="","",INDEX(Suscripciones!F8:F507,($B$4-1)*20+7))),"Revisa página") | G14: =IF(AND(ISNUMBER($B$4),$B$4>=1,$B$4<=25,MOD($B$4,1)=0),IF(INDEX(Suscripciones!P8:P507,($B$4-1)*20+7)=0,"",IF(INDEX(Suscripciones!H8:H507,($B$4-1)*20+7)="","",INDEX(Suscripciones!H8:H507,($B$4-1)*20+7))),"Revisa página") | H14: =IF(AND(ISNUMBER($B$4),$B$4>=1,$B$4<=25,MOD($B$4,1)=0),IF(INDEX(Suscripciones!P8:P507,($B$4-1)*20+7)=0,"",IF(INDEX(Suscripciones!I8:I507,($B$4-1)*20+7)="","",INDEX(Suscripciones!I8:I507,($B$4-1)*20+7))),"Revisa página") | I14: =IF(AND(ISNUMBER($B$4),$B$4>=1,$B$4<=25,MOD($B$4,1)=0),IF(INDEX(Suscripciones!P8:P507,($B$4-1)*20+7)=0,"",IF(INDEX(Suscripciones!J8:J507,($B$4-1)*20+7)="","",INDEX(Suscripciones!J8:J507,($B$4-1)*20+7))),"Revisa página") | J14: =IF(AND(ISNUMBER($B$4),$B$4>=1,$B$4<=25,MOD($B$4,1)=0),IF(INDEX(Suscripciones!P8:P507,($B$4-1)*20+7)=0,"",IF(INDEX(Suscripciones!K8:K507,($B$4-1)*20+7)="","",INDEX(Suscripciones!K8:K507,($B$4-1)*20+7))),"Revisa página") | K14: =IF(AND(ISNUMBER($B$4),$B$4>=1,$B$4<=25,MOD($B$4,1)=0),IF(INDEX(Suscripciones!P8:P507,($B$4-1)*20+7)=0,"",IF(INDEX(Suscripciones!M8:M507,($B$4-1)*20+7)="","",INDEX(Suscripciones!M8:M507,($B$4-1)*20+7))),"Revisa página") | L14: =IF(AND(ISNUMBER($B$4),$B$4>=1,$B$4<=25,MOD($B$4,1)=0),IF(INDEX(Suscripciones!P8:P507,($B$4-1)*20+7)=0,"",IF(INDEX(Suscripciones!O8:O507,($B$4-1)*20+7)="","",INDEX(Suscripciones!O8:O507,($B$4-1)*20+7))),"Revisa página")
A15: =IF(AND(ISNUMBER($B$4),$B$4>=1,$B$4<=25,MOD($B$4,1)=0),IF(INDEX(Suscripciones!P8:P507,($B$4-1)*20+8)=0,"",IF(INDEX(Suscripciones!A8:A507,($B$4-1)*20+8)="","",INDEX(Suscripciones!A8:A507,($B$4-1)*20+8))),"Revisa página") | B15: =IF(AND(ISNUMBER($B$4),$B$4>=1,$B$4<=25,MOD($B$4,1)=0),IF(INDEX(Suscripciones!P8:P507,($B$4-1)*20+8)=0,"",IF(INDEX(Suscripciones!B8:B507,($B$4-1)*20+8)="","",INDEX(Suscripciones!B8:B507,($B$4-1)*20+8))),"Revisa página") | C15: =IF(AND(ISNUMBER($B$4),$B$4>=1,$B$4<=25,MOD($B$4,1)=0),IF(INDEX(Suscripciones!P8:P507,($B$4-1)*20+8)=0,"",IF(INDEX(Suscripciones!C8:C507,($B$4-1)*20+8)="","",INDEX(Suscripciones!C8:C507,($B$4-1)*20+8))),"Revisa página") | D15: =IF(AND(ISNUMBER($B$4),$B$4>=1,$B$4<=25,MOD($B$4,1)=0),IF(INDEX(Suscripciones!P8:P507,($B$4-1)*20+8)=0,"",IF(INDEX(Suscripciones!D8:D507,($B$4-1)*20+8)="","",INDEX(Suscripciones!D8:D507,($B$4-1)*20+8))),"Revisa página") | E15: =IF(AND(ISNUMBER($B$4),$B$4>=1,$B$4<=25,MOD($B$4,1)=0),IF(INDEX(Suscripciones!P8:P507,($B$4-1)*20+8)=0,"",IF(INDEX(Suscripciones!E8:E507,($B$4-1)*20+8)="","",INDEX(Suscripciones!E8:E507,($B$4-1)*20+8))),"Revisa página") | F15: =IF(AND(ISNUMBER($B$4),$B$4>=1,$B$4<=25,MOD($B$4,1)=0),IF(INDEX(Suscripciones!P8:P507,($B$4-1)*20+8)=0,"",IF(INDEX(Suscripciones!F8:F507,($B$4-1)*20+8)="","",INDEX(Suscripciones!F8:F507,($B$4-1)*20+8))),"Revisa página") | G15: =IF(AND(ISNUMBER($B$4),$B$4>=1,$B$4<=25,MOD($B$4,1)=0),IF(INDEX(Suscripciones!P8:P507,($B$4-1)*20+8)=0,"",IF(INDEX(Suscripciones!H8:H507,($B$4-1)*20+8)="","",INDEX(Suscripciones!H8:H507,($B$4-1)*20+8))),"Revisa página") | H15: =IF(AND(ISNUMBER($B$4),$B$4>=1,$B$4<=25,MOD($B$4,1)=0),IF(INDEX(Suscripciones!P8:P507,($B$4-1)*20+8)=0,"",IF(INDEX(Suscripciones!I8:I507,($B$4-1)*20+8)="","",INDEX(Suscripciones!I8:I507,($B$4-1)*20+8))),"Revisa página") | I15: =IF(AND(ISNUMBER($B$4),$B$4>=1,$B$4<=25,MOD($B$4,1)=0),IF(INDEX(Suscripciones!P8:P507,($B$4-1)*20+8)=0,"",IF(INDEX(Suscripciones!J8:J507,($B$4-1)*20+8)="","",INDEX(Suscripciones!J8:J507,($B$4-1)*20+8))),"Revisa página") | J15: =IF(AND(ISNUMBER($B$4),$B$4>=1,$B$4<=25,MOD($B$4,1)=0),IF(INDEX(Suscripciones!P8:P507,($B$4-1)*20+8)=0,"",IF(INDEX(Suscripciones!K8:K507,($B$4-1)*20+8)="","",INDEX(Suscripciones!K8:K507,($B$4-1)*20+8))),"Revisa página") | K15: =IF(AND(ISNUMBER($B$4),$B$4>=1,$B$4<=25,MOD($B$4,1)=0),IF(INDEX(Suscripciones!P8:P507,($B$4-1)*20+8)=0,"",IF(INDEX(Suscripciones!M8:M507,($B$4-1)*20+8)="","",INDEX(Suscripciones!M8:M507,($B$4-1)*20+8))),"Revisa página") | L15: =IF(AND(ISNUMBER($B$4),$B$4>=1,$B$4<=25,MOD($B$4,1)=0),IF(INDEX(Suscripciones!P8:P507,($B$4-1)*20+8)=0,"",IF(INDEX(Suscripciones!O8:O507,($B$4-1)*20+8)="","",INDEX(Suscripciones!O8:O507,($B$4-1)*20+8))),"Revisa página")
A16: =IF(AND(ISNUMBER($B$4),$B$4>=1,$B$4<=25,MOD($B$4,1)=0),IF(INDEX(Suscripciones!P8:P507,($B$4-1)*20+9)=0,"",IF(INDEX(Suscripciones!A8:A507,($B$4-1)*20+9)="","",INDEX(Suscripciones!A8:A507,($B$4-1)*20+9))),"Revisa página") | B16: =IF(AND(ISNUMBER($B$4),$B$4>=1,$B$4<=25,MOD($B$4,1)=0),IF(INDEX(Suscripciones!P8:P507,($B$4-1)*20+9)=0,"",IF(INDEX(Suscripciones!B8:B507,($B$4-1)*20+9)="","",INDEX(Suscripciones!B8:B507,($B$4-1)*20+9))),"Revisa página") | C16: =IF(AND(ISNUMBER($B$4),$B$4>=1,$B$4<=25,MOD($B$4,1)=0),IF(INDEX(Suscripciones!P8:P507,($B$4-1)*20+9)=0,"",IF(INDEX(Suscripciones!C8:C507,($B$4-1)*20+9)="","",INDEX(Suscripciones!C8:C507,($B$4-1)*20+9))),"Revisa página") | D16: =IF(AND(ISNUMBER($B$4),$B$4>=1,$B$4<=25,MOD($B$4,1)=0),IF(INDEX(Suscripciones!P8:P507,($B$4-1)*20+9)=0,"",IF(INDEX(Suscripciones!D8:D507,($B$4-1)*20+9)="","",INDEX(Suscripciones!D8:D507,($B$4-1)*20+9))),"Revisa página") | E16: =IF(AND(ISNUMBER($B$4),$B$4>=1,$B$4<=25,MOD($B$4,1)=0),IF(INDEX(Suscripciones!P8:P507,($B$4-1)*20+9)=0,"",IF(INDEX(Suscripciones!E8:E507,($B$4-1)*20+9)="","",INDEX(Suscripciones!E8:E507,($B$4-1)*20+9))),"Revisa página") | F16: =IF(AND(ISNUMBER($B$4),$B$4>=1,$B$4<=25,MOD($B$4,1)=0),IF(INDEX(Suscripciones!P8:P507,($B$4-1)*20+9)=0,"",IF(INDEX(Suscripciones!F8:F507,($B$4-1)*20+9)="","",INDEX(Suscripciones!F8:F507,($B$4-1)*20+9))),"Revisa página") | G16: =IF(AND(ISNUMBER($B$4),$B$4>=1,$B$4<=25,MOD($B$4,1)=0),IF(INDEX(Suscripciones!P8:P507,($B$4-1)*20+9)=0,"",IF(INDEX(Suscripciones!H8:H507,($B$4-1)*20+9)="","",INDEX(Suscripciones!H8:H507,($B$4-1)*20+9))),"Revisa página") | H16: =IF(AND(ISNUMBER($B$4),$B$4>=1,$B$4<=25,MOD($B$4,1)=0),IF(INDEX(Suscripciones!P8:P507,($B$4-1)*20+9)=0,"",IF(INDEX(Suscripciones!I8:I507,($B$4-1)*20+9)="","",INDEX(Suscripciones!I8:I507,($B$4-1)*20+9))),"Revisa página") | I16: =IF(AND(ISNUMBER($B$4),$B$4>=1,$B$4<=25,MOD($B$4,1)=0),IF(INDEX(Suscripciones!P8:P507,($B$4-1)*20+9)=0,"",IF(INDEX(Suscripciones!J8:J507,($B$4-1)*20+9)="","",INDEX(Suscripciones!J8:J507,($B$4-1)*20+9))),"Revisa página") | J16: =IF(AND(ISNUMBER($B$4),$B$4>=1,$B$4<=25,MOD($B$4,1)=0),IF(INDEX(Suscripciones!P8:P507,($B$4-1)*20+9)=0,"",IF(INDEX(Suscripciones!K8:K507,($B$4-1)*20+9)="","",INDEX(Suscripciones!K8:K507,($B$4-1)*20+9))),"Revisa página") | K16: =IF(AND(ISNUMBER($B$4),$B$4>=1,$B$4<=25,MOD($B$4,1)=0),IF(INDEX(Suscripciones!P8:P507,($B$4-1)*20+9)=0,"",IF(INDEX(Suscripciones!M8:M507,($B$4-1)*20+9)="","",INDEX(Suscripciones!M8:M507,($B$4-1)*20+9))),"Revisa página") | L16: =IF(AND(ISNUMBER($B$4),$B$4>=1,$B$4<=25,MOD($B$4,1)=0),IF(INDEX(Suscripciones!P8:P507,($B$4-1)*20+9)=0,"",IF(INDEX(Suscripciones!O8:O507,($B$4-1)*20+9)="","",INDEX(Suscripciones!O8:O507,($B$4-1)*20+9))),"Revisa página")
A17: =IF(AND(ISNUMBER($B$4),$B$4>=1,$B$4<=25,MOD($B$4,1)=0),IF(INDEX(Suscripciones!P8:P507,($B$4-1)*20+10)=0,"",IF(INDEX(Suscripciones!A8:A507,($B$4-1)*20+10)="","",INDEX(Suscripciones!A8:A507,($B$4-1)*20+10))),"Revisa página") | B17: =IF(AND(ISNUMBER($B$4),$B$4>=1,$B$4<=25,MOD($B$4,1)=0),IF(INDEX(Suscripciones!P8:P507,($B$4-1)*20+10)=0,"",IF(INDEX(Suscripciones!B8:B507,($B$4-1)*20+10)="","",INDEX(Suscripciones!B8:B507,($B$4-1)*20+10))),"Revisa página") | C17: =IF(AND(ISNUMBER($B$4),$B$4>=1,$B$4<=25,MOD($B$4,1)=0),IF(INDEX(Suscripciones!P8:P507,($B$4-1)*20+10)=0,"",IF(INDEX(Suscripciones!C8:C507,($B$4-1)*20+10)="","",INDEX(Suscripciones!C8:C507,($B$4-1)*20+10))),"Revisa página") | D17: =IF(AND(ISNUMBER($B$4),$B$4>=1,$B$4<=25,MOD($B$4,1)=0),IF(INDEX(Suscripciones!P8:P507,($B$4-1)*20+10)=0,"",IF(INDEX(Suscripciones!D8:D507,($B$4-1)*20+10)="","",INDEX(Suscripciones!D8:D507,($B$4-1)*20+10))),"Revisa página") | E17: =IF(AND(ISNUMBER($B$4),$B$4>=1,$B$4<=25,MOD($B$4,1)=0),IF(INDEX(Suscripciones!P8:P507,($B$4-1)*20+10)=0,"",IF(INDEX(Suscripciones!E8:E507,($B$4-1)*20+10)="","",INDEX(Suscripciones!E8:E507,($B$4-1)*20+10))),"Revisa página") | F17: =IF(AND(ISNUMBER($B$4),$B$4>=1,$B$4<=25,MOD($B$4,1)=0),IF(INDEX(Suscripciones!P8:P507,($B$4-1)*20+10)=0,"",IF(INDEX(Suscripciones!F8:F507,($B$4-1)*20+10)="","",INDEX(Suscripciones!F8:F507,($B$4-1)*20+10))),"Revisa página") | G17: =IF(AND(ISNUMBER($B$4),$B$4>=1,$B$4<=25,MOD($B$4,1)=0),IF(INDEX(Suscripciones!P8:P507,($B$4-1)*20+10)=0,"",IF(INDEX(Suscripciones!H8:H507,($B$4-1)*20+10)="","",INDEX(Suscripciones!H8:H507,($B$4-1)*20+10))),"Revisa página") | H17: =IF(AND(ISNUMBER($B$4),$B$4>=1,$B$4<=25,MOD($B$4,1)=0),IF(INDEX(Suscripciones!P8:P507,($B$4-1)*20+10)=0,"",IF(INDEX(Suscripciones!I8:I507,($B$4-1)*20+10)="","",INDEX(Suscripciones!I8:I507,($B$4-1)*20+10))),"Revisa página") | I17: =IF(AND(ISNUMBER($B$4),$B$4>=1,$B$4<=25,MOD($B$4,1)=0),IF(INDEX(Suscripciones!P8:P507,($B$4-1)*20+10)=0,"",IF(INDEX(Suscripciones!J8:J507,($B$4-1)*20+10)="","",INDEX(Suscripciones!J8:J507,($B$4-1)*20+10))),"Revisa página") | J17: =IF(AND(ISNUMBER($B$4),$B$4>=1,$B$4<=25,MOD($B$4,1)=0),IF(INDEX(Suscripciones!P8:P507,($B$4-1)*20+10)=0,"",IF(INDEX(Suscripciones!K8:K507,($B$4-1)*20+10)="","",INDEX(Suscripciones!K8:K507,($B$4-1)*20+10))),"Revisa página") | K17: =IF(AND(ISNUMBER($B$4),$B$4>=1,$B$4<=25,MOD($B$4,1)=0),IF(INDEX(Suscripciones!P8:P507,($B$4-1)*20+10)=0,"",IF(INDEX(Suscripciones!M8:M507,($B$4-1)*20+10)="","",INDEX(Suscripciones!M8:M507,($B$4-1)*20+10))),"Revisa página") | L17: =IF(AND(ISNUMBER($B$4),$B$4>=1,$B$4<=25,MOD($B$4,1)=0),IF(INDEX(Suscripciones!P8:P507,($B$4-1)*20+10)=0,"",IF(INDEX(Suscripciones!O8:O507,($B$4-1)*20+10)="","",INDEX(Suscripciones!O8:O507,($B$4-1)*20+10))),"Revisa página")
A18: =IF(AND(ISNUMBER($B$4),$B$4>=1,$B$4<=25,MOD($B$4,1)=0),IF(INDEX(Suscripciones!P8:P507,($B$4-1)*20+11)=0,"",IF(INDEX(Suscripciones!A8:A507,($B$4-1)*20+11)="","",INDEX(Suscripciones!A8:A507,($B$4-1)*20+11))),"Revisa página") | B18: =IF(AND(ISNUMBER($B$4),$B$4>=1,$B$4<=25,MOD($B$4,1)=0),IF(INDEX(Suscripciones!P8:P507,($B$4-1)*20+11)=0,"",IF(INDEX(Suscripciones!B8:B507,($B$4-1)*20+11)="","",INDEX(Suscripciones!B8:B507,($B$4-1)*20+11))),"Revisa página") | C18: =IF(AND(ISNUMBER($B$4),$B$4>=1,$B$4<=25,MOD($B$4,1)=0),IF(INDEX(Suscripciones!P8:P507,($B$4-1)*20+11)=0,"",IF(INDEX(Suscripciones!C8:C507,($B$4-1)*20+11)="","",INDEX(Suscripciones!C8:C507,($B$4-1)*20+11))),"Revisa página") | D18: =IF(AND(ISNUMBER($B$4),$B$4>=1,$B$4<=25,MOD($B$4,1)=0),IF(INDEX(Suscripciones!P8:P507,($B$4-1)*20+11)=0,"",IF(INDEX(Suscripciones!D8:D507,($B$4-1)*20+11)="","",INDEX(Suscripciones!D8:D507,($B$4-1)*20+11))),"Revisa página") | E18: =IF(AND(ISNUMBER($B$4),$B$4>=1,$B$4<=25,MOD($B$4,1)=0),IF(INDEX(Suscripciones!P8:P507,($B$4-1)*20+11)=0,"",IF(INDEX(Suscripciones!E8:E507,($B$4-1)*20+11)="","",INDEX(Suscripciones!E8:E507,($B$4-1)*20+11))),"Revisa página") | F18: =IF(AND(ISNUMBER($B$4),$B$4>=1,$B$4<=25,MOD($B$4,1)=0),IF(INDEX(Suscripciones!P8:P507,($B$4-1)*20+11)=0,"",IF(INDEX(Suscripciones!F8:F507,($B$4-1)*20+11)="","",INDEX(Suscripciones!F8:F507,($B$4-1)*20+11))),"Revisa página") | G18: =IF(AND(ISNUMBER($B$4),$B$4>=1,$B$4<=25,MOD($B$4,1)=0),IF(INDEX(Suscripciones!P8:P507,($B$4-1)*20+11)=0,"",IF(INDEX(Suscripciones!H8:H507,($B$4-1)*20+11)="","",INDEX(Suscripciones!H8:H507,($B$4-1)*20+11))),"Revisa página") | H18: =IF(AND(ISNUMBER($B$4),$B$4>=1,$B$4<=25,MOD($B$4,1)=0),IF(INDEX(Suscripciones!P8:P507,($B$4-1)*20+11)=0,"",IF(INDEX(Suscripciones!I8:I507,($B$4-1)*20+11)="","",INDEX(Suscripciones!I8:I507,($B$4-1)*20+11))),"Revisa página") | I18: =IF(AND(ISNUMBER($B$4),$B$4>=1,$B$4<=25,MOD($B$4,1)=0),IF(INDEX(Suscripciones!P8:P507,($B$4-1)*20+11)=0,"",IF(INDEX(Suscripciones!J8:J507,($B$4-1)*20+11)="","",INDEX(Suscripciones!J8:J507,($B$4-1)*20+11))),"Revisa página") | J18: =IF(AND(ISNUMBER($B$4),$B$4>=1,$B$4<=25,MOD($B$4,1)=0),IF(INDEX(Suscripciones!P8:P507,($B$4-1)*20+11)=0,"",IF(INDEX(Suscripciones!K8:K507,($B$4-1)*20+11)="","",INDEX(Suscripciones!K8:K507,($B$4-1)*20+11))),"Revisa página") | K18: =IF(AND(ISNUMBER($B$4),$B$4>=1,$B$4<=25,MOD($B$4,1)=0),IF(INDEX(Suscripciones!P8:P507,($B$4-1)*20+11)=0,"",IF(INDEX(Suscripciones!M8:M507,($B$4-1)*20+11)="","",INDEX(Suscripciones!M8:M507,($B$4-1)*20+11))),"Revisa página") | L18: =IF(AND(ISNUMBER($B$4),$B$4>=1,$B$4<=25,MOD($B$4,1)=0),IF(INDEX(Suscripciones!P8:P507,($B$4-1)*20+11)=0,"",IF(INDEX(Suscripciones!O8:O507,($B$4-1)*20+11)="","",INDEX(Suscripciones!O8:O507,($B$4-1)*20+11))),"Revisa página")
A19: =IF(AND(ISNUMBER($B$4),$B$4>=1,$B$4<=25,MOD($B$4,1)=0),IF(INDEX(Suscripciones!P8:P507,($B$4-1)*20+12)=0,"",IF(INDEX(Suscripciones!A8:A507,($B$4-1)*20+12)="","",INDEX(Suscripciones!A8:A507,($B$4-1)*20+12))),"Revisa página") | B19: =IF(AND(ISNUMBER($B$4),$B$4>=1,$B$4<=25,MOD($B$4,1)=0),IF(INDEX(Suscripciones!P8:P507,($B$4-1)*20+12)=0,"",IF(INDEX(Suscripciones!B8:B507,($B$4-1)*20+12)="","",INDEX(Suscripciones!B8:B507,($B$4-1)*20+12))),"Revisa página") | C19: =IF(AND(ISNUMBER($B$4),$B$4>=1,$B$4<=25,MOD($B$4,1)=0),IF(INDEX(Suscripciones!P8:P507,($B$4-1)*20+12)=0,"",IF(INDEX(Suscripciones!C8:C507,($B$4-1)*20+12)="","",INDEX(Suscripciones!C8:C507,($B$4-1)*20+12))),"Revisa página") | D19: =IF(AND(ISNUMBER($B$4),$B$4>=1,$B$4<=25,MOD($B$4,1)=0),IF(INDEX(Suscripciones!P8:P507,($B$4-1)*20+12)=0,"",IF(INDEX(Suscripciones!D8:D507,($B$4-1)*20+12)="","",INDEX(Suscripciones!D8:D507,($B$4-1)*20+12))),"Revisa página") | E19: =IF(AND(ISNUMBER($B$4),$B$4>=1,$B$4<=25,MOD($B$4,1)=0),IF(INDEX(Suscripciones!P8:P507,($B$4-1)*20+12)=0,"",IF(INDEX(Suscripciones!E8:E507,($B$4-1)*20+12)="","",INDEX(Suscripciones!E8:E507,($B$4-1)*20+12))),"Revisa página") | F19: =IF(AND(ISNUMBER($B$4),$B$4>=1,$B$4<=25,MOD($B$4,1)=0),IF(INDEX(Suscripciones!P8:P507,($B$4-1)*20+12)=0,"",IF(INDEX(Suscripciones!F8:F507,($B$4-1)*20+12)="","",INDEX(Suscripciones!F8:F507,($B$4-1)*20+12))),"Revisa página") | G19: =IF(AND(ISNUMBER($B$4),$B$4>=1,$B$4<=25,MOD($B$4,1)=0),IF(INDEX(Suscripciones!P8:P507,($B$4-1)*20+12)=0,"",IF(INDEX(Suscripciones!H8:H507,($B$4-1)*20+12)="","",INDEX(Suscripciones!H8:H507,($B$4-1)*20+12))),"Revisa página") | H19: =IF(AND(ISNUMBER($B$4),$B$4>=1,$B$4<=25,MOD($B$4,1)=0),IF(INDEX(Suscripciones!P8:P507,($B$4-1)*20+12)=0,"",IF(INDEX(Suscripciones!I8:I507,($B$4-1)*20+12)="","",INDEX(Suscripciones!I8:I507,($B$4-1)*20+12))),"Revisa página") | I19: =IF(AND(ISNUMBER($B$4),$B$4>=1,$B$4<=25,MOD($B$4,1)=0),IF(INDEX(Suscripciones!P8:P507,($B$4-1)*20+12)=0,"",IF(INDEX(Suscripciones!J8:J507,($B$4-1)*20+12)="","",INDEX(Suscripciones!J8:J507,($B$4-1)*20+12))),"Revisa página") | J19: =IF(AND(ISNUMBER($B$4),$B$4>=1,$B$4<=25,MOD($B$4,1)=0),IF(INDEX(Suscripciones!P8:P507,($B$4-1)*20+12)=0,"",IF(INDEX(Suscripciones!K8:K507,($B$4-1)*20+12)="","",INDEX(Suscripciones!K8:K507,($B$4-1)*20+12))),"Revisa página") | K19: =IF(AND(ISNUMBER($B$4),$B$4>=1,$B$4<=25,MOD($B$4,1)=0),IF(INDEX(Suscripciones!P8:P507,($B$4-1)*20+12)=0,"",IF(INDEX(Suscripciones!M8:M507,($B$4-1)*20+12)="","",INDEX(Suscripciones!M8:M507,($B$4-1)*20+12))),"Revisa página") | L19: =IF(AND(ISNUMBER($B$4),$B$4>=1,$B$4<=25,MOD($B$4,1)=0),IF(INDEX(Suscripciones!P8:P507,($B$4-1)*20+12)=0,"",IF(INDEX(Suscripciones!O8:O507,($B$4-1)*20+12)="","",INDEX(Suscripciones!O8:O507,($B$4-1)*20+12))),"Revisa página")
A20: =IF(AND(ISNUMBER($B$4),$B$4>=1,$B$4<=25,MOD($B$4,1)=0),IF(INDEX(Suscripciones!P8:P507,($B$4-1)*20+13)=0,"",IF(INDEX(Suscripciones!A8:A507,($B$4-1)*20+13)="","",INDEX(Suscripciones!A8:A507,($B$4-1)*20+13))),"Revisa página") | B20: =IF(AND(ISNUMBER($B$4),$B$4>=1,$B$4<=25,MOD($B$4,1)=0),IF(INDEX(Suscripciones!P8:P507,($B$4-1)*20+13)=0,"",IF(INDEX(Suscripciones!B8:B507,($B$4-1)*20+13)="","",INDEX(Suscripciones!B8:B507,($B$4-1)*20+13))),"Revisa página") | C20: =IF(AND(ISNUMBER($B$4),$B$4>=1,$B$4<=25,MOD($B$4,1)=0),IF(INDEX(Suscripciones!P8:P507,($B$4-1)*20+13)=0,"",IF(INDEX(Suscripciones!C8:C507,($B$4-1)*20+13)="","",INDEX(Suscripciones!C8:C507,($B$4-1)*20+13))),"Revisa página") | D20: =IF(AND(ISNUMBER($B$4),$B$4>=1,$B$4<=25,MOD($B$4,1)=0),IF(INDEX(Suscripciones!P8:P507,($B$4-1)*20+13)=0,"",IF(INDEX(Suscripciones!D8:D507,($B$4-1)*20+13)="","",INDEX(Suscripciones!D8:D507,($B$4-1)*20+13))),"Revisa página") | E20: =IF(AND(ISNUMBER($B$4),$B$4>=1,$B$4<=25,MOD($B$4,1)=0),IF(INDEX(Suscripciones!P8:P507,($B$4-1)*20+13)=0,"",IF(INDEX(Suscripciones!E8:E507,($B$4-1)*20+13)="","",INDEX(Suscripciones!E8:E507,($B$4-1)*20+13))),"Revisa página") | F20: =IF(AND(ISNUMBER($B$4),$B$4>=1,$B$4<=25,MOD($B$4,1)=0),IF(INDEX(Suscripciones!P8:P507,($B$4-1)*20+13)=0,"",IF(INDEX(Suscripciones!F8:F507,($B$4-1)*20+13)="","",INDEX(Suscripciones!F8:F507,($B$4-1)*20+13))),"Revisa página") | G20: =IF(AND(ISNUMBER($B$4),$B$4>=1,$B$4<=25,MOD($B$4,1)=0),IF(INDEX(Suscripciones!P8:P507,($B$4-1)*20+13)=0,"",IF(INDEX(Suscripciones!H8:H507,($B$4-1)*20+13)="","",INDEX(Suscripciones!H8:H507,($B$4-1)*20+13))),"Revisa página") | H20: =IF(AND(ISNUMBER($B$4),$B$4>=1,$B$4<=25,MOD($B$4,1)=0),IF(INDEX(Suscripciones!P8:P507,($B$4-1)*20+13)=0,"",IF(INDEX(Suscripciones!I8:I507,($B$4-1)*20+13)="","",INDEX(Suscripciones!I8:I507,($B$4-1)*20+13))),"Revisa página") | I20: =IF(AND(ISNUMBER($B$4),$B$4>=1,$B$4<=25,MOD($B$4,1)=0),IF(INDEX(Suscripciones!P8:P507,($B$4-1)*20+13)=0,"",IF(INDEX(Suscripciones!J8:J507,($B$4-1)*20+13)="","",INDEX(Suscripciones!J8:J507,($B$4-1)*20+13))),"Revisa página") | J20: =IF(AND(ISNUMBER($B$4),$B$4>=1,$B$4<=25,MOD($B$4,1)=0),IF(INDEX(Suscripciones!P8:P507,($B$4-1)*20+13)=0,"",IF(INDEX(Suscripciones!K8:K507,($B$4-1)*20+13)="","",INDEX(Suscripciones!K8:K507,($B$4-1)*20+13))),"Revisa página") | K20: =IF(AND(ISNUMBER($B$4),$B$4>=1,$B$4<=25,MOD($B$4,1)=0),IF(INDEX(Suscripciones!P8:P507,($B$4-1)*20+13)=0,"",IF(INDEX(Suscripciones!M8:M507,($B$4-1)*20+13)="","",INDEX(Suscripciones!M8:M507,($B$4-1)*20+13))),"Revisa página") | L20: =IF(AND(ISNUMBER($B$4),$B$4>=1,$B$4<=25,MOD($B$4,1)=0),IF(INDEX(Suscripciones!P8:P507,($B$4-1)*20+13)=0,"",IF(INDEX(Suscripciones!O8:O507,($B$4-1)*20+13)="","",INDEX(Suscripciones!O8:O507,($B$4-1)*20+13))),"Revisa página")
A21: =IF(AND(ISNUMBER($B$4),$B$4>=1,$B$4<=25,MOD($B$4,1)=0),IF(INDEX(Suscripciones!P8:P507,($B$4-1)*20+14)=0,"",IF(INDEX(Suscripciones!A8:A507,($B$4-1)*20+14)="","",INDEX(Suscripciones!A8:A507,($B$4-1)*20+14))),"Revisa página") | B21: =IF(AND(ISNUMBER($B$4),$B$4>=1,$B$4<=25,MOD($B$4,1)=0),IF(INDEX(Suscripciones!P8:P507,($B$4-1)*20+14)=0,"",IF(INDEX(Suscripciones!B8:B507,($B$4-1)*20+14)="","",INDEX(Suscripciones!B8:B507,($B$4-1)*20+14))),"Revisa página") | C21: =IF(AND(ISNUMBER($B$4),$B$4>=1,$B$4<=25,MOD($B$4,1)=0),IF(INDEX(Suscripciones!P8:P507,($B$4-1)*20+14)=0,"",IF(INDEX(Suscripciones!C8:C507,($B$4-1)*20+14)="","",INDEX(Suscripciones!C8:C507,($B$4-1)*20+14))),"Revisa página") | D21: =IF(AND(ISNUMBER($B$4),$B$4>=1,$B$4<=25,MOD($B$4,1)=0),IF(INDEX(Suscripciones!P8:P507,($B$4-1)*20+14)=0,"",IF(INDEX(Suscripciones!D8:D507,($B$4-1)*20+14)="","",INDEX(Suscripciones!D8:D507,($B$4-1)*20+14))),"Revisa página") | E21: =IF(AND(ISNUMBER($B$4),$B$4>=1,$B$4<=25,MOD($B$4,1)=0),IF(INDEX(Suscripciones!P8:P507,($B$4-1)*20+14)=0,"",IF(INDEX(Suscripciones!E8:E507,($B$4-1)*20+14)="","",INDEX(Suscripciones!E8:E507,($B$4-1)*20+14))),"Revisa página") | F21: =IF(AND(ISNUMBER($B$4),$B$4>=1,$B$4<=25,MOD($B$4,1)=0),IF(INDEX(Suscripciones!P8:P507,($B$4-1)*20+14)=0,"",IF(INDEX(Suscripciones!F8:F507,($B$4-1)*20+14)="","",INDEX(Suscripciones!F8:F507,($B$4-1)*20+14))),"Revisa página") | G21: =IF(AND(ISNUMBER($B$4),$B$4>=1,$B$4<=25,MOD($B$4,1)=0),IF(INDEX(Suscripciones!P8:P507,($B$4-1)*20+14)=0,"",IF(INDEX(Suscripciones!H8:H507,($B$4-1)*20+14)="","",INDEX(Suscripciones!H8:H507,($B$4-1)*20+14))),"Revisa página") | H21: =IF(AND(ISNUMBER($B$4),$B$4>=1,$B$4<=25,MOD($B$4,1)=0),IF(INDEX(Suscripciones!P8:P507,($B$4-1)*20+14)=0,"",IF(INDEX(Suscripciones!I8:I507,($B$4-1)*20+14)="","",INDEX(Suscripciones!I8:I507,($B$4-1)*20+14))),"Revisa página") | I21: =IF(AND(ISNUMBER($B$4),$B$4>=1,$B$4<=25,MOD($B$4,1)=0),IF(INDEX(Suscripciones!P8:P507,($B$4-1)*20+14)=0,"",IF(INDEX(Suscripciones!J8:J507,($B$4-1)*20+14)="","",INDEX(Suscripciones!J8:J507,($B$4-1)*20+14))),"Revisa página") | J21: =IF(AND(ISNUMBER($B$4),$B$4>=1,$B$4<=25,MOD($B$4,1)=0),IF(INDEX(Suscripciones!P8:P507,($B$4-1)*20+14)=0,"",IF(INDEX(Suscripciones!K8:K507,($B$4-1)*20+14)="","",INDEX(Suscripciones!K8:K507,($B$4-1)*20+14))),"Revisa página") | K21: =IF(AND(ISNUMBER($B$4),$B$4>=1,$B$4<=25,MOD($B$4,1)=0),IF(INDEX(Suscripciones!P8:P507,($B$4-1)*20+14)=0,"",IF(INDEX(Suscripciones!M8:M507,($B$4-1)*20+14)="","",INDEX(Suscripciones!M8:M507,($B$4-1)*20+14))),"Revisa página") | L21: =IF(AND(ISNUMBER($B$4),$B$4>=1,$B$4<=25,MOD($B$4,1)=0),IF(INDEX(Suscripciones!P8:P507,($B$4-1)*20+14)=0,"",IF(INDEX(Suscripciones!O8:O507,($B$4-1)*20+14)="","",INDEX(Suscripciones!O8:O507,($B$4-1)*20+14))),"Revisa página")
