Workbook

Sheet Presupuesto
A2: Tu primer presupuesto con fórmulas
A4: Moneda | B4: EUR | D4: Mes | E4: 46296
H5: Sueldo
A6: Empieza por las entradas con fondo azul. Importes en la moneda elegida. | H6: =A18 -> Vivienda
H7: =A19 -> Alimentación
A8: Ingresos previstos | B8: =SUMIFS(Registro!E8:E507,Registro!B8:B507,"Ingreso",Registro!G8:G507,"Correcto") -> 0 | D8: Saldo inicial | H8: =A20 -> Transporte
A9: Gastos previstos | B9: =SUMIFS(Registro!E8:E507,Registro!B8:B507,"Gasto",Registro!G8:G507,"Correcto") -> 0 | H9: =A21 -> Otros
A10: Saldo previsto | B10: =B8-B9 -> 0 | D10: Caja tras movimientos | E10: =IF(ISNUMBER(E8),E8+B13,"n.a.") -> n.a. | H10: =A22 -> Suministros
A11: Ingresos registrados | B11: =SUMIFS(Registro!F8:F507,Registro!B8:B507,"Ingreso",Registro!G8:G507,"Correcto") -> 0 | H11: =A23 -> Ocio
A12: Gastos registrados | B12: =SUMIFS(Registro!F8:F507,Registro!B8:B507,"Gasto",Registro!G8:G507,"Correcto") -> 0 | D12: Fuera del periodo | E12: =COUNTIFS(Registro!G8:G507,"Fuera*") -> 0 | H12: =A24 -> Salud
A13: Saldo registrado | B13: =B11-B12 -> 0 | H13: =A25 -> Educación
A14: Filas que revisar | B14: =COUNTIFS(Registro!G8:G507,"REVISAR*")+COUNTIFS(Registro!H8:H507,"REVISAR*") -> 0
A17: Categoría editable | B17: Previsto | C17: Real | D17: Desviación
A18: Vivienda | B18: =IF(COUNTIFS(A$18:A$25,A18)=1,SUMIFS(Registro!E8:E507,Registro!C8:C507,A18,Registro!B8:B507,"Gasto",Registro!G8:G507,"Correcto"),0) -> 0 | C18: =IF(COUNTIFS(A$18:A$25,A18)=1,SUMIFS(Registro!F8:F507,Registro!C8:C507,A18,Registro!B8:B507,"Gasto",Registro!G8:G507,"Correcto"),0) -> 0 | D18: =C18-B18 -> 0
A19: Alimentación | B19: =IF(COUNTIFS(A$18:A$25,A19)=1,SUMIFS(Registro!E8:E507,Registro!C8:C507,A19,Registro!B8:B507,"Gasto",Registro!G8:G507,"Correcto"),0) -> 0 | C19: =IF(COUNTIFS(A$18:A$25,A19)=1,SUMIFS(Registro!F8:F507,Registro!C8:C507,A19,Registro!B8:B507,"Gasto",Registro!G8:G507,"Correcto"),0) -> 0 | D19: =C19-B19 -> 0
A20: Transporte | B20: =IF(COUNTIFS(A$18:A$25,A20)=1,SUMIFS(Registro!E8:E507,Registro!C8:C507,A20,Registro!B8:B507,"Gasto",Registro!G8:G507,"Correcto"),0) -> 0 | C20: =IF(COUNTIFS(A$18:A$25,A20)=1,SUMIFS(Registro!F8:F507,Registro!C8:C507,A20,Registro!B8:B507,"Gasto",Registro!G8:G507,"Correcto"),0) -> 0 | D20: =C20-B20 -> 0
A21: Otros | B21: =IF(COUNTIFS(A$18:A$25,A21)=1,SUMIFS(Registro!E8:E507,Registro!C8:C507,A21,Registro!B8:B507,"Gasto",Registro!G8:G507,"Correcto"),0) -> 0 | C21: =IF(COUNTIFS(A$18:A$25,A21)=1,SUMIFS(Registro!F8:F507,Registro!C8:C507,A21,Registro!B8:B507,"Gasto",Registro!G8:G507,"Correcto"),0) -> 0 | D21: =C21-B21 -> 0
A22: Suministros | B22: =IF(COUNTIFS(A$18:A$25,A22)=1,SUMIFS(Registro!E8:E507,Registro!C8:C507,A22,Registro!B8:B507,"Gasto",Registro!G8:G507,"Correcto"),0) -> 0 | C22: =IF(COUNTIFS(A$18:A$25,A22)=1,SUMIFS(Registro!F8:F507,Registro!C8:C507,A22,Registro!B8:B507,"Gasto",Registro!G8:G507,"Correcto"),0) -> 0 | D22: =C22-B22 -> 0
A23: Ocio | B23: =IF(COUNTIFS(A$18:A$25,A23)=1,SUMIFS(Registro!E8:E507,Registro!C8:C507,A23,Registro!B8:B507,"Gasto",Registro!G8:G507,"Correcto"),0) -> 0 | C23: =IF(COUNTIFS(A$18:A$25,A23)=1,SUMIFS(Registro!F8:F507,Registro!C8:C507,A23,Registro!B8:B507,"Gasto",Registro!G8:G507,"Correcto"),0) -> 0 | D23: =C23-B23 -> 0
A24: Salud | B24: =IF(COUNTIFS(A$18:A$25,A24)=1,SUMIFS(Registro!E8:E507,Registro!C8:C507,A24,Registro!B8:B507,"Gasto",Registro!G8:G507,"Correcto"),0) -> 0 | C24: =IF(COUNTIFS(A$18:A$25,A24)=1,SUMIFS(Registro!F8:F507,Registro!C8:C507,A24,Registro!B8:B507,"Gasto",Registro!G8:G507,"Correcto"),0) -> 0 | D24: =C24-B24 -> 0
A25: Educación | B25: =IF(COUNTIFS(A$18:A$25,A25)=1,SUMIFS(Registro!E8:E507,Registro!C8:C507,A25,Registro!B8:B507,"Gasto",Registro!G8:G507,"Correcto"),0) -> 0 | C25: =IF(COUNTIFS(A$18:A$25,A25)=1,SUMIFS(Registro!F8:F507,Registro!C8:C507,A25,Registro!B8:B507,"Gasto",Registro!G8:G507,"Correcto"),0) -> 0 | D25: =C25-B25 -> 0
A26: Sin clasificar / duplicado | B26: =B9-SUM(B18:B25) -> 0 | C26: =B12-SUM(C18:C25) -> 0 | D26: =C26-B26 -> 0

Sheet Registro
A2: Datos del ejercicio de presupuesto
A5: 500 filas editables. Para imprimir los movimientos, usa la hoja Imprimir y su selector de página.
A7: Fecha | B7: Tipo | C7: Categoría | D7: Concepto | E7: Previsto | F7: Real | G7: Control | H7: Clasificación | I7: Última fila usada
G8: =IF(COUNTA(A8:F8)=0,"",IF(OR(NOT(ISNUMBER(A8)),AND(B8<>"Ingreso",B8<>"Gasto"),C8="",D8="",AND(E8<>"",NOT(ISNUMBER(E8))),AND(F8<>"",NOT(ISNUMBER(F8)))),"REVISAR datos",IF(OR(A8<DATE(YEAR(Presupuesto!E4),MONTH(Presupuesto!E4),1),A8>=EDATE(DATE(YEAR(Presupuesto!E4),MONTH(Presupuesto!E4),1),1)),"Fuera de mes","Correcto"))) | H8: =IF(COUNTA(A8:F8)=0,"",IF(B8="Ingreso","Ingreso",IF(COUNTIFS(Presupuesto!A18:A25,C8)=1,"Clasificado","REVISAR categoría"))) | I8: =IF(COUNTA(A8:F8)>0,ROW(),0) -> 0
G9: =IF(COUNTA(A9:F9)=0,"",IF(OR(NOT(ISNUMBER(A9)),AND(B9<>"Ingreso",B9<>"Gasto"),C9="",D9="",AND(E9<>"",NOT(ISNUMBER(E9))),AND(F9<>"",NOT(ISNUMBER(F9)))),"REVISAR datos",IF(OR(A9<DATE(YEAR(Presupuesto!E4),MONTH(Presupuesto!E4),1),A9>=EDATE(DATE(YEAR(Presupuesto!E4),MONTH(Presupuesto!E4),1),1)),"Fuera de mes","Correcto"))) | H9: =IF(COUNTA(A9:F9)=0,"",IF(B9="Ingreso","Ingreso",IF(COUNTIFS(Presupuesto!A18:A25,C9)=1,"Clasificado","REVISAR categoría"))) | I9: =IF(COUNTA(A9:F9)>0,ROW(),0) -> 0
G10: =IF(COUNTA(A10:F10)=0,"",IF(OR(NOT(ISNUMBER(A10)),AND(B10<>"Ingreso",B10<>"Gasto"),C10="",D10="",AND(E10<>"",NOT(ISNUMBER(E10))),AND(F10<>"",NOT(ISNUMBER(F10)))),"REVISAR datos",IF(OR(A10<DATE(YEAR(Presupuesto!E4),MONTH(Presupuesto!E4),1),A10>=EDATE(DATE(YEAR(Presupuesto!E4),MONTH(Presupuesto!E4),1),1)),"Fuera de mes","Correcto"))) | H10: =IF(COUNTA(A10:F10)=0,"",IF(B10="Ingreso","Ingreso",IF(COUNTIFS(Presupuesto!A18:A25,C10)=1,"Clasificado","REVISAR categoría"))) | I10: =IF(COUNTA(A10:F10)>0,ROW(),0) -> 0
G11: =IF(COUNTA(A11:F11)=0,"",IF(OR(NOT(ISNUMBER(A11)),AND(B11<>"Ingreso",B11<>"Gasto"),C11="",D11="",AND(E11<>"",NOT(ISNUMBER(E11))),AND(F11<>"",NOT(ISNUMBER(F11)))),"REVISAR datos",IF(OR(A11<DATE(YEAR(Presupuesto!E4),MONTH(Presupuesto!E4),1),A11>=EDATE(DATE(YEAR(Presupuesto!E4),MONTH(Presupuesto!E4),1),1)),"Fuera de mes","Correcto"))) | H11: =IF(COUNTA(A11:F11)=0,"",IF(B11="Ingreso","Ingreso",IF(COUNTIFS(Presupuesto!A18:A25,C11)=1,"Clasificado","REVISAR categoría"))) | I11: =IF(COUNTA(A11:F11)>0,ROW(),0) -> 0
G12: =IF(COUNTA(A12:F12)=0,"",IF(OR(NOT(ISNUMBER(A12)),AND(B12<>"Ingreso",B12<>"Gasto"),C12="",D12="",AND(E12<>"",NOT(ISNUMBER(E12))),AND(F12<>"",NOT(ISNUMBER(F12)))),"REVISAR datos",IF(OR(A12<DATE(YEAR(Presupuesto!E4),MONTH(Presupuesto!E4),1),A12>=EDATE(DATE(YEAR(Presupuesto!E4),MONTH(Presupuesto!E4),1),1)),"Fuera de mes","Correcto"))) | H12: =IF(COUNTA(A12:F12)=0,"",IF(B12="Ingreso","Ingreso",IF(COUNTIFS(Presupuesto!A18:A25,C12)=1,"Clasificado","REVISAR categoría"))) | I12: =IF(COUNTA(A12:F12)>0,ROW(),0) -> 0
G13: =IF(COUNTA(A13:F13)=0,"",IF(OR(NOT(ISNUMBER(A13)),AND(B13<>"Ingreso",B13<>"Gasto"),C13="",D13="",AND(E13<>"",NOT(ISNUMBER(E13))),AND(F13<>"",NOT(ISNUMBER(F13)))),"REVISAR datos",IF(OR(A13<DATE(YEAR(Presupuesto!E4),MONTH(Presupuesto!E4),1),A13>=EDATE(DATE(YEAR(Presupuesto!E4),MONTH(Presupuesto!E4),1),1)),"Fuera de mes","Correcto"))) | H13: =IF(COUNTA(A13:F13)=0,"",IF(B13="Ingreso","Ingreso",IF(COUNTIFS(Presupuesto!A18:A25,C13)=1,"Clasificado","REVISAR categoría"))) | I13: =IF(COUNTA(A13:F13)>0,ROW(),0) -> 0
G14: =IF(COUNTA(A14:F14)=0,"",IF(OR(NOT(ISNUMBER(A14)),AND(B14<>"Ingreso",B14<>"Gasto"),C14="",D14="",AND(E14<>"",NOT(ISNUMBER(E14))),AND(F14<>"",NOT(ISNUMBER(F14)))),"REVISAR datos",IF(OR(A14<DATE(YEAR(Presupuesto!E4),MONTH(Presupuesto!E4),1),A14>=EDATE(DATE(YEAR(Presupuesto!E4),MONTH(Presupuesto!E4),1),1)),"Fuera de mes","Correcto"))) | H14: =IF(COUNTA(A14:F14)=0,"",IF(B14="Ingreso","Ingreso",IF(COUNTIFS(Presupuesto!A18:A25,C14)=1,"Clasificado","REVISAR categoría"))) | I14: =IF(COUNTA(A14:F14)>0,ROW(),0) -> 0
G15: =IF(COUNTA(A15:F15)=0,"",IF(OR(NOT(ISNUMBER(A15)),AND(B15<>"Ingreso",B15<>"Gasto"),C15="",D15="",AND(E15<>"",NOT(ISNUMBER(E15))),AND(F15<>"",NOT(ISNUMBER(F15)))),"REVISAR datos",IF(OR(A15<DATE(YEAR(Presupuesto!E4),MONTH(Presupuesto!E4),1),A15>=EDATE(DATE(YEAR(Presupuesto!E4),MONTH(Presupuesto!E4),1),1)),"Fuera de mes","Correcto"))) | H15: =IF(COUNTA(A15:F15)=0,"",IF(B15="Ingreso","Ingreso",IF(COUNTIFS(Presupuesto!A18:A25,C15)=1,"Clasificado","REVISAR categoría"))) | I15: =IF(COUNTA(A15:F15)>0,ROW(),0) -> 0
G16: =IF(COUNTA(A16:F16)=0,"",IF(OR(NOT(ISNUMBER(A16)),AND(B16<>"Ingreso",B16<>"Gasto"),C16="",D16="",AND(E16<>"",NOT(ISNUMBER(E16))),AND(F16<>"",NOT(ISNUMBER(F16)))),"REVISAR datos",IF(OR(A16<DATE(YEAR(Presupuesto!E4),MONTH(Presupuesto!E4),1),A16>=EDATE(DATE(YEAR(Presupuesto!E4),MONTH(Presupuesto!E4),1),1)),"Fuera de mes","Correcto"))) | H16: =IF(COUNTA(A16:F16)=0,"",IF(B16="Ingreso","Ingreso",IF(COUNTIFS(Presupuesto!A18:A25,C16)=1,"Clasificado","REVISAR categoría"))) | I16: =IF(COUNTA(A16:F16)>0,ROW(),0) -> 0
G17: =IF(COUNTA(A17:F17)=0,"",IF(OR(NOT(ISNUMBER(A17)),AND(B17<>"Ingreso",B17<>"Gasto"),C17="",D17="",AND(E17<>"",NOT(ISNUMBER(E17))),AND(F17<>"",NOT(ISNUMBER(F17)))),"REVISAR datos",IF(OR(A17<DATE(YEAR(Presupuesto!E4),MONTH(Presupuesto!E4),1),A17>=EDATE(DATE(YEAR(Presupuesto!E4),MONTH(Presupuesto!E4),1),1)),"Fuera de mes","Correcto"))) | H17: =IF(COUNTA(A17:F17)=0,"",IF(B17="Ingreso","Ingreso",IF(COUNTIFS(Presupuesto!A18:A25,C17)=1,"Clasificado","REVISAR categoría"))) | I17: =IF(COUNTA(A17:F17)>0,ROW(),0) -> 0
G18: =IF(COUNTA(A18:F18)=0,"",IF(OR(NOT(ISNUMBER(A18)),AND(B18<>"Ingreso",B18<>"Gasto"),C18="",D18="",AND(E18<>"",NOT(ISNUMBER(E18))),AND(F18<>"",NOT(ISNUMBER(F18)))),"REVISAR datos",IF(OR(A18<DATE(YEAR(Presupuesto!E4),MONTH(Presupuesto!E4),1),A18>=EDATE(DATE(YEAR(Presupuesto!E4),MONTH(Presupuesto!E4),1),1)),"Fuera de mes","Correcto"))) | H18: =IF(COUNTA(A18:F18)=0,"",IF(B18="Ingreso","Ingreso",IF(COUNTIFS(Presupuesto!A18:A25,C18)=1,"Clasificado","REVISAR categoría"))) | I18: =IF(COUNTA(A18:F18)>0,ROW(),0) -> 0
G19: =IF(COUNTA(A19:F19)=0,"",IF(OR(NOT(ISNUMBER(A19)),AND(B19<>"Ingreso",B19<>"Gasto"),C19="",D19="",AND(E19<>"",NOT(ISNUMBER(E19))),AND(F19<>"",NOT(ISNUMBER(F19)))),"REVISAR datos",IF(OR(A19<DATE(YEAR(Presupuesto!E4),MONTH(Presupuesto!E4),1),A19>=EDATE(DATE(YEAR(Presupuesto!E4),MONTH(Presupuesto!E4),1),1)),"Fuera de mes","Correcto"))) | H19: =IF(COUNTA(A19:F19)=0,"",IF(B19="Ingreso","Ingreso",IF(COUNTIFS(Presupuesto!A18:A25,C19)=1,"Clasificado","REVISAR categoría"))) | I19: =IF(COUNTA(A19:F19)>0,ROW(),0) -> 0
G20: =IF(COUNTA(A20:F20)=0,"",IF(OR(NOT(ISNUMBER(A20)),AND(B20<>"Ingreso",B20<>"Gasto"),C20="",D20="",AND(E20<>"",NOT(ISNUMBER(E20))),AND(F20<>"",NOT(ISNUMBER(F20)))),"REVISAR datos",IF(OR(A20<DATE(YEAR(Presupuesto!E4),MONTH(Presupuesto!E4),1),A20>=EDATE(DATE(YEAR(Presupuesto!E4),MONTH(Presupuesto!E4),1),1)),"Fuera de mes","Correcto"))) | H20: =IF(COUNTA(A20:F20)=0,"",IF(B20="Ingreso","Ingreso",IF(COUNTIFS(Presupuesto!A18:A25,C20)=1,"Clasificado","REVISAR categoría"))) | I20: =IF(COUNTA(A20:F20)>0,ROW(),0) -> 0
G21: =IF(COUNTA(A21:F21)=0,"",IF(OR(NOT(ISNUMBER(A21)),AND(B21<>"Ingreso",B21<>"Gasto"),C21="",D21="",AND(E21<>"",NOT(ISNUMBER(E21))),AND(F21<>"",NOT(ISNUMBER(F21)))),"REVISAR datos",IF(OR(A21<DATE(YEAR(Presupuesto!E4),MONTH(Presupuesto!E4),1),A21>=EDATE(DATE(YEAR(Presupuesto!E4),MONTH(Presupuesto!E4),1),1)),"Fuera de mes","Correcto"))) | H21: =IF(COUNTA(A21:F21)=0,"",IF(B21="Ingreso","Ingreso",IF(COUNTIFS(Presupuesto!A18:A25,C21)=1,"Clasificado","REVISAR categoría"))) | I21: =IF(COUNTA(A21:F21)>0,ROW(),0) -> 0
G22: =IF(COUNTA(A22:F22)=0,"",IF(OR(NOT(ISNUMBER(A22)),AND(B22<>"Ingreso",B22<>"Gasto"),C22="",D22="",AND(E22<>"",NOT(ISNUMBER(E22))),AND(F22<>"",NOT(ISNUMBER(F22)))),"REVISAR datos",IF(OR(A22<DATE(YEAR(Presupuesto!E4),MONTH(Presupuesto!E4),1),A22>=EDATE(DATE(YEAR(Presupuesto!E4),MONTH(Presupuesto!E4),1),1)),"Fuera de mes","Correcto"))) | H22: =IF(COUNTA(A22:F22)=0,"",IF(B22="Ingreso","Ingreso",IF(COUNTIFS(Presupuesto!A18:A25,C22)=1,"Clasificado","REVISAR categoría"))) | I22: =IF(COUNTA(A22:F22)>0,ROW(),0) -> 0
G23: =IF(COUNTA(A23:F23)=0,"",IF(OR(NOT(ISNUMBER(A23)),AND(B23<>"Ingreso",B23<>"Gasto"),C23="",D23="",AND(E23<>"",NOT(ISNUMBER(E23))),AND(F23<>"",NOT(ISNUMBER(F23)))),"REVISAR datos",IF(OR(A23<DATE(YEAR(Presupuesto!E4),MONTH(Presupuesto!E4),1),A23>=EDATE(DATE(YEAR(Presupuesto!E4),MONTH(Presupuesto!E4),1),1)),"Fuera de mes","Correcto"))) | H23: =IF(COUNTA(A23:F23)=0,"",IF(B23="Ingreso","Ingreso",IF(COUNTIFS(Presupuesto!A18:A25,C23)=1,"Clasificado","REVISAR categoría"))) | I23: =IF(COUNTA(A23:F23)>0,ROW(),0) -> 0
G24: =IF(COUNTA(A24:F24)=0,"",IF(OR(NOT(ISNUMBER(A24)),AND(B24<>"Ingreso",B24<>"Gasto"),C24="",D24="",AND(E24<>"",NOT(ISNUMBER(E24))),AND(F24<>"",NOT(ISNUMBER(F24)))),"REVISAR datos",IF(OR(A24<DATE(YEAR(Presupuesto!E4),MONTH(Presupuesto!E4),1),A24>=EDATE(DATE(YEAR(Presupuesto!E4),MONTH(Presupuesto!E4),1),1)),"Fuera de mes","Correcto"))) | H24: =IF(COUNTA(A24:F24)=0,"",IF(B24="Ingreso","Ingreso",IF(COUNTIFS(Presupuesto!A18:A25,C24)=1,"Clasificado","REVISAR categoría"))) | I24: =IF(COUNTA(A24:F24)>0,ROW(),0) -> 0
G25: =IF(COUNTA(A25:F25)=0,"",IF(OR(NOT(ISNUMBER(A25)),AND(B25<>"Ingreso",B25<>"Gasto"),C25="",D25="",AND(E25<>"",NOT(ISNUMBER(E25))),AND(F25<>"",NOT(ISNUMBER(F25)))),"REVISAR datos",IF(OR(A25<DATE(YEAR(Presupuesto!E4),MONTH(Presupuesto!E4),1),A25>=EDATE(DATE(YEAR(Presupuesto!E4),MONTH(Presupuesto!E4),1),1)),"Fuera de mes","Correcto"))) | H25: =IF(COUNTA(A25:F25)=0,"",IF(B25="Ingreso","Ingreso",IF(COUNTIFS(Presupuesto!A18:A25,C25)=1,"Clasificado","REVISAR categoría"))) | I25: =IF(COUNTA(A25:F25)>0,ROW(),0) -> 0
G26: =IF(COUNTA(A26:F26)=0,"",IF(OR(NOT(ISNUMBER(A26)),AND(B26<>"Ingreso",B26<>"Gasto"),C26="",D26="",AND(E26<>"",NOT(ISNUMBER(E26))),AND(F26<>"",NOT(ISNUMBER(F26)))),"REVISAR datos",IF(OR(A26<DATE(YEAR(Presupuesto!E4),MONTH(Presupuesto!E4),1),A26>=EDATE(DATE(YEAR(Presupuesto!E4),MONTH(Presupuesto!E4),1),1)),"Fuera de mes","Correcto"))) | H26: =IF(COUNTA(A26:F26)=0,"",IF(B26="Ingreso","Ingreso",IF(COUNTIFS(Presupuesto!A18:A25,C26)=1,"Clasificado","REVISAR categoría"))) | I26: =IF(COUNTA(A26:F26)>0,ROW(),0) -> 0
G27: =IF(COUNTA(A27:F27)=0,"",IF(OR(NOT(ISNUMBER(A27)),AND(B27<>"Ingreso",B27<>"Gasto"),C27="",D27="",AND(E27<>"",NOT(ISNUMBER(E27))),AND(F27<>"",NOT(ISNUMBER(F27)))),"REVISAR datos",IF(OR(A27<DATE(YEAR(Presupuesto!E4),MONTH(Presupuesto!E4),1),A27>=EDATE(DATE(YEAR(Presupuesto!E4),MONTH(Presupuesto!E4),1),1)),"Fuera de mes","Correcto"))) | H27: =IF(COUNTA(A27:F27)=0,"",IF(B27="Ingreso","Ingreso",IF(COUNTIFS(Presupuesto!A18:A25,C27)=1,"Clasificado","REVISAR categoría"))) | I27: =IF(COUNTA(A27:F27)>0,ROW(),0) -> 0
G28: =IF(COUNTA(A28:F28)=0,"",IF(OR(NOT(ISNUMBER(A28)),AND(B28<>"Ingreso",B28<>"Gasto"),C28="",D28="",AND(E28<>"",NOT(ISNUMBER(E28))),AND(F28<>"",NOT(ISNUMBER(F28)))),"REVISAR datos",IF(OR(A28<DATE(YEAR(Presupuesto!E4),MONTH(Presupuesto!E4),1),A28>=EDATE(DATE(YEAR(Presupuesto!E4),MONTH(Presupuesto!E4),1),1)),"Fuera de mes","Correcto"))) | H28: =IF(COUNTA(A28:F28)=0,"",IF(B28="Ingreso","Ingreso",IF(COUNTIFS(Presupuesto!A18:A25,C28)=1,"Clasificado","REVISAR categoría"))) | I28: =IF(COUNTA(A28:F28)>0,ROW(),0) -> 0
G29: =IF(COUNTA(A29:F29)=0,"",IF(OR(NOT(ISNUMBER(A29)),AND(B29<>"Ingreso",B29<>"Gasto"),C29="",D29="",AND(E29<>"",NOT(ISNUMBER(E29))),AND(F29<>"",NOT(ISNUMBER(F29)))),"REVISAR datos",IF(OR(A29<DATE(YEAR(Presupuesto!E4),MONTH(Presupuesto!E4),1),A29>=EDATE(DATE(YEAR(Presupuesto!E4),MONTH(Presupuesto!E4),1),1)),"Fuera de mes","Correcto"))) | H29: =IF(COUNTA(A29:F29)=0,"",IF(B29="Ingreso","Ingreso",IF(COUNTIFS(Presupuesto!A18:A25,C29)=1,"Clasificado","REVISAR categoría"))) | I29: =IF(COUNTA(A29:F29)>0,ROW(),0) -> 0
G30: =IF(COUNTA(A30:F30)=0,"",IF(OR(NOT(ISNUMBER(A30)),AND(B30<>"Ingreso",B30<>"Gasto"),C30="",D30="",AND(E30<>"",NOT(ISNUMBER(E30))),AND(F30<>"",NOT(ISNUMBER(F30)))),"REVISAR datos",IF(OR(A30<DATE(YEAR(Presupuesto!E4),MONTH(Presupuesto!E4),1),A30>=EDATE(DATE(YEAR(Presupuesto!E4),MONTH(Presupuesto!E4),1),1)),"Fuera de mes","Correcto"))) | H30: =IF(COUNTA(A30:F30)=0,"",IF(B30="Ingreso","Ingreso",IF(COUNTIFS(Presupuesto!A18:A25,C30)=1,"Clasificado","REVISAR categoría"))) | I30: =IF(COUNTA(A30:F30)>0,ROW(),0) -> 0
G31: =IF(COUNTA(A31:F31)=0,"",IF(OR(NOT(ISNUMBER(A31)),AND(B31<>"Ingreso",B31<>"Gasto"),C31="",D31="",AND(E31<>"",NOT(ISNUMBER(E31))),AND(F31<>"",NOT(ISNUMBER(F31)))),"REVISAR datos",IF(OR(A31<DATE(YEAR(Presupuesto!E4),MONTH(Presupuesto!E4),1),A31>=EDATE(DATE(YEAR(Presupuesto!E4),MONTH(Presupuesto!E4),1),1)),"Fuera de mes","Correcto"))) | H31: =IF(COUNTA(A31:F31)=0,"",IF(B31="Ingreso","Ingreso",IF(COUNTIFS(Presupuesto!A18:A25,C31)=1,"Clasificado","REVISAR categoría"))) | I31: =IF(COUNTA(A31:F31)>0,ROW(),0) -> 0
G32: =IF(COUNTA(A32:F32)=0,"",IF(OR(NOT(ISNUMBER(A32)),AND(B32<>"Ingreso",B32<>"Gasto"),C32="",D32="",AND(E32<>"",NOT(ISNUMBER(E32))),AND(F32<>"",NOT(ISNUMBER(F32)))),"REVISAR datos",IF(OR(A32<DATE(YEAR(Presupuesto!E4),MONTH(Presupuesto!E4),1),A32>=EDATE(DATE(YEAR(Presupuesto!E4),MONTH(Presupuesto!E4),1),1)),"Fuera de mes","Correcto"))) | H32: =IF(COUNTA(A32:F32)=0,"",IF(B32="Ingreso","Ingreso",IF(COUNTIFS(Presupuesto!A18:A25,C32)=1,"Clasificado","REVISAR categoría"))) | I32: =IF(COUNTA(A32:F32)>0,ROW(),0) -> 0
G33: =IF(COUNTA(A33:F33)=0,"",IF(OR(NOT(ISNUMBER(A33)),AND(B33<>"Ingreso",B33<>"Gasto"),C33="",D33="",AND(E33<>"",NOT(ISNUMBER(E33))),AND(F33<>"",NOT(ISNUMBER(F33)))),"REVISAR datos",IF(OR(A33<DATE(YEAR(Presupuesto!E4),MONTH(Presupuesto!E4),1),A33>=EDATE(DATE(YEAR(Presupuesto!E4),MONTH(Presupuesto!E4),1),1)),"Fuera de mes","Correcto"))) | H33: =IF(COUNTA(A33:F33)=0,"",IF(B33="Ingreso","Ingreso",IF(COUNTIFS(Presupuesto!A18:A25,C33)=1,"Clasificado","REVISAR categoría"))) | I33: =IF(COUNTA(A33:F33)>0,ROW(),0) -> 0
G34: =IF(COUNTA(A34:F34)=0,"",IF(OR(NOT(ISNUMBER(A34)),AND(B34<>"Ingreso",B34<>"Gasto"),C34="",D34="",AND(E34<>"",NOT(ISNUMBER(E34))),AND(F34<>"",NOT(ISNUMBER(F34)))),"REVISAR datos",IF(OR(A34<DATE(YEAR(Presupuesto!E4),MONTH(Presupuesto!E4),1),A34>=EDATE(DATE(YEAR(Presupuesto!E4),MONTH(Presupuesto!E4),1),1)),"Fuera de mes","Correcto"))) | H34: =IF(COUNTA(A34:F34)=0,"",IF(B34="Ingreso","Ingreso",IF(COUNTIFS(Presupuesto!A18:A25,C34)=1,"Clasificado","REVISAR categoría"))) | I34: =IF(COUNTA(A34:F34)>0,ROW(),0) -> 0
G35: =IF(COUNTA(A35:F35)=0,"",IF(OR(NOT(ISNUMBER(A35)),AND(B35<>"Ingreso",B35<>"Gasto"),C35="",D35="",AND(E35<>"",NOT(ISNUMBER(E35))),AND(F35<>"",NOT(ISNUMBER(F35)))),"REVISAR datos",IF(OR(A35<DATE(YEAR(Presupuesto!E4),MONTH(Presupuesto!E4),1),A35>=EDATE(DATE(YEAR(Presupuesto!E4),MONTH(Presupuesto!E4),1),1)),"Fuera de mes","Correcto"))) | H35: =IF(COUNTA(A35:F35)=0,"",IF(B35="Ingreso","Ingreso",IF(COUNTIFS(Presupuesto!A18:A25,C35)=1,"Clasificado","REVISAR categoría"))) | I35: =IF(COUNTA(A35:F35)>0,ROW(),0) -> 0
G36: =IF(COUNTA(A36:F36)=0,"",IF(OR(NOT(ISNUMBER(A36)),AND(B36<>"Ingreso",B36<>"Gasto"),C36="",D36="",AND(E36<>"",NOT(ISNUMBER(E36))),AND(F36<>"",NOT(ISNUMBER(F36)))),"REVISAR datos",IF(OR(A36<DATE(YEAR(Presupuesto!E4),MONTH(Presupuesto!E4),1),A36>=EDATE(DATE(YEAR(Presupuesto!E4),MONTH(Presupuesto!E4),1),1)),"Fuera de mes","Correcto"))) | H36: =IF(COUNTA(A36:F36)=0,"",IF(B36="Ingreso","Ingreso",IF(COUNTIFS(Presupuesto!A18:A25,C36)=1,"Clasificado","REVISAR categoría"))) | I36: =IF(COUNTA(A36:F36)>0,ROW(),0) -> 0
G37: =IF(COUNTA(A37:F37)=0,"",IF(OR(NOT(ISNUMBER(A37)),AND(B37<>"Ingreso",B37<>"Gasto"),C37="",D37="",AND(E37<>"",NOT(ISNUMBER(E37))),AND(F37<>"",NOT(ISNUMBER(F37)))),"REVISAR datos",IF(OR(A37<DATE(YEAR(Presupuesto!E4),MONTH(Presupuesto!E4),1),A37>=EDATE(DATE(YEAR(Presupuesto!E4),MONTH(Presupuesto!E4),1),1)),"Fuera de mes","Correcto"))) | H37: =IF(COUNTA(A37:F37)=0,"",IF(B37="Ingreso","Ingreso",IF(COUNTIFS(Presupuesto!A18:A25,C37)=1,"Clasificado","REVISAR categoría"))) | I37: =IF(COUNTA(A37:F37)>0,ROW(),0) -> 0
G38: =IF(COUNTA(A38:F38)=0,"",IF(OR(NOT(ISNUMBER(A38)),AND(B38<>"Ingreso",B38<>"Gasto"),C38="",D38="",AND(E38<>"",NOT(ISNUMBER(E38))),AND(F38<>"",NOT(ISNUMBER(F38)))),"REVISAR datos",IF(OR(A38<DATE(YEAR(Presupuesto!E4),MONTH(Presupuesto!E4),1),A38>=EDATE(DATE(YEAR(Presupuesto!E4),MONTH(Presupuesto!E4),1),1)),"Fuera de mes","Correcto"))) | H38: =IF(COUNTA(A38:F38)=0,"",IF(B38="Ingreso","Ingreso",IF(COUNTIFS(Presupuesto!A18:A25,C38)=1,"Clasificado","REVISAR categoría"))) | I38: =IF(COUNTA(A38:F38)>0,ROW(),0) -> 0
G39: =IF(COUNTA(A39:F39)=0,"",IF(OR(NOT(ISNUMBER(A39)),AND(B39<>"Ingreso",B39<>"Gasto"),C39="",D39="",AND(E39<>"",NOT(ISNUMBER(E39))),AND(F39<>"",NOT(ISNUMBER(F39)))),"REVISAR datos",IF(OR(A39<DATE(YEAR(Presupuesto!E4),MONTH(Presupuesto!E4),1),A39>=EDATE(DATE(YEAR(Presupuesto!E4),MONTH(Presupuesto!E4),1),1)),"Fuera de mes","Correcto"))) | H39: =IF(COUNTA(A39:F39)=0,"",IF(B39="Ingreso","Ingreso",IF(COUNTIFS(Presupuesto!A18:A25,C39)=1,"Clasificado","REVISAR categoría"))) | I39: =IF(COUNTA(A39:F39)>0,ROW(),0) -> 0
G40: =IF(COUNTA(A40:F40)=0,"",IF(OR(NOT(ISNUMBER(A40)),AND(B40<>"Ingreso",B40<>"Gasto"),C40="",D40="",AND(E40<>"",NOT(ISNUMBER(E40))),AND(F40<>"",NOT(ISNUMBER(F40)))),"REVISAR datos",IF(OR(A40<DATE(YEAR(Presupuesto!E4),MONTH(Presupuesto!E4),1),A40>=EDATE(DATE(YEAR(Presupuesto!E4),MONTH(Presupuesto!E4),1),1)),"Fuera de mes","Correcto"))) | H40: =IF(COUNTA(A40:F40)=0,"",IF(B40="Ingreso","Ingreso",IF(COUNTIFS(Presupuesto!A18:A25,C40)=1,"Clasificado","REVISAR categoría"))) | I40: =IF(COUNTA(A40:F40)>0,ROW(),0) -> 0
G41: =IF(COUNTA(A41:F41)=0,"",IF(OR(NOT(ISNUMBER(A41)),AND(B41<>"Ingreso",B41<>"Gasto"),C41="",D41="",AND(E41<>"",NOT(ISNUMBER(E41))),AND(F41<>"",NOT(ISNUMBER(F41)))),"REVISAR datos",IF(OR(A41<DATE(YEAR(Presupuesto!E4),MONTH(Presupuesto!E4),1),A41>=EDATE(DATE(YEAR(Presupuesto!E4),MONTH(Presupuesto!E4),1),1)),"Fuera de mes","Correcto"))) | H41: =IF(COUNTA(A41:F41)=0,"",IF(B41="Ingreso","Ingreso",IF(COUNTIFS(Presupuesto!A18:A25,C41)=1,"Clasificado","REVISAR categoría"))) | I41: =IF(COUNTA(A41:F41)>0,ROW(),0) -> 0
G42: =IF(COUNTA(A42:F42)=0,"",IF(OR(NOT(ISNUMBER(A42)),AND(B42<>"Ingreso",B42<>"Gasto"),C42="",D42="",AND(E42<>"",NOT(ISNUMBER(E42))),AND(F42<>"",NOT(ISNUMBER(F42)))),"REVISAR datos",IF(OR(A42<DATE(YEAR(Presupuesto!E4),MONTH(Presupuesto!E4),1),A42>=EDATE(DATE(YEAR(Presupuesto!E4),MONTH(Presupuesto!E4),1),1)),"Fuera de mes","Correcto"))) | H42: =IF(COUNTA(A42:F42)=0,"",IF(B42="Ingreso","Ingreso",IF(COUNTIFS(Presupuesto!A18:A25,C42)=1,"Clasificado","REVISAR categoría"))) | I42: =IF(COUNTA(A42:F42)>0,ROW(),0) -> 0
G43: =IF(COUNTA(A43:F43)=0,"",IF(OR(NOT(ISNUMBER(A43)),AND(B43<>"Ingreso",B43<>"Gasto"),C43="",D43="",AND(E43<>"",NOT(ISNUMBER(E43))),AND(F43<>"",NOT(ISNUMBER(F43)))),"REVISAR datos",IF(OR(A43<DATE(YEAR(Presupuesto!E4),MONTH(Presupuesto!E4),1),A43>=EDATE(DATE(YEAR(Presupuesto!E4),MONTH(Presupuesto!E4),1),1)),"Fuera de mes","Correcto"))) | H43: =IF(COUNTA(A43:F43)=0,"",IF(B43="Ingreso","Ingreso",IF(COUNTIFS(Presupuesto!A18:A25,C43)=1,"Clasificado","REVISAR categoría"))) | I43: =IF(COUNTA(A43:F43)>0,ROW(),0) -> 0
G44: =IF(COUNTA(A44:F44)=0,"",IF(OR(NOT(ISNUMBER(A44)),AND(B44<>"Ingreso",B44<>"Gasto"),C44="",D44="",AND(E44<>"",NOT(ISNUMBER(E44))),AND(F44<>"",NOT(ISNUMBER(F44)))),"REVISAR datos",IF(OR(A44<DATE(YEAR(Presupuesto!E4),MONTH(Presupuesto!E4),1),A44>=EDATE(DATE(YEAR(Presupuesto!E4),MONTH(Presupuesto!E4),1),1)),"Fuera de mes","Correcto"))) | H44: =IF(COUNTA(A44:F44)=0,"",IF(B44="Ingreso","Ingreso",IF(COUNTIFS(Presupuesto!A18:A25,C44)=1,"Clasificado","REVISAR categoría"))) | I44: =IF(COUNTA(A44:F44)>0,ROW(),0) -> 0
...

Sheet Ayuda
B2: Cómo usar esta herramienta
B5: La descarga es la solución del ejercicio, vacía o con datos de ejemplo. Para aprender, empieza en un libro nuevo como indica el artículo.
B6: Configura ocho categorías de gasto en el resumen. Ingresos se identifica por Tipo y no se exige una categoría de gasto.
B7: Sin clasificar conserva los importes pegados con nombres ajenos o duplicados y activa un aviso. El total y el desglose deben coincidir.
B8: Previsto vacío equivale a cero. Real vacío sigue pendiente; Real cero es un valor registrado.
B9: Saldo registrado es ingreso menos gasto. Caja tras movimientos añade el saldo inicial, si lo introduces sin duplicar ingresos.
B10: El contador Fuera del periodo muestra movimientos excluidos del mes, incluidos históricos válidos.
B11: Las celdas con fondo azul son editables. Fórmulas protegidas sin contraseña.
B12: Importes de ejemplo ficticios. Cada archivo vacío conserva solo ajustes y fórmulas.
B13: Pruebas de cálculo en LibreOffice. Excel 365, móvil y Google Sheets pendientes.
B14: PlantillasyPortadas · https://plantillasyportadas.com/ · 16/10/2026
A15: Impresión: en Imprimir elige página 1–25 e imprime la hoja activa. El registro original solo ofrece una vista parcial.

Sheet Imprimir
A2: Registro: página de movimientos
A4: Página (1 a 25) | B4: 1 | D4: Páginas con datos | E4: =MAX(1,ROUNDUP((MAX(14,MAX(Registro!$I$8:$I$507))-7)/20,0)) -> 1
A5: Imprime esta hoja. Cambia Página para recorrer el registro: veinte filas por página.
A7: =Registro!A7 -> Fecha | B7: =Registro!B7 -> Tipo | C7: =Registro!C7 -> Categoría | D7: =Registro!D7 -> Concepto | E7: =Registro!E7 -> Previsto | F7: =Registro!F7 -> Real | G7: =Registro!G7 -> Control | H7: =Registro!H7 -> Clasificación
A8: =IF(AND(ISNUMBER($B$4),$B$4>=1,$B$4<=25,MOD($B$4,1)=0),IF(INDEX(Registro!I8:I507,($B$4-1)*20+1)=0,"",IF(INDEX(Registro!A8:A507,($B$4-1)*20+1)="","",INDEX(Registro!A8:A507,($B$4-1)*20+1))),"Revisa página") | B8: =IF(AND(ISNUMBER($B$4),$B$4>=1,$B$4<=25,MOD($B$4,1)=0),IF(INDEX(Registro!I8:I507,($B$4-1)*20+1)=0,"",IF(INDEX(Registro!B8:B507,($B$4-1)*20+1)="","",INDEX(Registro!B8:B507,($B$4-1)*20+1))),"Revisa página") | C8: =IF(AND(ISNUMBER($B$4),$B$4>=1,$B$4<=25,MOD($B$4,1)=0),IF(INDEX(Registro!I8:I507,($B$4-1)*20+1)=0,"",IF(INDEX(Registro!C8:C507,($B$4-1)*20+1)="","",INDEX(Registro!C8:C507,($B$4-1)*20+1))),"Revisa página") | D8: =IF(AND(ISNUMBER($B$4),$B$4>=1,$B$4<=25,MOD($B$4,1)=0),IF(INDEX(Registro!I8:I507,($B$4-1)*20+1)=0,"",IF(INDEX(Registro!D8:D507,($B$4-1)*20+1)="","",INDEX(Registro!D8:D507,($B$4-1)*20+1))),"Revisa página") | E8: =IF(AND(ISNUMBER($B$4),$B$4>=1,$B$4<=25,MOD($B$4,1)=0),IF(INDEX(Registro!I8:I507,($B$4-1)*20+1)=0,"",IF(INDEX(Registro!E8:E507,($B$4-1)*20+1)="","",INDEX(Registro!E8:E507,($B$4-1)*20+1))),"Revisa página") | F8: =IF(AND(ISNUMBER($B$4),$B$4>=1,$B$4<=25,MOD($B$4,1)=0),IF(INDEX(Registro!I8:I507,($B$4-1)*20+1)=0,"",IF(INDEX(Registro!F8:F507,($B$4-1)*20+1)="","",INDEX(Registro!F8:F507,($B$4-1)*20+1))),"Revisa página") | G8: =IF(AND(ISNUMBER($B$4),$B$4>=1,$B$4<=25,MOD($B$4,1)=0),IF(INDEX(Registro!I8:I507,($B$4-1)*20+1)=0,"",IF(INDEX(Registro!G8:G507,($B$4-1)*20+1)="","",INDEX(Registro!G8:G507,($B$4-1)*20+1))),"Revisa página") | H8: =IF(AND(ISNUMBER($B$4),$B$4>=1,$B$4<=25,MOD($B$4,1)=0),IF(INDEX(Registro!I8:I507,($B$4-1)*20+1)=0,"",IF(INDEX(Registro!H8:H507,($B$4-1)*20+1)="","",INDEX(Registro!H8:H507,($B$4-1)*20+1))),"Revisa página")
A9: =IF(AND(ISNUMBER($B$4),$B$4>=1,$B$4<=25,MOD($B$4,1)=0),IF(INDEX(Registro!I8:I507,($B$4-1)*20+2)=0,"",IF(INDEX(Registro!A8:A507,($B$4-1)*20+2)="","",INDEX(Registro!A8:A507,($B$4-1)*20+2))),"Revisa página") | B9: =IF(AND(ISNUMBER($B$4),$B$4>=1,$B$4<=25,MOD($B$4,1)=0),IF(INDEX(Registro!I8:I507,($B$4-1)*20+2)=0,"",IF(INDEX(Registro!B8:B507,($B$4-1)*20+2)="","",INDEX(Registro!B8:B507,($B$4-1)*20+2))),"Revisa página") | C9: =IF(AND(ISNUMBER($B$4),$B$4>=1,$B$4<=25,MOD($B$4,1)=0),IF(INDEX(Registro!I8:I507,($B$4-1)*20+2)=0,"",IF(INDEX(Registro!C8:C507,($B$4-1)*20+2)="","",INDEX(Registro!C8:C507,($B$4-1)*20+2))),"Revisa página") | D9: =IF(AND(ISNUMBER($B$4),$B$4>=1,$B$4<=25,MOD($B$4,1)=0),IF(INDEX(Registro!I8:I507,($B$4-1)*20+2)=0,"",IF(INDEX(Registro!D8:D507,($B$4-1)*20+2)="","",INDEX(Registro!D8:D507,($B$4-1)*20+2))),"Revisa página") | E9: =IF(AND(ISNUMBER($B$4),$B$4>=1,$B$4<=25,MOD($B$4,1)=0),IF(INDEX(Registro!I8:I507,($B$4-1)*20+2)=0,"",IF(INDEX(Registro!E8:E507,($B$4-1)*20+2)="","",INDEX(Registro!E8:E507,($B$4-1)*20+2))),"Revisa página") | F9: =IF(AND(ISNUMBER($B$4),$B$4>=1,$B$4<=25,MOD($B$4,1)=0),IF(INDEX(Registro!I8:I507,($B$4-1)*20+2)=0,"",IF(INDEX(Registro!F8:F507,($B$4-1)*20+2)="","",INDEX(Registro!F8:F507,($B$4-1)*20+2))),"Revisa página") | G9: =IF(AND(ISNUMBER($B$4),$B$4>=1,$B$4<=25,MOD($B$4,1)=0),IF(INDEX(Registro!I8:I507,($B$4-1)*20+2)=0,"",IF(INDEX(Registro!G8:G507,($B$4-1)*20+2)="","",INDEX(Registro!G8:G507,($B$4-1)*20+2))),"Revisa página") | H9: =IF(AND(ISNUMBER($B$4),$B$4>=1,$B$4<=25,MOD($B$4,1)=0),IF(INDEX(Registro!I8:I507,($B$4-1)*20+2)=0,"",IF(INDEX(Registro!H8:H507,($B$4-1)*20+2)="","",INDEX(Registro!H8:H507,($B$4-1)*20+2))),"Revisa página")
A10: =IF(AND(ISNUMBER($B$4),$B$4>=1,$B$4<=25,MOD($B$4,1)=0),IF(INDEX(Registro!I8:I507,($B$4-1)*20+3)=0,"",IF(INDEX(Registro!A8:A507,($B$4-1)*20+3)="","",INDEX(Registro!A8:A507,($B$4-1)*20+3))),"Revisa página") | B10: =IF(AND(ISNUMBER($B$4),$B$4>=1,$B$4<=25,MOD($B$4,1)=0),IF(INDEX(Registro!I8:I507,($B$4-1)*20+3)=0,"",IF(INDEX(Registro!B8:B507,($B$4-1)*20+3)="","",INDEX(Registro!B8:B507,($B$4-1)*20+3))),"Revisa página") | C10: =IF(AND(ISNUMBER($B$4),$B$4>=1,$B$4<=25,MOD($B$4,1)=0),IF(INDEX(Registro!I8:I507,($B$4-1)*20+3)=0,"",IF(INDEX(Registro!C8:C507,($B$4-1)*20+3)="","",INDEX(Registro!C8:C507,($B$4-1)*20+3))),"Revisa página") | D10: =IF(AND(ISNUMBER($B$4),$B$4>=1,$B$4<=25,MOD($B$4,1)=0),IF(INDEX(Registro!I8:I507,($B$4-1)*20+3)=0,"",IF(INDEX(Registro!D8:D507,($B$4-1)*20+3)="","",INDEX(Registro!D8:D507,($B$4-1)*20+3))),"Revisa página") | E10: =IF(AND(ISNUMBER($B$4),$B$4>=1,$B$4<=25,MOD($B$4,1)=0),IF(INDEX(Registro!I8:I507,($B$4-1)*20+3)=0,"",IF(INDEX(Registro!E8:E507,($B$4-1)*20+3)="","",INDEX(Registro!E8:E507,($B$4-1)*20+3))),"Revisa página") | F10: =IF(AND(ISNUMBER($B$4),$B$4>=1,$B$4<=25,MOD($B$4,1)=0),IF(INDEX(Registro!I8:I507,($B$4-1)*20+3)=0,"",IF(INDEX(Registro!F8:F507,($B$4-1)*20+3)="","",INDEX(Registro!F8:F507,($B$4-1)*20+3))),"Revisa página") | G10: =IF(AND(ISNUMBER($B$4),$B$4>=1,$B$4<=25,MOD($B$4,1)=0),IF(INDEX(Registro!I8:I507,($B$4-1)*20+3)=0,"",IF(INDEX(Registro!G8:G507,($B$4-1)*20+3)="","",INDEX(Registro!G8:G507,($B$4-1)*20+3))),"Revisa página") | H10: =IF(AND(ISNUMBER($B$4),$B$4>=1,$B$4<=25,MOD($B$4,1)=0),IF(INDEX(Registro!I8:I507,($B$4-1)*20+3)=0,"",IF(INDEX(Registro!H8:H507,($B$4-1)*20+3)="","",INDEX(Registro!H8:H507,($B$4-1)*20+3))),"Revisa página")
A11: =IF(AND(ISNUMBER($B$4),$B$4>=1,$B$4<=25,MOD($B$4,1)=0),IF(INDEX(Registro!I8:I507,($B$4-1)*20+4)=0,"",IF(INDEX(Registro!A8:A507,($B$4-1)*20+4)="","",INDEX(Registro!A8:A507,($B$4-1)*20+4))),"Revisa página") | B11: =IF(AND(ISNUMBER($B$4),$B$4>=1,$B$4<=25,MOD($B$4,1)=0),IF(INDEX(Registro!I8:I507,($B$4-1)*20+4)=0,"",IF(INDEX(Registro!B8:B507,($B$4-1)*20+4)="","",INDEX(Registro!B8:B507,($B$4-1)*20+4))),"Revisa página") | C11: =IF(AND(ISNUMBER($B$4),$B$4>=1,$B$4<=25,MOD($B$4,1)=0),IF(INDEX(Registro!I8:I507,($B$4-1)*20+4)=0,"",IF(INDEX(Registro!C8:C507,($B$4-1)*20+4)="","",INDEX(Registro!C8:C507,($B$4-1)*20+4))),"Revisa página") | D11: =IF(AND(ISNUMBER($B$4),$B$4>=1,$B$4<=25,MOD($B$4,1)=0),IF(INDEX(Registro!I8:I507,($B$4-1)*20+4)=0,"",IF(INDEX(Registro!D8:D507,($B$4-1)*20+4)="","",INDEX(Registro!D8:D507,($B$4-1)*20+4))),"Revisa página") | E11: =IF(AND(ISNUMBER($B$4),$B$4>=1,$B$4<=25,MOD($B$4,1)=0),IF(INDEX(Registro!I8:I507,($B$4-1)*20+4)=0,"",IF(INDEX(Registro!E8:E507,($B$4-1)*20+4)="","",INDEX(Registro!E8:E507,($B$4-1)*20+4))),"Revisa página") | F11: =IF(AND(ISNUMBER($B$4),$B$4>=1,$B$4<=25,MOD($B$4,1)=0),IF(INDEX(Registro!I8:I507,($B$4-1)*20+4)=0,"",IF(INDEX(Registro!F8:F507,($B$4-1)*20+4)="","",INDEX(Registro!F8:F507,($B$4-1)*20+4))),"Revisa página") | G11: =IF(AND(ISNUMBER($B$4),$B$4>=1,$B$4<=25,MOD($B$4,1)=0),IF(INDEX(Registro!I8:I507,($B$4-1)*20+4)=0,"",IF(INDEX(Registro!G8:G507,($B$4-1)*20+4)="","",INDEX(Registro!G8:G507,($B$4-1)*20+4))),"Revisa página") | H11: =IF(AND(ISNUMBER($B$4),$B$4>=1,$B$4<=25,MOD($B$4,1)=0),IF(INDEX(Registro!I8:I507,($B$4-1)*20+4)=0,"",IF(INDEX(Registro!H8:H507,($B$4-1)*20+4)="","",INDEX(Registro!H8:H507,($B$4-1)*20+4))),"Revisa página")
A12: =IF(AND(ISNUMBER($B$4),$B$4>=1,$B$4<=25,MOD($B$4,1)=0),IF(INDEX(Registro!I8:I507,($B$4-1)*20+5)=0,"",IF(INDEX(Registro!A8:A507,($B$4-1)*20+5)="","",INDEX(Registro!A8:A507,($B$4-1)*20+5))),"Revisa página") | B12: =IF(AND(ISNUMBER($B$4),$B$4>=1,$B$4<=25,MOD($B$4,1)=0),IF(INDEX(Registro!I8:I507,($B$4-1)*20+5)=0,"",IF(INDEX(Registro!B8:B507,($B$4-1)*20+5)="","",INDEX(Registro!B8:B507,($B$4-1)*20+5))),"Revisa página") | C12: =IF(AND(ISNUMBER($B$4),$B$4>=1,$B$4<=25,MOD($B$4,1)=0),IF(INDEX(Registro!I8:I507,($B$4-1)*20+5)=0,"",IF(INDEX(Registro!C8:C507,($B$4-1)*20+5)="","",INDEX(Registro!C8:C507,($B$4-1)*20+5))),"Revisa página") | D12: =IF(AND(ISNUMBER($B$4),$B$4>=1,$B$4<=25,MOD($B$4,1)=0),IF(INDEX(Registro!I8:I507,($B$4-1)*20+5)=0,"",IF(INDEX(Registro!D8:D507,($B$4-1)*20+5)="","",INDEX(Registro!D8:D507,($B$4-1)*20+5))),"Revisa página") | E12: =IF(AND(ISNUMBER($B$4),$B$4>=1,$B$4<=25,MOD($B$4,1)=0),IF(INDEX(Registro!I8:I507,($B$4-1)*20+5)=0,"",IF(INDEX(Registro!E8:E507,($B$4-1)*20+5)="","",INDEX(Registro!E8:E507,($B$4-1)*20+5))),"Revisa página") | F12: =IF(AND(ISNUMBER($B$4),$B$4>=1,$B$4<=25,MOD($B$4,1)=0),IF(INDEX(Registro!I8:I507,($B$4-1)*20+5)=0,"",IF(INDEX(Registro!F8:F507,($B$4-1)*20+5)="","",INDEX(Registro!F8:F507,($B$4-1)*20+5))),"Revisa página") | G12: =IF(AND(ISNUMBER($B$4),$B$4>=1,$B$4<=25,MOD($B$4,1)=0),IF(INDEX(Registro!I8:I507,($B$4-1)*20+5)=0,"",IF(INDEX(Registro!G8:G507,($B$4-1)*20+5)="","",INDEX(Registro!G8:G507,($B$4-1)*20+5))),"Revisa página") | H12: =IF(AND(ISNUMBER($B$4),$B$4>=1,$B$4<=25,MOD($B$4,1)=0),IF(INDEX(Registro!I8:I507,($B$4-1)*20+5)=0,"",IF(INDEX(Registro!H8:H507,($B$4-1)*20+5)="","",INDEX(Registro!H8:H507,($B$4-1)*20+5))),"Revisa página")
A13: =IF(AND(ISNUMBER($B$4),$B$4>=1,$B$4<=25,MOD($B$4,1)=0),IF(INDEX(Registro!I8:I507,($B$4-1)*20+6)=0,"",IF(INDEX(Registro!A8:A507,($B$4-1)*20+6)="","",INDEX(Registro!A8:A507,($B$4-1)*20+6))),"Revisa página") | B13: =IF(AND(ISNUMBER($B$4),$B$4>=1,$B$4<=25,MOD($B$4,1)=0),IF(INDEX(Registro!I8:I507,($B$4-1)*20+6)=0,"",IF(INDEX(Registro!B8:B507,($B$4-1)*20+6)="","",INDEX(Registro!B8:B507,($B$4-1)*20+6))),"Revisa página") | C13: =IF(AND(ISNUMBER($B$4),$B$4>=1,$B$4<=25,MOD($B$4,1)=0),IF(INDEX(Registro!I8:I507,($B$4-1)*20+6)=0,"",IF(INDEX(Registro!C8:C507,($B$4-1)*20+6)="","",INDEX(Registro!C8:C507,($B$4-1)*20+6))),"Revisa página") | D13: =IF(AND(ISNUMBER($B$4),$B$4>=1,$B$4<=25,MOD($B$4,1)=0),IF(INDEX(Registro!I8:I507,($B$4-1)*20+6)=0,"",IF(INDEX(Registro!D8:D507,($B$4-1)*20+6)="","",INDEX(Registro!D8:D507,($B$4-1)*20+6))),"Revisa página") | E13: =IF(AND(ISNUMBER($B$4),$B$4>=1,$B$4<=25,MOD($B$4,1)=0),IF(INDEX(Registro!I8:I507,($B$4-1)*20+6)=0,"",IF(INDEX(Registro!E8:E507,($B$4-1)*20+6)="","",INDEX(Registro!E8:E507,($B$4-1)*20+6))),"Revisa página") | F13: =IF(AND(ISNUMBER($B$4),$B$4>=1,$B$4<=25,MOD($B$4,1)=0),IF(INDEX(Registro!I8:I507,($B$4-1)*20+6)=0,"",IF(INDEX(Registro!F8:F507,($B$4-1)*20+6)="","",INDEX(Registro!F8:F507,($B$4-1)*20+6))),"Revisa página") | G13: =IF(AND(ISNUMBER($B$4),$B$4>=1,$B$4<=25,MOD($B$4,1)=0),IF(INDEX(Registro!I8:I507,($B$4-1)*20+6)=0,"",IF(INDEX(Registro!G8:G507,($B$4-1)*20+6)="","",INDEX(Registro!G8:G507,($B$4-1)*20+6))),"Revisa página") | H13: =IF(AND(ISNUMBER($B$4),$B$4>=1,$B$4<=25,MOD($B$4,1)=0),IF(INDEX(Registro!I8:I507,($B$4-1)*20+6)=0,"",IF(INDEX(Registro!H8:H507,($B$4-1)*20+6)="","",INDEX(Registro!H8:H507,($B$4-1)*20+6))),"Revisa página")
A14: =IF(AND(ISNUMBER($B$4),$B$4>=1,$B$4<=25,MOD($B$4,1)=0),IF(INDEX(Registro!I8:I507,($B$4-1)*20+7)=0,"",IF(INDEX(Registro!A8:A507,($B$4-1)*20+7)="","",INDEX(Registro!A8:A507,($B$4-1)*20+7))),"Revisa página") | B14: =IF(AND(ISNUMBER($B$4),$B$4>=1,$B$4<=25,MOD($B$4,1)=0),IF(INDEX(Registro!I8:I507,($B$4-1)*20+7)=0,"",IF(INDEX(Registro!B8:B507,($B$4-1)*20+7)="","",INDEX(Registro!B8:B507,($B$4-1)*20+7))),"Revisa página") | C14: =IF(AND(ISNUMBER($B$4),$B$4>=1,$B$4<=25,MOD($B$4,1)=0),IF(INDEX(Registro!I8:I507,($B$4-1)*20+7)=0,"",IF(INDEX(Registro!C8:C507,($B$4-1)*20+7)="","",INDEX(Registro!C8:C507,($B$4-1)*20+7))),"Revisa página") | D14: =IF(AND(ISNUMBER($B$4),$B$4>=1,$B$4<=25,MOD($B$4,1)=0),IF(INDEX(Registro!I8:I507,($B$4-1)*20+7)=0,"",IF(INDEX(Registro!D8:D507,($B$4-1)*20+7)="","",INDEX(Registro!D8:D507,($B$4-1)*20+7))),"Revisa página") | E14: =IF(AND(ISNUMBER($B$4),$B$4>=1,$B$4<=25,MOD($B$4,1)=0),IF(INDEX(Registro!I8:I507,($B$4-1)*20+7)=0,"",IF(INDEX(Registro!E8:E507,($B$4-1)*20+7)="","",INDEX(Registro!E8:E507,($B$4-1)*20+7))),"Revisa página") | F14: =IF(AND(ISNUMBER($B$4),$B$4>=1,$B$4<=25,MOD($B$4,1)=0),IF(INDEX(Registro!I8:I507,($B$4-1)*20+7)=0,"",IF(INDEX(Registro!F8:F507,($B$4-1)*20+7)="","",INDEX(Registro!F8:F507,($B$4-1)*20+7))),"Revisa página") | G14: =IF(AND(ISNUMBER($B$4),$B$4>=1,$B$4<=25,MOD($B$4,1)=0),IF(INDEX(Registro!I8:I507,($B$4-1)*20+7)=0,"",IF(INDEX(Registro!G8:G507,($B$4-1)*20+7)="","",INDEX(Registro!G8:G507,($B$4-1)*20+7))),"Revisa página") | H14: =IF(AND(ISNUMBER($B$4),$B$4>=1,$B$4<=25,MOD($B$4,1)=0),IF(INDEX(Registro!I8:I507,($B$4-1)*20+7)=0,"",IF(INDEX(Registro!H8:H507,($B$4-1)*20+7)="","",INDEX(Registro!H8:H507,($B$4-1)*20+7))),"Revisa página")
A15: =IF(AND(ISNUMBER($B$4),$B$4>=1,$B$4<=25,MOD($B$4,1)=0),IF(INDEX(Registro!I8:I507,($B$4-1)*20+8)=0,"",IF(INDEX(Registro!A8:A507,($B$4-1)*20+8)="","",INDEX(Registro!A8:A507,($B$4-1)*20+8))),"Revisa página") | B15: =IF(AND(ISNUMBER($B$4),$B$4>=1,$B$4<=25,MOD($B$4,1)=0),IF(INDEX(Registro!I8:I507,($B$4-1)*20+8)=0,"",IF(INDEX(Registro!B8:B507,($B$4-1)*20+8)="","",INDEX(Registro!B8:B507,($B$4-1)*20+8))),"Revisa página") | C15: =IF(AND(ISNUMBER($B$4),$B$4>=1,$B$4<=25,MOD($B$4,1)=0),IF(INDEX(Registro!I8:I507,($B$4-1)*20+8)=0,"",IF(INDEX(Registro!C8:C507,($B$4-1)*20+8)="","",INDEX(Registro!C8:C507,($B$4-1)*20+8))),"Revisa página") | D15: =IF(AND(ISNUMBER($B$4),$B$4>=1,$B$4<=25,MOD($B$4,1)=0),IF(INDEX(Registro!I8:I507,($B$4-1)*20+8)=0,"",IF(INDEX(Registro!D8:D507,($B$4-1)*20+8)="","",INDEX(Registro!D8:D507,($B$4-1)*20+8))),"Revisa página") | E15: =IF(AND(ISNUMBER($B$4),$B$4>=1,$B$4<=25,MOD($B$4,1)=0),IF(INDEX(Registro!I8:I507,($B$4-1)*20+8)=0,"",IF(INDEX(Registro!E8:E507,($B$4-1)*20+8)="","",INDEX(Registro!E8:E507,($B$4-1)*20+8))),"Revisa página") | F15: =IF(AND(ISNUMBER($B$4),$B$4>=1,$B$4<=25,MOD($B$4,1)=0),IF(INDEX(Registro!I8:I507,($B$4-1)*20+8)=0,"",IF(INDEX(Registro!F8:F507,($B$4-1)*20+8)="","",INDEX(Registro!F8:F507,($B$4-1)*20+8))),"Revisa página") | G15: =IF(AND(ISNUMBER($B$4),$B$4>=1,$B$4<=25,MOD($B$4,1)=0),IF(INDEX(Registro!I8:I507,($B$4-1)*20+8)=0,"",IF(INDEX(Registro!G8:G507,($B$4-1)*20+8)="","",INDEX(Registro!G8:G507,($B$4-1)*20+8))),"Revisa página") | H15: =IF(AND(ISNUMBER($B$4),$B$4>=1,$B$4<=25,MOD($B$4,1)=0),IF(INDEX(Registro!I8:I507,($B$4-1)*20+8)=0,"",IF(INDEX(Registro!H8:H507,($B$4-1)*20+8)="","",INDEX(Registro!H8:H507,($B$4-1)*20+8))),"Revisa página")
A16: =IF(AND(ISNUMBER($B$4),$B$4>=1,$B$4<=25,MOD($B$4,1)=0),IF(INDEX(Registro!I8:I507,($B$4-1)*20+9)=0,"",IF(INDEX(Registro!A8:A507,($B$4-1)*20+9)="","",INDEX(Registro!A8:A507,($B$4-1)*20+9))),"Revisa página") | B16: =IF(AND(ISNUMBER($B$4),$B$4>=1,$B$4<=25,MOD($B$4,1)=0),IF(INDEX(Registro!I8:I507,($B$4-1)*20+9)=0,"",IF(INDEX(Registro!B8:B507,($B$4-1)*20+9)="","",INDEX(Registro!B8:B507,($B$4-1)*20+9))),"Revisa página") | C16: =IF(AND(ISNUMBER($B$4),$B$4>=1,$B$4<=25,MOD($B$4,1)=0),IF(INDEX(Registro!I8:I507,($B$4-1)*20+9)=0,"",IF(INDEX(Registro!C8:C507,($B$4-1)*20+9)="","",INDEX(Registro!C8:C507,($B$4-1)*20+9))),"Revisa página") | D16: =IF(AND(ISNUMBER($B$4),$B$4>=1,$B$4<=25,MOD($B$4,1)=0),IF(INDEX(Registro!I8:I507,($B$4-1)*20+9)=0,"",IF(INDEX(Registro!D8:D507,($B$4-1)*20+9)="","",INDEX(Registro!D8:D507,($B$4-1)*20+9))),"Revisa página") | E16: =IF(AND(ISNUMBER($B$4),$B$4>=1,$B$4<=25,MOD($B$4,1)=0),IF(INDEX(Registro!I8:I507,($B$4-1)*20+9)=0,"",IF(INDEX(Registro!E8:E507,($B$4-1)*20+9)="","",INDEX(Registro!E8:E507,($B$4-1)*20+9))),"Revisa página") | F16: =IF(AND(ISNUMBER($B$4),$B$4>=1,$B$4<=25,MOD($B$4,1)=0),IF(INDEX(Registro!I8:I507,($B$4-1)*20+9)=0,"",IF(INDEX(Registro!F8:F507,($B$4-1)*20+9)="","",INDEX(Registro!F8:F507,($B$4-1)*20+9))),"Revisa página") | G16: =IF(AND(ISNUMBER($B$4),$B$4>=1,$B$4<=25,MOD($B$4,1)=0),IF(INDEX(Registro!I8:I507,($B$4-1)*20+9)=0,"",IF(INDEX(Registro!G8:G507,($B$4-1)*20+9)="","",INDEX(Registro!G8:G507,($B$4-1)*20+9))),"Revisa página") | H16: =IF(AND(ISNUMBER($B$4),$B$4>=1,$B$4<=25,MOD($B$4,1)=0),IF(INDEX(Registro!I8:I507,($B$4-1)*20+9)=0,"",IF(INDEX(Registro!H8:H507,($B$4-1)*20+9)="","",INDEX(Registro!H8:H507,($B$4-1)*20+9))),"Revisa página")
A17: =IF(AND(ISNUMBER($B$4),$B$4>=1,$B$4<=25,MOD($B$4,1)=0),IF(INDEX(Registro!I8:I507,($B$4-1)*20+10)=0,"",IF(INDEX(Registro!A8:A507,($B$4-1)*20+10)="","",INDEX(Registro!A8:A507,($B$4-1)*20+10))),"Revisa página") | B17: =IF(AND(ISNUMBER($B$4),$B$4>=1,$B$4<=25,MOD($B$4,1)=0),IF(INDEX(Registro!I8:I507,($B$4-1)*20+10)=0,"",IF(INDEX(Registro!B8:B507,($B$4-1)*20+10)="","",INDEX(Registro!B8:B507,($B$4-1)*20+10))),"Revisa página") | C17: =IF(AND(ISNUMBER($B$4),$B$4>=1,$B$4<=25,MOD($B$4,1)=0),IF(INDEX(Registro!I8:I507,($B$4-1)*20+10)=0,"",IF(INDEX(Registro!C8:C507,($B$4-1)*20+10)="","",INDEX(Registro!C8:C507,($B$4-1)*20+10))),"Revisa página") | D17: =IF(AND(ISNUMBER($B$4),$B$4>=1,$B$4<=25,MOD($B$4,1)=0),IF(INDEX(Registro!I8:I507,($B$4-1)*20+10)=0,"",IF(INDEX(Registro!D8:D507,($B$4-1)*20+10)="","",INDEX(Registro!D8:D507,($B$4-1)*20+10))),"Revisa página") | E17: =IF(AND(ISNUMBER($B$4),$B$4>=1,$B$4<=25,MOD($B$4,1)=0),IF(INDEX(Registro!I8:I507,($B$4-1)*20+10)=0,"",IF(INDEX(Registro!E8:E507,($B$4-1)*20+10)="","",INDEX(Registro!E8:E507,($B$4-1)*20+10))),"Revisa página") | F17: =IF(AND(ISNUMBER($B$4),$B$4>=1,$B$4<=25,MOD($B$4,1)=0),IF(INDEX(Registro!I8:I507,($B$4-1)*20+10)=0,"",IF(INDEX(Registro!F8:F507,($B$4-1)*20+10)="","",INDEX(Registro!F8:F507,($B$4-1)*20+10))),"Revisa página") | G17: =IF(AND(ISNUMBER($B$4),$B$4>=1,$B$4<=25,MOD($B$4,1)=0),IF(INDEX(Registro!I8:I507,($B$4-1)*20+10)=0,"",IF(INDEX(Registro!G8:G507,($B$4-1)*20+10)="","",INDEX(Registro!G8:G507,($B$4-1)*20+10))),"Revisa página") | H17: =IF(AND(ISNUMBER($B$4),$B$4>=1,$B$4<=25,MOD($B$4,1)=0),IF(INDEX(Registro!I8:I507,($B$4-1)*20+10)=0,"",IF(INDEX(Registro!H8:H507,($B$4-1)*20+10)="","",INDEX(Registro!H8:H507,($B$4-1)*20+10))),"Revisa página")
A18: =IF(AND(ISNUMBER($B$4),$B$4>=1,$B$4<=25,MOD($B$4,1)=0),IF(INDEX(Registro!I8:I507,($B$4-1)*20+11)=0,"",IF(INDEX(Registro!A8:A507,($B$4-1)*20+11)="","",INDEX(Registro!A8:A507,($B$4-1)*20+11))),"Revisa página") | B18: =IF(AND(ISNUMBER($B$4),$B$4>=1,$B$4<=25,MOD($B$4,1)=0),IF(INDEX(Registro!I8:I507,($B$4-1)*20+11)=0,"",IF(INDEX(Registro!B8:B507,($B$4-1)*20+11)="","",INDEX(Registro!B8:B507,($B$4-1)*20+11))),"Revisa página") | C18: =IF(AND(ISNUMBER($B$4),$B$4>=1,$B$4<=25,MOD($B$4,1)=0),IF(INDEX(Registro!I8:I507,($B$4-1)*20+11)=0,"",IF(INDEX(Registro!C8:C507,($B$4-1)*20+11)="","",INDEX(Registro!C8:C507,($B$4-1)*20+11))),"Revisa página") | D18: =IF(AND(ISNUMBER($B$4),$B$4>=1,$B$4<=25,MOD($B$4,1)=0),IF(INDEX(Registro!I8:I507,($B$4-1)*20+11)=0,"",IF(INDEX(Registro!D8:D507,($B$4-1)*20+11)="","",INDEX(Registro!D8:D507,($B$4-1)*20+11))),"Revisa página") | E18: =IF(AND(ISNUMBER($B$4),$B$4>=1,$B$4<=25,MOD($B$4,1)=0),IF(INDEX(Registro!I8:I507,($B$4-1)*20+11)=0,"",IF(INDEX(Registro!E8:E507,($B$4-1)*20+11)="","",INDEX(Registro!E8:E507,($B$4-1)*20+11))),"Revisa página") | F18: =IF(AND(ISNUMBER($B$4),$B$4>=1,$B$4<=25,MOD($B$4,1)=0),IF(INDEX(Registro!I8:I507,($B$4-1)*20+11)=0,"",IF(INDEX(Registro!F8:F507,($B$4-1)*20+11)="","",INDEX(Registro!F8:F507,($B$4-1)*20+11))),"Revisa página") | G18: =IF(AND(ISNUMBER($B$4),$B$4>=1,$B$4<=25,MOD($B$4,1)=0),IF(INDEX(Registro!I8:I507,($B$4-1)*20+11)=0,"",IF(INDEX(Registro!G8:G507,($B$4-1)*20+11)="","",INDEX(Registro!G8:G507,($B$4-1)*20+11))),"Revisa página") | H18: =IF(AND(ISNUMBER($B$4),$B$4>=1,$B$4<=25,MOD($B$4,1)=0),IF(INDEX(Registro!I8:I507,($B$4-1)*20+11)=0,"",IF(INDEX(Registro!H8:H507,($B$4-1)*20+11)="","",INDEX(Registro!H8:H507,($B$4-1)*20+11))),"Revisa página")
A19: =IF(AND(ISNUMBER($B$4),$B$4>=1,$B$4<=25,MOD($B$4,1)=0),IF(INDEX(Registro!I8:I507,($B$4-1)*20+12)=0,"",IF(INDEX(Registro!A8:A507,($B$4-1)*20+12)="","",INDEX(Registro!A8:A507,($B$4-1)*20+12))),"Revisa página") | B19: =IF(AND(ISNUMBER($B$4),$B$4>=1,$B$4<=25,MOD($B$4,1)=0),IF(INDEX(Registro!I8:I507,($B$4-1)*20+12)=0,"",IF(INDEX(Registro!B8:B507,($B$4-1)*20+12)="","",INDEX(Registro!B8:B507,($B$4-1)*20+12))),"Revisa página") | C19: =IF(AND(ISNUMBER($B$4),$B$4>=1,$B$4<=25,MOD($B$4,1)=0),IF(INDEX(Registro!I8:I507,($B$4-1)*20+12)=0,"",IF(INDEX(Registro!C8:C507,($B$4-1)*20+12)="","",INDEX(Registro!C8:C507,($B$4-1)*20+12))),"Revisa página") | D19: =IF(AND(ISNUMBER($B$4),$B$4>=1,$B$4<=25,MOD($B$4,1)=0),IF(INDEX(Registro!I8:I507,($B$4-1)*20+12)=0,"",IF(INDEX(Registro!D8:D507,($B$4-1)*20+12)="","",INDEX(Registro!D8:D507,($B$4-1)*20+12))),"Revisa página") | E19: =IF(AND(ISNUMBER($B$4),$B$4>=1,$B$4<=25,MOD($B$4,1)=0),IF(INDEX(Registro!I8:I507,($B$4-1)*20+12)=0,"",IF(INDEX(Registro!E8:E507,($B$4-1)*20+12)="","",INDEX(Registro!E8:E507,($B$4-1)*20+12))),"Revisa página") | F19: =IF(AND(ISNUMBER($B$4),$B$4>=1,$B$4<=25,MOD($B$4,1)=0),IF(INDEX(Registro!I8:I507,($B$4-1)*20+12)=0,"",IF(INDEX(Registro!F8:F507,($B$4-1)*20+12)="","",INDEX(Registro!F8:F507,($B$4-1)*20+12))),"Revisa página") | G19: =IF(AND(ISNUMBER($B$4),$B$4>=1,$B$4<=25,MOD($B$4,1)=0),IF(INDEX(Registro!I8:I507,($B$4-1)*20+12)=0,"",IF(INDEX(Registro!G8:G507,($B$4-1)*20+12)="","",INDEX(Registro!G8:G507,($B$4-1)*20+12))),"Revisa página") | H19: =IF(AND(ISNUMBER($B$4),$B$4>=1,$B$4<=25,MOD($B$4,1)=0),IF(INDEX(Registro!I8:I507,($B$4-1)*20+12)=0,"",IF(INDEX(Registro!H8:H507,($B$4-1)*20+12)="","",INDEX(Registro!H8:H507,($B$4-1)*20+12))),"Revisa página")
A20: =IF(AND(ISNUMBER($B$4),$B$4>=1,$B$4<=25,MOD($B$4,1)=0),IF(INDEX(Registro!I8:I507,($B$4-1)*20+13)=0,"",IF(INDEX(Registro!A8:A507,($B$4-1)*20+13)="","",INDEX(Registro!A8:A507,($B$4-1)*20+13))),"Revisa página") | B20: =IF(AND(ISNUMBER($B$4),$B$4>=1,$B$4<=25,MOD($B$4,1)=0),IF(INDEX(Registro!I8:I507,($B$4-1)*20+13)=0,"",IF(INDEX(Registro!B8:B507,($B$4-1)*20+13)="","",INDEX(Registro!B8:B507,($B$4-1)*20+13))),"Revisa página") | C20: =IF(AND(ISNUMBER($B$4),$B$4>=1,$B$4<=25,MOD($B$4,1)=0),IF(INDEX(Registro!I8:I507,($B$4-1)*20+13)=0,"",IF(INDEX(Registro!C8:C507,($B$4-1)*20+13)="","",INDEX(Registro!C8:C507,($B$4-1)*20+13))),"Revisa página") | D20: =IF(AND(ISNUMBER($B$4),$B$4>=1,$B$4<=25,MOD($B$4,1)=0),IF(INDEX(Registro!I8:I507,($B$4-1)*20+13)=0,"",IF(INDEX(Registro!D8:D507,($B$4-1)*20+13)="","",INDEX(Registro!D8:D507,($B$4-1)*20+13))),"Revisa página") | E20: =IF(AND(ISNUMBER($B$4),$B$4>=1,$B$4<=25,MOD($B$4,1)=0),IF(INDEX(Registro!I8:I507,($B$4-1)*20+13)=0,"",IF(INDEX(Registro!E8:E507,($B$4-1)*20+13)="","",INDEX(Registro!E8:E507,($B$4-1)*20+13))),"Revisa página") | F20: =IF(AND(ISNUMBER($B$4),$B$4>=1,$B$4<=25,MOD($B$4,1)=0),IF(INDEX(Registro!I8:I507,($B$4-1)*20+13)=0,"",IF(INDEX(Registro!F8:F507,($B$4-1)*20+13)="","",INDEX(Registro!F8:F507,($B$4-1)*20+13))),"Revisa página") | G20: =IF(AND(ISNUMBER($B$4),$B$4>=1,$B$4<=25,MOD($B$4,1)=0),IF(INDEX(Registro!I8:I507,($B$4-1)*20+13)=0,"",IF(INDEX(Registro!G8:G507,($B$4-1)*20+13)="","",INDEX(Registro!G8:G507,($B$4-1)*20+13))),"Revisa página") | H20: =IF(AND(ISNUMBER($B$4),$B$4>=1,$B$4<=25,MOD($B$4,1)=0),IF(INDEX(Registro!I8:I507,($B$4-1)*20+13)=0,"",IF(INDEX(Registro!H8:H507,($B$4-1)*20+13)="","",INDEX(Registro!H8:H507,($B$4-1)*20+13))),"Revisa página")
A21: =IF(AND(ISNUMBER($B$4),$B$4>=1,$B$4<=25,MOD($B$4,1)=0),IF(INDEX(Registro!I8:I507,($B$4-1)*20+14)=0,"",IF(INDEX(Registro!A8:A507,($B$4-1)*20+14)="","",INDEX(Registro!A8:A507,($B$4-1)*20+14))),"Revisa página") | B21: =IF(AND(ISNUMBER($B$4),$B$4>=1,$B$4<=25,MOD($B$4,1)=0),IF(INDEX(Registro!I8:I507,($B$4-1)*20+14)=0,"",IF(INDEX(Registro!B8:B507,($B$4-1)*20+14)="","",INDEX(Registro!B8:B507,($B$4-1)*20+14))),"Revisa página") | C21: =IF(AND(ISNUMBER($B$4),$B$4>=1,$B$4<=25,MOD($B$4,1)=0),IF(INDEX(Registro!I8:I507,($B$4-1)*20+14)=0,"",IF(INDEX(Registro!C8:C507,($B$4-1)*20+14)="","",INDEX(Registro!C8:C507,($B$4-1)*20+14))),"Revisa página") | D21: =IF(AND(ISNUMBER($B$4),$B$4>=1,$B$4<=25,MOD($B$4,1)=0),IF(INDEX(Registro!I8:I507,($B$4-1)*20+14)=0,"",IF(INDEX(Registro!D8:D507,($B$4-1)*20+14)="","",INDEX(Registro!D8:D507,($B$4-1)*20+14))),"Revisa página") | E21: =IF(AND(ISNUMBER($B$4),$B$4>=1,$B$4<=25,MOD($B$4,1)=0),IF(INDEX(Registro!I8:I507,($B$4-1)*20+14)=0,"",IF(INDEX(Registro!E8:E507,($B$4-1)*20+14)="","",INDEX(Registro!E8:E507,($B$4-1)*20+14))),"Revisa página") | F21: =IF(AND(ISNUMBER($B$4),$B$4>=1,$B$4<=25,MOD($B$4,1)=0),IF(INDEX(Registro!I8:I507,($B$4-1)*20+14)=0,"",IF(INDEX(Registro!F8:F507,($B$4-1)*20+14)="","",INDEX(Registro!F8:F507,($B$4-1)*20+14))),"Revisa página") | G21: =IF(AND(ISNUMBER($B$4),$B$4>=1,$B$4<=25,MOD($B$4,1)=0),IF(INDEX(Registro!I8:I507,($B$4-1)*20+14)=0,"",IF(INDEX(Registro!G8:G507,($B$4-1)*20+14)="","",INDEX(Registro!G8:G507,($B$4-1)*20+14))),"Revisa página") | H21: =IF(AND(ISNUMBER($B$4),$B$4>=1,$B$4<=25,MOD($B$4,1)=0),IF(INDEX(Registro!I8:I507,($B$4-1)*20+14)=0,"",IF(INDEX(Registro!H8:H507,($B$4-1)*20+14)="","",INDEX(Registro!H8:H507,($B$4-1)*20+14))),"Revisa página")
A22: =IF(AND(ISNUMBER($B$4),$B$4>=1,$B$4<=25,MOD($B$4,1)=0),IF(INDEX(Registro!I8:I507,($B$4-1)*20+15)=0,"",IF(INDEX(Registro!A8:A507,($B$4-1)*20+15)="","",INDEX(Registro!A8:A507,($B$4-1)*20+15))),"Revisa página") | B22: =IF(AND(ISNUMBER($B$4),$B$4>=1,$B$4<=25,MOD($B$4,1)=0),IF(INDEX(Registro!I8:I507,($B$4-1)*20+15)=0,"",IF(INDEX(Registro!B8:B507,($B$4-1)*20+15)="","",INDEX(Registro!B8:B507,($B$4-1)*20+15))),"Revisa página") | C22: =IF(AND(ISNUMBER($B$4),$B$4>=1,$B$4<=25,MOD($B$4,1)=0),IF(INDEX(Registro!I8:I507,($B$4-1)*20+15)=0,"",IF(INDEX(Registro!C8:C507,($B$4-1)*20+15)="","",INDEX(Registro!C8:C507,($B$4-1)*20+15))),"Revisa página") | D22: =IF(AND(ISNUMBER($B$4),$B$4>=1,$B$4<=25,MOD($B$4,1)=0),IF(INDEX(Registro!I8:I507,($B$4-1)*20+15)=0,"",IF(INDEX(Registro!D8:D507,($B$4-1)*20+15)="","",INDEX(Registro!D8:D507,($B$4-1)*20+15))),"Revisa página") | E22: =IF(AND(ISNUMBER($B$4),$B$4>=1,$B$4<=25,MOD($B$4,1)=0),IF(INDEX(Registro!I8:I507,($B$4-1)*20+15)=0,"",IF(INDEX(Registro!E8:E507,($B$4-1)*20+15)="","",INDEX(Registro!E8:E507,($B$4-1)*20+15))),"Revisa página") | F22: =IF(AND(ISNUMBER($B$4),$B$4>=1,$B$4<=25,MOD($B$4,1)=0),IF(INDEX(Registro!I8:I507,($B$4-1)*20+15)=0,"",IF(INDEX(Registro!F8:F507,($B$4-1)*20+15)="","",INDEX(Registro!F8:F507,($B$4-1)*20+15))),"Revisa página") | G22: =IF(AND(ISNUMBER($B$4),$B$4>=1,$B$4<=25,MOD($B$4,1)=0),IF(INDEX(Registro!I8:I507,($B$4-1)*20+15)=0,"",IF(INDEX(Registro!G8:G507,($B$4-1)*20+15)="","",INDEX(Registro!G8:G507,($B$4-1)*20+15))),"Revisa página") | H22: =IF(AND(ISNUMBER($B$4),$B$4>=1,$B$4<=25,MOD($B$4,1)=0),IF(INDEX(Registro!I8:I507,($B$4-1)*20+15)=0,"",IF(INDEX(Registro!H8:H507,($B$4-1)*20+15)="","",INDEX(Registro!H8:H507,($B$4-1)*20+15))),"Revisa página")
A23: =IF(AND(ISNUMBER($B$4),$B$4>=1,$B$4<=25,MOD($B$4,1)=0),IF(INDEX(Registro!I8:I507,($B$4-1)*20+16)=0,"",IF(INDEX(Registro!A8:A507,($B$4-1)*20+16)="","",INDEX(Registro!A8:A507,($B$4-1)*20+16))),"Revisa página") | B23: =IF(AND(ISNUMBER($B$4),$B$4>=1,$B$4<=25,MOD($B$4,1)=0),IF(INDEX(Registro!I8:I507,($B$4-1)*20+16)=0,"",IF(INDEX(Registro!B8:B507,($B$4-1)*20+16)="","",INDEX(Registro!B8:B507,($B$4-1)*20+16))),"Revisa página") | C23: =IF(AND(ISNUMBER($B$4),$B$4>=1,$B$4<=25,MOD($B$4,1)=0),IF(INDEX(Registro!I8:I507,($B$4-1)*20+16)=0,"",IF(INDEX(Registro!C8:C507,($B$4-1)*20+16)="","",INDEX(Registro!C8:C507,($B$4-1)*20+16))),"Revisa página") | D23: =IF(AND(ISNUMBER($B$4),$B$4>=1,$B$4<=25,MOD($B$4,1)=0),IF(INDEX(Registro!I8:I507,($B$4-1)*20+16)=0,"",IF(INDEX(Registro!D8:D507,($B$4-1)*20+16)="","",INDEX(Registro!D8:D507,($B$4-1)*20+16))),"Revisa página") | E23: =IF(AND(ISNUMBER($B$4),$B$4>=1,$B$4<=25,MOD($B$4,1)=0),IF(INDEX(Registro!I8:I507,($B$4-1)*20+16)=0,"",IF(INDEX(Registro!E8:E507,($B$4-1)*20+16)="","",INDEX(Registro!E8:E507,($B$4-1)*20+16))),"Revisa página") | F23: =IF(AND(ISNUMBER($B$4),$B$4>=1,$B$4<=25,MOD($B$4,1)=0),IF(INDEX(Registro!I8:I507,($B$4-1)*20+16)=0,"",IF(INDEX(Registro!F8:F507,($B$4-1)*20+16)="","",INDEX(Registro!F8:F507,($B$4-1)*20+16))),"Revisa página") | G23: =IF(AND(ISNUMBER($B$4),$B$4>=1,$B$4<=25,MOD($B$4,1)=0),IF(INDEX(Registro!I8:I507,($B$4-1)*20+16)=0,"",IF(INDEX(Registro!G8:G507,($B$4-1)*20+16)="","",INDEX(Registro!G8:G507,($B$4-1)*20+16))),"Revisa página") | H23: =IF(AND(ISNUMBER($B$4),$B$4>=1,$B$4<=25,MOD($B$4,1)=0),IF(INDEX(Registro!I8:I507,($B$4-1)*20+16)=0,"",IF(INDEX(Registro!H8:H507,($B$4-1)*20+16)="","",INDEX(Registro!H8:H507,($B$4-1)*20+16))),"Revisa página")
A24: =IF(AND(ISNUMBER($B$4),$B$4>=1,$B$4<=25,MOD($B$4,1)=0),IF(INDEX(Registro!I8:I507,($B$4-1)*20+17)=0,"",IF(INDEX(Registro!A8:A507,($B$4-1)*20+17)="","",INDEX(Registro!A8:A507,($B$4-1)*20+17))),"Revisa página") | B24: =IF(AND(ISNUMBER($B$4),$B$4>=1,$B$4<=25,MOD($B$4,1)=0),IF(INDEX(Registro!I8:I507,($B$4-1)*20+17)=0,"",IF(INDEX(Registro!B8:B507,($B$4-1)*20+17)="","",INDEX(Registro!B8:B507,($B$4-1)*20+17))),"Revisa página") | C24: =IF(AND(ISNUMBER($B$4),$B$4>=1,$B$4<=25,MOD($B$4,1)=0),IF(INDEX(Registro!I8:I507,($B$4-1)*20+17)=0,"",IF(INDEX(Registro!C8:C507,($B$4-1)*20+17)="","",INDEX(Registro!C8:C507,($B$4-1)*20+17))),"Revisa página") | D24: =IF(AND(ISNUMBER($B$4),$B$4>=1,$B$4<=25,MOD($B$4,1)=0),IF(INDEX(Registro!I8:I507,($B$4-1)*20+17)=0,"",IF(INDEX(Registro!D8:D507,($B$4-1)*20+17)="","",INDEX(Registro!D8:D507,($B$4-1)*20+17))),"Revisa página") | E24: =IF(AND(ISNUMBER($B$4),$B$4>=1,$B$4<=25,MOD($B$4,1)=0),IF(INDEX(Registro!I8:I507,($B$4-1)*20+17)=0,"",IF(INDEX(Registro!E8:E507,($B$4-1)*20+17)="","",INDEX(Registro!E8:E507,($B$4-1)*20+17))),"Revisa página") | F24: =IF(AND(ISNUMBER($B$4),$B$4>=1,$B$4<=25,MOD($B$4,1)=0),IF(INDEX(Registro!I8:I507,($B$4-1)*20+17)=0,"",IF(INDEX(Registro!F8:F507,($B$4-1)*20+17)="","",INDEX(Registro!F8:F507,($B$4-1)*20+17))),"Revisa página") | G24: =IF(AND(ISNUMBER($B$4),$B$4>=1,$B$4<=25,MOD($B$4,1)=0),IF(INDEX(Registro!I8:I507,($B$4-1)*20+17)=0,"",IF(INDEX(Registro!G8:G507,($B$4-1)*20+17)="","",INDEX(Registro!G8:G507,($B$4-1)*20+17))),"Revisa página") | H24: =IF(AND(ISNUMBER($B$4),$B$4>=1,$B$4<=25,MOD($B$4,1)=0),IF(INDEX(Registro!I8:I507,($B$4-1)*20+17)=0,"",IF(INDEX(Registro!H8:H507,($B$4-1)*20+17)="","",INDEX(Registro!H8:H507,($B$4-1)*20+17))),"Revisa página")
A25: =IF(AND(ISNUMBER($B$4),$B$4>=1,$B$4<=25,MOD($B$4,1)=0),IF(INDEX(Registro!I8:I507,($B$4-1)*20+18)=0,"",IF(INDEX(Registro!A8:A507,($B$4-1)*20+18)="","",INDEX(Registro!A8:A507,($B$4-1)*20+18))),"Revisa página") | B25: =IF(AND(ISNUMBER($B$4),$B$4>=1,$B$4<=25,MOD($B$4,1)=0),IF(INDEX(Registro!I8:I507,($B$4-1)*20+18)=0,"",IF(INDEX(Registro!B8:B507,($B$4-1)*20+18)="","",INDEX(Registro!B8:B507,($B$4-1)*20+18))),"Revisa página") | C25: =IF(AND(ISNUMBER($B$4),$B$4>=1,$B$4<=25,MOD($B$4,1)=0),IF(INDEX(Registro!I8:I507,($B$4-1)*20+18)=0,"",IF(INDEX(Registro!C8:C507,($B$4-1)*20+18)="","",INDEX(Registro!C8:C507,($B$4-1)*20+18))),"Revisa página") | D25: =IF(AND(ISNUMBER($B$4),$B$4>=1,$B$4<=25,MOD($B$4,1)=0),IF(INDEX(Registro!I8:I507,($B$4-1)*20+18)=0,"",IF(INDEX(Registro!D8:D507,($B$4-1)*20+18)="","",INDEX(Registro!D8:D507,($B$4-1)*20+18))),"Revisa página") | E25: =IF(AND(ISNUMBER($B$4),$B$4>=1,$B$4<=25,MOD($B$4,1)=0),IF(INDEX(Registro!I8:I507,($B$4-1)*20+18)=0,"",IF(INDEX(Registro!E8:E507,($B$4-1)*20+18)="","",INDEX(Registro!E8:E507,($B$4-1)*20+18))),"Revisa página") | F25: =IF(AND(ISNUMBER($B$4),$B$4>=1,$B$4<=25,MOD($B$4,1)=0),IF(INDEX(Registro!I8:I507,($B$4-1)*20+18)=0,"",IF(INDEX(Registro!F8:F507,($B$4-1)*20+18)="","",INDEX(Registro!F8:F507,($B$4-1)*20+18))),"Revisa página") | G25: =IF(AND(ISNUMBER($B$4),$B$4>=1,$B$4<=25,MOD($B$4,1)=0),IF(INDEX(Registro!I8:I507,($B$4-1)*20+18)=0,"",IF(INDEX(Registro!G8:G507,($B$4-1)*20+18)="","",INDEX(Registro!G8:G507,($B$4-1)*20+18))),"Revisa página") | H25: =IF(AND(ISNUMBER($B$4),$B$4>=1,$B$4<=25,MOD($B$4,1)=0),IF(INDEX(Registro!I8:I507,($B$4-1)*20+18)=0,"",IF(INDEX(Registro!H8:H507,($B$4-1)*20+18)="","",INDEX(Registro!H8:H507,($B$4-1)*20+18))),"Revisa página")
A26: =IF(AND(ISNUMBER($B$4),$B$4>=1,$B$4<=25,MOD($B$4,1)=0),IF(INDEX(Registro!I8:I507,($B$4-1)*20+19)=0,"",IF(INDEX(Registro!A8:A507,($B$4-1)*20+19)="","",INDEX(Registro!A8:A507,($B$4-1)*20+19))),"Revisa página") | B26: =IF(AND(ISNUMBER($B$4),$B$4>=1,$B$4<=25,MOD($B$4,1)=0),IF(INDEX(Registro!I8:I507,($B$4-1)*20+19)=0,"",IF(INDEX(Registro!B8:B507,($B$4-1)*20+19)="","",INDEX(Registro!B8:B507,($B$4-1)*20+19))),"Revisa página") | C26: =IF(AND(ISNUMBER($B$4),$B$4>=1,$B$4<=25,MOD($B$4,1)=0),IF(INDEX(Registro!I8:I507,($B$4-1)*20+19)=0,"",IF(INDEX(Registro!C8:C507,($B$4-1)*20+19)="","",INDEX(Registro!C8:C507,($B$4-1)*20+19))),"Revisa página") | D26: =IF(AND(ISNUMBER($B$4),$B$4>=1,$B$4<=25,MOD($B$4,1)=0),IF(INDEX(Registro!I8:I507,($B$4-1)*20+19)=0,"",IF(INDEX(Registro!D8:D507,($B$4-1)*20+19)="","",INDEX(Registro!D8:D507,($B$4-1)*20+19))),"Revisa página") | E26: =IF(AND(ISNUMBER($B$4),$B$4>=1,$B$4<=25,MOD($B$4,1)=0),IF(INDEX(Registro!I8:I507,($B$4-1)*20+19)=0,"",IF(INDEX(Registro!E8:E507,($B$4-1)*20+19)="","",INDEX(Registro!E8:E507,($B$4-1)*20+19))),"Revisa página") | F26: =IF(AND(ISNUMBER($B$4),$B$4>=1,$B$4<=25,MOD($B$4,1)=0),IF(INDEX(Registro!I8:I507,($B$4-1)*20+19)=0,"",IF(INDEX(Registro!F8:F507,($B$4-1)*20+19)="","",INDEX(Registro!F8:F507,($B$4-1)*20+19))),"Revisa página") | G26: =IF(AND(ISNUMBER($B$4),$B$4>=1,$B$4<=25,MOD($B$4,1)=0),IF(INDEX(Registro!I8:I507,($B$4-1)*20+19)=0,"",IF(INDEX(Registro!G8:G507,($B$4-1)*20+19)="","",INDEX(Registro!G8:G507,($B$4-1)*20+19))),"Revisa página") | H26: =IF(AND(ISNUMBER($B$4),$B$4>=1,$B$4<=25,MOD($B$4,1)=0),IF(INDEX(Registro!I8:I507,($B$4-1)*20+19)=0,"",IF(INDEX(Registro!H8:H507,($B$4-1)*20+19)="","",INDEX(Registro!H8:H507,($B$4-1)*20+19))),"Revisa página")
A27: =IF(AND(ISNUMBER($B$4),$B$4>=1,$B$4<=25,MOD($B$4,1)=0),IF(INDEX(Registro!I8:I507,($B$4-1)*20+20)=0,"",IF(INDEX(Registro!A8:A507,($B$4-1)*20+20)="","",INDEX(Registro!A8:A507,($B$4-1)*20+20))),"Revisa página") | B27: =IF(AND(ISNUMBER($B$4),$B$4>=1,$B$4<=25,MOD($B$4,1)=0),IF(INDEX(Registro!I8:I507,($B$4-1)*20+20)=0,"",IF(INDEX(Registro!B8:B507,($B$4-1)*20+20)="","",INDEX(Registro!B8:B507,($B$4-1)*20+20))),"Revisa página") | C27: =IF(AND(ISNUMBER($B$4),$B$4>=1,$B$4<=25,MOD($B$4,1)=0),IF(INDEX(Registro!I8:I507,($B$4-1)*20+20)=0,"",IF(INDEX(Registro!C8:C507,($B$4-1)*20+20)="","",INDEX(Registro!C8:C507,($B$4-1)*20+20))),"Revisa página") | D27: =IF(AND(ISNUMBER($B$4),$B$4>=1,$B$4<=25,MOD($B$4,1)=0),IF(INDEX(Registro!I8:I507,($B$4-1)*20+20)=0,"",IF(INDEX(Registro!D8:D507,($B$4-1)*20+20)="","",INDEX(Registro!D8:D507,($B$4-1)*20+20))),"Revisa página") | E27: =IF(AND(ISNUMBER($B$4),$B$4>=1,$B$4<=25,MOD($B$4,1)=0),IF(INDEX(Registro!I8:I507,($B$4-1)*20+20)=0,"",IF(INDEX(Registro!E8:E507,($B$4-1)*20+20)="","",INDEX(Registro!E8:E507,($B$4-1)*20+20))),"Revisa página") | F27: =IF(AND(ISNUMBER($B$4),$B$4>=1,$B$4<=25,MOD($B$4,1)=0),IF(INDEX(Registro!I8:I507,($B$4-1)*20+20)=0,"",IF(INDEX(Registro!F8:F507,($B$4-1)*20+20)="","",INDEX(Registro!F8:F507,($B$4-1)*20+20))),"Revisa página") | G27: =IF(AND(ISNUMBER($B$4),$B$4>=1,$B$4<=25,MOD($B$4,1)=0),IF(INDEX(Registro!I8:I507,($B$4-1)*20+20)=0,"",IF(INDEX(Registro!G8:G507,($B$4-1)*20+20)="","",INDEX(Registro!G8:G507,($B$4-1)*20+20))),"Revisa página") | H27: =IF(AND(ISNUMBER($B$4),$B$4>=1,$B$4<=25,MOD($B$4,1)=0),IF(INDEX(Registro!I8:I507,($B$4-1)*20+20)=0,"",IF(INDEX(Registro!H8:H507,($B$4-1)*20+20)="","",INDEX(Registro!H8:H507,($B$4-1)*20+20))),"Revisa página")
